BEGIN:VCALENDAR
VERSION:2.0
PRODID:-//Ayuntamiento de Valdeolmos-Alalpardo - ECPv6.15.12.2//NONSGML v1.0//EN
CALSCALE:GREGORIAN
METHOD:PUBLISH
X-ORIGINAL-URL:https://www.valdeolmos-alalpardo.org
X-WR-CALDESC:Eventos para Ayuntamiento de Valdeolmos-Alalpardo
REFRESH-INTERVAL;VALUE=DURATION:PT1H
X-Robots-Tag:noindex
X-PUBLISHED-TTL:PT1H
BEGIN:VTIMEZONE
TZID:Europe/Madrid
BEGIN:DAYLIGHT
TZOFFSETFROM:+0100
TZOFFSETTO:+0200
TZNAME:CEST
DTSTART:20170326T010000
END:DAYLIGHT
BEGIN:STANDARD
TZOFFSETFROM:+0200
TZOFFSETTO:+0100
TZNAME:CET
DTSTART:20171029T010000
END:STANDARD
BEGIN:DAYLIGHT
TZOFFSETFROM:+0100
TZOFFSETTO:+0200
TZNAME:CEST
DTSTART:20180325T010000
END:DAYLIGHT
BEGIN:STANDARD
TZOFFSETFROM:+0200
TZOFFSETTO:+0100
TZNAME:CET
DTSTART:20181028T010000
END:STANDARD
BEGIN:DAYLIGHT
TZOFFSETFROM:+0100
TZOFFSETTO:+0200
TZNAME:CEST
DTSTART:20190331T010000
END:DAYLIGHT
BEGIN:STANDARD
TZOFFSETFROM:+0200
TZOFFSETTO:+0100
TZNAME:CET
DTSTART:20191027T010000
END:STANDARD
END:VTIMEZONE
BEGIN:VEVENT
DTSTART;TZID=Europe/Madrid:20181124T210000
DTEND;TZID=Europe/Madrid:20181124T230000
DTSTAMP:20260425T175032
CREATED:20181107T155013Z
LAST-MODIFIED:20181107T155145Z
UID:16987-1543093200-1543100400@www.valdeolmos-alalpardo.org
SUMMARY:Zarzuela MARINA de Camerata Lírica de España
DESCRIPTION:MARINA\nMarina era una maravillosa zarzuela con música de Emilio Arrieta y libreto de Francisco Camprodón\, después convertida en ópera con libreto de Miguel Ramos Carrión. Su estreno como zarzuela tuvo lugar el 21 de septiembre de 1855\, en el Teatro del Circo de Madrid y como la ópera en el Teatro Real el 16 de marzo de 1871 en un homenaje a la gran figura de la época del tenor Tamberlick\, que cantó la parte de Jorge. \nFue precisamente este tenor quien se empeñó en que Arrieta la que llegó a la guitarra\, que se entusiasmó por las grandes posibilidades de lucimiento que ofrece a los cantantes\, un pesar de su dificultad\, sobre todo para los protagonistas\, puesto que «Marina» debe ser una soprano ligera pero con un centro de voz valiente que necesita un dramatismo para el tercer acto y que se aproxima a la dificultad y dificultad a La Traviata verdiana\, y «Jorge» tiene un tenor valiente en todo el registro\, generoso de volumen\, pero con la suficiente técnica para conseguir los efectos apasionados en los pianos expresivos; cantar el papel se trata de toda una empresa de belcanto en esta obra puntal de la historia de la lírica española. \nLa reconvertida y flamante nueva ópera\, obtuvo un éxito clamoroso que hizo el acontecimiento de la temporada\, representándose seguidamente en todos los teatros líricos de Europa y América hispana y conservando hasta hoy todo el fulgor de una música espontánea\, escrita con gran oficio\, talento y elegancia melódica\, siendo la ópera española más representada de todos los tiempos y un título especialmente arraigado en la memoria colectiva de nuestro país. \nPor su popularidad y por su significación en la historia del teatro español\, Marina significa para el teatro lírico español lo que Don Juan Tenorio al drama. \nVisita la web de la compañía https://www.cameratalirica.com/
URL:https://www.valdeolmos-alalpardo.org/evento/zarzuela-marina/
LOCATION:Casa de Cultura de Alalpardo\, C/ Ejidos\, 8\, Alalpardo\, Madrid\, 28130\, España
ATTACH;FMTTYPE=image/jpeg:https://www.valdeolmos-alalpardo.org/wp-content/uploads/Cartel-Marina-Concierto-Escenificado-e1541609365620.jpg
END:VEVENT
BEGIN:VEVENT
DTSTART;TZID=Europe/Madrid:20181124T210000
DTEND;TZID=Europe/Madrid:20181124T230000
DTSTAMP:20260425T175032
CREATED:20181107T155013Z
LAST-MODIFIED:20181107T155013Z
UID:23676-1543093200-1543100400@www.valdeolmos-alalpardo.org
SUMMARY:Zarzuela MARINA de Camerata Lírica de España
DESCRIPTION:MARINA\nMarina era una maravillosa zarzuela con música de Emilio Arrieta y libreto de Francisco Camprodón\, después convertida en ópera con libreto de Miguel Ramos Carrión. Su estreno como zarzuela tuvo lugar el 21 de septiembre de 1855\, en el Teatro del Circo de Madrid y como la ópera en el Teatro Real el 16 de marzo de 1871 en un homenaje a la gran figura de la época del tenor Tamberlick\, que cantó la parte de Jorge. \nFue precisamente este tenor quien se empeñó en que Arrieta la que llegó a la guitarra\, que se entusiasmó por las grandes posibilidades de lucimiento que ofrece a los cantantes\, un pesar de su dificultad\, sobre todo para los protagonistas\, puesto que «Marina» debe ser una soprano ligera pero con un centro de voz valiente que necesita un dramatismo para el tercer acto y que se aproxima a la dificultad y dificultad a La Traviata verdiana\, y «Jorge» tiene un tenor valiente en todo el registro\, generoso de volumen\, pero con la suficiente técnica para conseguir los efectos apasionados en los pianos expresivos; cantar el papel se trata de toda una empresa de belcanto en esta obra puntal de la historia de la lírica española. \nLa reconvertida y flamante nueva ópera\, obtuvo un éxito clamoroso que hizo el acontecimiento de la temporada\, representándose seguidamente en todos los teatros líricos de Europa y América hispana y conservando hasta hoy todo el fulgor de una música espontánea\, escrita con gran oficio\, talento y elegancia melódica\, siendo la ópera española más representada de todos los tiempos y un título especialmente arraigado en la memoria colectiva de nuestro país. \nPor su popularidad y por su significación en la historia del teatro español\, Marina significa para el teatro lírico español lo que Don Juan Tenorio al drama. \nVisita la web de la compañía https://www.cameratalirica.com/
URL:https://www.valdeolmos-alalpardo.org/evento/zarzuela-marina-2/
LOCATION:Casa de Cultura de Alalpardo\, C/ Ejidos\, 8\, Alalpardo\, Madrid\, 28130\, España
ATTACH;FMTTYPE=image/jpeg:https://www.valdeolmos-alalpardo.org/wp-content/uploads/Cartel-Marina-Concierto-Escenificado-e1541609365620.jpg
END:VEVENT
END:VCALENDAR