BEGIN:VCALENDAR
VERSION:2.0
PRODID:-//Ayuntamiento de Valdeolmos-Alalpardo - ECPv6.15.12.2//NONSGML v1.0//EN
CALSCALE:GREGORIAN
METHOD:PUBLISH
X-ORIGINAL-URL:https://www.valdeolmos-alalpardo.org
X-WR-CALDESC:Eventos para Ayuntamiento de Valdeolmos-Alalpardo
REFRESH-INTERVAL;VALUE=DURATION:PT1H
X-Robots-Tag:noindex
X-PUBLISHED-TTL:PT1H
BEGIN:VTIMEZONE
TZID:Europe/Madrid
BEGIN:DAYLIGHT
TZOFFSETFROM:+0100
TZOFFSETTO:+0200
TZNAME:CEST
DTSTART:20190331T010000
END:DAYLIGHT
BEGIN:STANDARD
TZOFFSETFROM:+0200
TZOFFSETTO:+0100
TZNAME:CET
DTSTART:20191027T010000
END:STANDARD
BEGIN:DAYLIGHT
TZOFFSETFROM:+0100
TZOFFSETTO:+0200
TZNAME:CEST
DTSTART:20200329T010000
END:DAYLIGHT
BEGIN:STANDARD
TZOFFSETFROM:+0200
TZOFFSETTO:+0100
TZNAME:CET
DTSTART:20201025T010000
END:STANDARD
BEGIN:DAYLIGHT
TZOFFSETFROM:+0100
TZOFFSETTO:+0200
TZNAME:CEST
DTSTART:20210328T010000
END:DAYLIGHT
BEGIN:STANDARD
TZOFFSETFROM:+0200
TZOFFSETTO:+0100
TZNAME:CET
DTSTART:20211031T010000
END:STANDARD
END:VTIMEZONE
BEGIN:VEVENT
DTSTART;TZID=Europe/Madrid:20200123T160000
DTEND;TZID=Europe/Madrid:20200123T180000
DTSTAMP:20260425T144050
CREATED:20200113T224129Z
LAST-MODIFIED:20200113T224129Z
UID:23833-1579795200-1579802400@www.valdeolmos-alalpardo.org
SUMMARY:BIBLIOBÚS en enero
DESCRIPTION:EL BIBLIOBÚS NOS PRESTA LIBROS\, MÚSICA Y PELÍCULAS\nEl Bibliobús es una Biblioteca móvil. Te sorprenderá si entras. Prestan libros\, material audiovisual y multimedia para todas las edades. \nTransporta una colección de préstamo de 3.500 unidades y nos visita cada mes dos o tres veces. En el mes de enero\, vendrá el día 23. La cita del día 9 fue cancelada al estropearse el autobús. \n¡Acércate! ¡Déjate aconsejar por el/la bibliotecario/a. \nSube a uno de los 13 bibliobuses que recorren 118 municipios de la Comunidad de Madrid. Lo encontrarás en la calle de los Colegios. 
URL:https://www.valdeolmos-alalpardo.org/evento/bibliobus-en-enero-2/
LOCATION:Bibliobus\, Calle Alcalá\, 25\, Alalpardo\, Madrid\, 28130\, España
ATTACH;FMTTYPE=image/jpeg:https://www.valdeolmos-alalpardo.org/wp-content/uploads/IMG_20200108_143509_366.jpg
END:VEVENT
BEGIN:VEVENT
DTSTART;TZID=Europe/Madrid:20200123T160000
DTEND;TZID=Europe/Madrid:20200123T180000
DTSTAMP:20260425T144050
CREATED:20200113T224129Z
LAST-MODIFIED:20200113T224130Z
UID:21252-1579795200-1579802400@www.valdeolmos-alalpardo.org
SUMMARY:BIBLIOBÚS en enero
DESCRIPTION:EL BIBLIOBÚS NOS PRESTA LIBROS\, MÚSICA Y PELÍCULAS\nEl Bibliobús es una Biblioteca móvil. Te sorprenderá si entras. Prestan libros\, material audiovisual y multimedia para todas las edades. \nTransporta una colección de préstamo de 3.500 unidades y nos visita cada mes dos o tres veces. En el mes de enero\, vendrá el día 23. La cita del día 9 fue cancelada al estropearse el autobús. \n¡Acércate! ¡Déjate aconsejar por el/la bibliotecario/a. \nSube a uno de los 13 bibliobuses que recorren 118 municipios de la Comunidad de Madrid. Lo encontrarás en la calle de los Colegios. 
URL:https://www.valdeolmos-alalpardo.org/evento/bibliobus-en-enero/
LOCATION:Bibliobus\, Calle Alcalá\, 25\, Alalpardo\, Madrid\, 28130\, España
ATTACH;FMTTYPE=image/jpeg:https://www.valdeolmos-alalpardo.org/wp-content/uploads/IMG_20200108_143509_366.jpg
END:VEVENT
END:VCALENDAR