BEGIN:VCALENDAR
VERSION:2.0
PRODID:-//Ayuntamiento de Valdeolmos-Alalpardo - ECPv6.15.12.2//NONSGML v1.0//EN
CALSCALE:GREGORIAN
METHOD:PUBLISH
X-WR-CALNAME:Ayuntamiento de Valdeolmos-Alalpardo
X-ORIGINAL-URL:https://www.valdeolmos-alalpardo.org
X-WR-CALDESC:Eventos para Ayuntamiento de Valdeolmos-Alalpardo
REFRESH-INTERVAL;VALUE=DURATION:PT1H
X-Robots-Tag:noindex
X-PUBLISHED-TTL:PT1H
BEGIN:VTIMEZONE
TZID:Europe/Madrid
BEGIN:DAYLIGHT
TZOFFSETFROM:+0100
TZOFFSETTO:+0200
TZNAME:CEST
DTSTART:20240331T010000
END:DAYLIGHT
BEGIN:STANDARD
TZOFFSETFROM:+0200
TZOFFSETTO:+0100
TZNAME:CET
DTSTART:20241027T010000
END:STANDARD
BEGIN:DAYLIGHT
TZOFFSETFROM:+0100
TZOFFSETTO:+0200
TZNAME:CEST
DTSTART:20250330T010000
END:DAYLIGHT
BEGIN:STANDARD
TZOFFSETFROM:+0200
TZOFFSETTO:+0100
TZNAME:CET
DTSTART:20251026T010000
END:STANDARD
BEGIN:DAYLIGHT
TZOFFSETFROM:+0100
TZOFFSETTO:+0200
TZNAME:CEST
DTSTART:20260329T010000
END:DAYLIGHT
BEGIN:STANDARD
TZOFFSETFROM:+0200
TZOFFSETTO:+0100
TZNAME:CET
DTSTART:20261025T010000
END:STANDARD
END:VTIMEZONE
BEGIN:VEVENT
DTSTART;TZID=Europe/Madrid:20250702T190000
DTEND;TZID=Europe/Madrid:20250702T200000
DTSTAMP:20260423T130254
CREATED:20250626T130320Z
LAST-MODIFIED:20250626T130320Z
UID:39763-1751482800-1751486400@www.valdeolmos-alalpardo.org
SUMMARY:2 de julio: Decreto de convocatoria de Pleno Ordinario
DESCRIPTION:Decreto de convocatoria de Pleno Ordinario del 2 de julio a las 19:00 horas\nConsulta el Orden del Día.  Estás invitad@ a asistir. También puedes seguir el Pleno en streaming. \n03-07-25_ DECRETO CONVOCATORIA DE PLENO ORDINARIO
URL:https://www.valdeolmos-alalpardo.org/evento/2-de-julio-decreto-de-convocatoria-de-pleno-ordinario/
LOCATION:Salón de Plenos del Ayuntamiento de Valdeolmos-Alalpardo\, C/ Alcalá\, 4\, Valdeolmos-Alalpardo\, Madrid\, 28130 \, España
ATTACH;FMTTYPE=image/jpeg:https://www.valdeolmos-alalpardo.org/wp-content/uploads/2025/06/PLENO-ORDINARIO-2-julio.jpeg
END:VEVENT
END:VCALENDAR