BEGIN:VCALENDAR
VERSION:2.0
PRODID:-//Ayuntamiento de Valdeolmos-Alalpardo - ECPv6.15.12.2//NONSGML v1.0//EN
CALSCALE:GREGORIAN
METHOD:PUBLISH
X-WR-CALNAME:Ayuntamiento de Valdeolmos-Alalpardo
X-ORIGINAL-URL:https://www.valdeolmos-alalpardo.org
X-WR-CALDESC:Eventos para Ayuntamiento de Valdeolmos-Alalpardo
REFRESH-INTERVAL;VALUE=DURATION:PT1H
X-Robots-Tag:noindex
X-PUBLISHED-TTL:PT1H
BEGIN:VTIMEZONE
TZID:Europe/Madrid
BEGIN:DAYLIGHT
TZOFFSETFROM:+0100
TZOFFSETTO:+0200
TZNAME:CEST
DTSTART:20180325T010000
END:DAYLIGHT
BEGIN:STANDARD
TZOFFSETFROM:+0200
TZOFFSETTO:+0100
TZNAME:CET
DTSTART:20181028T010000
END:STANDARD
BEGIN:DAYLIGHT
TZOFFSETFROM:+0100
TZOFFSETTO:+0200
TZNAME:CEST
DTSTART:20190331T010000
END:DAYLIGHT
BEGIN:STANDARD
TZOFFSETFROM:+0200
TZOFFSETTO:+0100
TZNAME:CET
DTSTART:20191027T010000
END:STANDARD
BEGIN:DAYLIGHT
TZOFFSETFROM:+0100
TZOFFSETTO:+0200
TZNAME:CEST
DTSTART:20200329T010000
END:DAYLIGHT
BEGIN:STANDARD
TZOFFSETFROM:+0200
TZOFFSETTO:+0100
TZNAME:CET
DTSTART:20201025T010000
END:STANDARD
END:VTIMEZONE
BEGIN:VEVENT
DTSTART;TZID=Europe/Madrid:20190527T103000
DTEND;TZID=Europe/Madrid:20190610T163000
DTSTAMP:20260423T130939
CREATED:20190528T073538Z
LAST-MODIFIED:20190612T082155Z
UID:17971-1558953000-1560184200@www.valdeolmos-alalpardo.org
SUMMARY:AYUDAS AL ALQUILER DE LA COMUNIDAD DE MADRID
DESCRIPTION:AYUDAS AL ALQUILER DE LA COMUNIDAD DE MADRID\nAyudas al alquiler para sectores con escasos medios económicos y para jóvenes menores de 35 años: \nAYUDAS AL ALQUILER:\n• Familias numerosas\n• Familias monoparentales con cargas familiares\n• Unidades de convivencia con alguna víctima acreditada de violencia de género\n• Unidades de convivencia con alguna víctima acreditada de terrorismo\n• Unidades de convivencia que cuenten con algún miembro con discapacidad\n• Unidades de convivencia con todos los miembros en situación de desempleo\n• Unidades de convivencia con todos sus miembros mayores de 65 años\nAYUDAS PARA JÓVENES:\n– Unidades de convivencia cuyos arrendatarios sean menores de 35 años\n– Los restantes miembros de la unidad de convivencia también han de ser menores de 35 años \nPlazo solicitud: del 27 de mayo al 14 de junio \nMÁS INFORMACIÓN:\nTeléfono 012 o en www.madrid.org
URL:https://www.valdeolmos-alalpardo.org/evento/ayudas-al-alquiler-la-comunidad-madrid/
LOCATION:Madrid
ATTACH;FMTTYPE=image/jpeg:https://www.valdeolmos-alalpardo.org/wp-content/uploads/Ayudas_alquiler_2019-e1559036009801.jpg
END:VEVENT
BEGIN:VEVENT
DTSTART;TZID=Europe/Madrid:20190527T103000
DTEND;TZID=Europe/Madrid:20190610T163000
DTSTAMP:20260423T130939
CREATED:20190528T073538Z
LAST-MODIFIED:20190528T073538Z
UID:23747-1558953000-1560184200@www.valdeolmos-alalpardo.org
SUMMARY:AYUDAS AL ALQUILER DE LA COMUNIDAD DE MADRID
DESCRIPTION:AYUDAS AL ALQUILER DE LA COMUNIDAD DE MADRID\nAyudas al alquiler para sectores con escasos medios económicos y para jóvenes menores de 35 años: \nAYUDAS AL ALQUILER:\n• Familias numerosas\n• Familias monoparentales con cargas familiares\n• Unidades de convivencia con alguna víctima acreditada de violencia de género\n• Unidades de convivencia con alguna víctima acreditada de terrorismo\n• Unidades de convivencia que cuenten con algún miembro con discapacidad\n• Unidades de convivencia con todos los miembros en situación de desempleo\n• Unidades de convivencia con todos sus miembros mayores de 65 años\nAYUDAS PARA JÓVENES:\n– Unidades de convivencia cuyos arrendatarios sean menores de 35 años\n– Los restantes miembros de la unidad de convivencia también han de ser menores de 35 años \nPlazo solicitud: del 27 de mayo al 14 de junio \nMÁS INFORMACIÓN:\nTeléfono 012 o en www.madrid.org
URL:https://www.valdeolmos-alalpardo.org/evento/ayudas-al-alquiler-la-comunidad-madrid-2/
LOCATION:Madrid
ATTACH;FMTTYPE=image/jpeg:https://www.valdeolmos-alalpardo.org/wp-content/uploads/Ayudas_alquiler_2019-e1559036009801.jpg
END:VEVENT
END:VCALENDAR