BEGIN:VCALENDAR
VERSION:2.0
PRODID:-//Ayuntamiento de Valdeolmos-Alalpardo - ECPv6.15.12.2//NONSGML v1.0//EN
CALSCALE:GREGORIAN
METHOD:PUBLISH
X-WR-CALNAME:Ayuntamiento de Valdeolmos-Alalpardo
X-ORIGINAL-URL:https://www.valdeolmos-alalpardo.org
X-WR-CALDESC:Eventos para Ayuntamiento de Valdeolmos-Alalpardo
REFRESH-INTERVAL;VALUE=DURATION:PT1H
X-Robots-Tag:noindex
X-PUBLISHED-TTL:PT1H
BEGIN:VTIMEZONE
TZID:Europe/Madrid
BEGIN:DAYLIGHT
TZOFFSETFROM:+0100
TZOFFSETTO:+0200
TZNAME:CEST
DTSTART:20240331T010000
END:DAYLIGHT
BEGIN:STANDARD
TZOFFSETFROM:+0200
TZOFFSETTO:+0100
TZNAME:CET
DTSTART:20241027T010000
END:STANDARD
BEGIN:DAYLIGHT
TZOFFSETFROM:+0100
TZOFFSETTO:+0200
TZNAME:CEST
DTSTART:20250330T010000
END:DAYLIGHT
BEGIN:STANDARD
TZOFFSETFROM:+0200
TZOFFSETTO:+0100
TZNAME:CET
DTSTART:20251026T010000
END:STANDARD
BEGIN:DAYLIGHT
TZOFFSETFROM:+0100
TZOFFSETTO:+0200
TZNAME:CEST
DTSTART:20260329T010000
END:DAYLIGHT
BEGIN:STANDARD
TZOFFSETFROM:+0200
TZOFFSETTO:+0100
TZNAME:CET
DTSTART:20261025T010000
END:STANDARD
END:VTIMEZONE
BEGIN:VEVENT
DTSTART;TZID=Europe/Madrid:20250829T200000
DTEND;TZID=Europe/Madrid:20250829T220000
DTSTAMP:20260423T013654
CREATED:20250805T124255Z
LAST-MODIFIED:20250805T124515Z
UID:39989-1756497600-1756504800@www.valdeolmos-alalpardo.org
SUMMARY:29 de agosto: Marcha nocturna MTB
DESCRIPTION:Ruta circular – Marcha nocturna MTB\nDisfruta de una noche mágica sobre ruedas. Ruta guiada por los monitores del Club Deportivo Ciclo Room y la Escuela de Ciclismo Ciclo-Room. \n\n29 de agosto\n20:00 horas\n6 kms\nDesde la Plaza de Toros de Alalpardo\nGratuito\nVive la aventura familiar con Cicloroom
URL:https://www.valdeolmos-alalpardo.org/evento/29-de-agosto-marcha-nocturna-mtb/
LOCATION:Plaza de Toros de Alalpardo
ATTACH;FMTTYPE=image/jpeg:https://www.valdeolmos-alalpardo.org/wp-content/uploads/2025/08/IMG-20250805-WA0057.jpg
END:VEVENT
END:VCALENDAR