BEGIN:VCALENDAR
VERSION:2.0
PRODID:-//Ayuntamiento de Valdeolmos-Alalpardo - ECPv6.15.12.2//NONSGML v1.0//EN
CALSCALE:GREGORIAN
METHOD:PUBLISH
X-WR-CALNAME:Ayuntamiento de Valdeolmos-Alalpardo
X-ORIGINAL-URL:https://www.valdeolmos-alalpardo.org
X-WR-CALDESC:Eventos para Ayuntamiento de Valdeolmos-Alalpardo
REFRESH-INTERVAL;VALUE=DURATION:PT1H
X-Robots-Tag:noindex
X-PUBLISHED-TTL:PT1H
BEGIN:VTIMEZONE
TZID:Europe/Madrid
BEGIN:DAYLIGHT
TZOFFSETFROM:+0100
TZOFFSETTO:+0200
TZNAME:CEST
DTSTART:20230326T010000
END:DAYLIGHT
BEGIN:STANDARD
TZOFFSETFROM:+0200
TZOFFSETTO:+0100
TZNAME:CET
DTSTART:20231029T010000
END:STANDARD
BEGIN:DAYLIGHT
TZOFFSETFROM:+0100
TZOFFSETTO:+0200
TZNAME:CEST
DTSTART:20240331T010000
END:DAYLIGHT
BEGIN:STANDARD
TZOFFSETFROM:+0200
TZOFFSETTO:+0100
TZNAME:CET
DTSTART:20241027T010000
END:STANDARD
BEGIN:DAYLIGHT
TZOFFSETFROM:+0100
TZOFFSETTO:+0200
TZNAME:CEST
DTSTART:20250330T010000
END:DAYLIGHT
BEGIN:STANDARD
TZOFFSETFROM:+0200
TZOFFSETTO:+0100
TZNAME:CET
DTSTART:20251026T010000
END:STANDARD
END:VTIMEZONE
BEGIN:VEVENT
DTSTART;TZID=Europe/Madrid:20241107T150000
DTEND;TZID=Europe/Madrid:20241107T160000
DTSTAMP:20260424T033542
CREATED:20241023T100754Z
LAST-MODIFIED:20241030T230031Z
UID:38068-1730991600-1730995200@www.valdeolmos-alalpardo.org
SUMMARY:7 de noviembre: Nos visita la Oficina de Atención al Ciudadano
DESCRIPTION:La Oficina Móvil de Atención al Ciudadano nos visita el 7 de noviembre \nAgentes 012 atenderán de forma presencial para solicitud de información\, documentación y realización de trámites con la Administración madrileña. \n\n7 de noviembre\nDe 15:00-16:00 horas\nEn la calle Alcalá nº 4\n\nLas Oficinas Móviles de la CAM dan cobertura a los municipios de menos de 20.000 habitantes. \n7 noviembre 012
URL:https://www.valdeolmos-alalpardo.org/evento/7-de-noviembre-nos-visita-la-oficina-de-atencion-al-consumidor/
LOCATION:Calle Alcalá 4\, Calle Alcalá 4\, Valdeolmos-Alalpardo\, Madrid\, 28130
ATTACH;FMTTYPE=image/jpeg:https://www.valdeolmos-alalpardo.org/wp-content/uploads/2024/10/7-noviembre-012.jpg
END:VEVENT
END:VCALENDAR