BEGIN:VCALENDAR
VERSION:2.0
PRODID:-//Ayuntamiento de Valdeolmos-Alalpardo - ECPv6.15.12.2//NONSGML v1.0//EN
CALSCALE:GREGORIAN
METHOD:PUBLISH
X-WR-CALNAME:Ayuntamiento de Valdeolmos-Alalpardo
X-ORIGINAL-URL:https://www.valdeolmos-alalpardo.org
X-WR-CALDESC:Eventos para Ayuntamiento de Valdeolmos-Alalpardo
REFRESH-INTERVAL;VALUE=DURATION:PT1H
X-Robots-Tag:noindex
X-PUBLISHED-TTL:PT1H
BEGIN:VTIMEZONE
TZID:Europe/Madrid
BEGIN:DAYLIGHT
TZOFFSETFROM:+0100
TZOFFSETTO:+0200
TZNAME:CEST
DTSTART:20250330T010000
END:DAYLIGHT
BEGIN:STANDARD
TZOFFSETFROM:+0200
TZOFFSETTO:+0100
TZNAME:CET
DTSTART:20251026T010000
END:STANDARD
BEGIN:DAYLIGHT
TZOFFSETFROM:+0100
TZOFFSETTO:+0200
TZNAME:CEST
DTSTART:20260329T010000
END:DAYLIGHT
BEGIN:STANDARD
TZOFFSETFROM:+0200
TZOFFSETTO:+0100
TZNAME:CET
DTSTART:20261025T010000
END:STANDARD
BEGIN:DAYLIGHT
TZOFFSETFROM:+0100
TZOFFSETTO:+0200
TZNAME:CEST
DTSTART:20270328T010000
END:DAYLIGHT
BEGIN:STANDARD
TZOFFSETFROM:+0200
TZOFFSETTO:+0100
TZNAME:CET
DTSTART:20271031T010000
END:STANDARD
END:VTIMEZONE
BEGIN:VEVENT
DTSTART;TZID=Europe/Madrid:20260421T080000
DTEND;TZID=Europe/Madrid:20260421T120000
DTSTAMP:20260421T044721
CREATED:20260420T122818Z
LAST-MODIFIED:20260420T122818Z
UID:41836-1776758400-1776772800@www.valdeolmos-alalpardo.org
SUMMARY:21 de abril: Sin médico en Alalpardo hasta las 12:00 horas
DESCRIPTION:21 de abril\, sin médico en el Consultorio de Alalpardo\n  \nEl Centro de Salud de Algete del que dependen nuestros Consultorios\, confirma que no habrá médico el 21 de abril en Alalpardo hasta las 12:00 horas.
URL:https://www.valdeolmos-alalpardo.org/evento/21-de-abril-sin-medico-en-alalpardo-hasta-las-1200-horas/
LOCATION:Consultorio Local de Alalpardo\, Calle de Carlos Martín Álvarez\, 2\, Alalpardo\, Madrid\, 28130\, España
ATTACH;FMTTYPE=image/png:https://www.valdeolmos-alalpardo.org/wp-content/uploads/2026/04/Consultorio-Alalpardo_20260420_135220_0000.png
END:VEVENT
END:VCALENDAR