BEGIN:VCALENDAR
VERSION:2.0
PRODID:-//Ayuntamiento de Valdeolmos-Alalpardo - ECPv6.15.12.2//NONSGML v1.0//EN
CALSCALE:GREGORIAN
METHOD:PUBLISH
X-WR-CALNAME:Ayuntamiento de Valdeolmos-Alalpardo
X-ORIGINAL-URL:https://www.valdeolmos-alalpardo.org
X-WR-CALDESC:Eventos para Ayuntamiento de Valdeolmos-Alalpardo
REFRESH-INTERVAL;VALUE=DURATION:PT1H
X-Robots-Tag:noindex
X-PUBLISHED-TTL:PT1H
BEGIN:VTIMEZONE
TZID:Europe/Madrid
BEGIN:DAYLIGHT
TZOFFSETFROM:+0100
TZOFFSETTO:+0200
TZNAME:CEST
DTSTART:20210328T010000
END:DAYLIGHT
BEGIN:STANDARD
TZOFFSETFROM:+0200
TZOFFSETTO:+0100
TZNAME:CET
DTSTART:20211031T010000
END:STANDARD
BEGIN:DAYLIGHT
TZOFFSETFROM:+0100
TZOFFSETTO:+0200
TZNAME:CEST
DTSTART:20220327T010000
END:DAYLIGHT
BEGIN:STANDARD
TZOFFSETFROM:+0200
TZOFFSETTO:+0100
TZNAME:CET
DTSTART:20221030T010000
END:STANDARD
BEGIN:DAYLIGHT
TZOFFSETFROM:+0100
TZOFFSETTO:+0200
TZNAME:CEST
DTSTART:20230326T010000
END:DAYLIGHT
BEGIN:STANDARD
TZOFFSETFROM:+0200
TZOFFSETTO:+0100
TZNAME:CET
DTSTART:20231029T010000
END:STANDARD
END:VTIMEZONE
BEGIN:VEVENT
DTSTART;TZID=Europe/Madrid:20220826T110000
DTEND;TZID=Europe/Madrid:20220831T013000
DTSTAMP:20260421T235300
CREATED:20220729T145429Z
LAST-MODIFIED:20220729T145533Z
UID:30087-1661511600-1661909400@www.valdeolmos-alalpardo.org
SUMMARY:Del 26 al 30 de agosto: Fiestas Patronales de Alalpardo en honor a la Santísima Virgen del Rosario
DESCRIPTION:Consulta el Programa de las Fiestas Patronales de Alalpardo\, las primeras Fiestas con mayúscula desde el inicio de la pandemia. \nLas Fiestas en honor de la Santísima Virgen del Rosario se celebran desde el 26 al 30 de agosto pero desde el día 19 empezamos a calentar motores. \nSi escaneas el Código\, podrás ver todo lo programado para las tan esperadas fiestas. \n¡Cuántas ganas! Te esperamos. \nPROGRAMA FIESTAS ALALPARDO \nFOLLETO_ALALPARDO
URL:https://www.valdeolmos-alalpardo.org/evento/del-26-al-30-de-agosto-fiestas-patronales-de-alalpardo-en-honor-a-la-santisima-virgen-del-rosario/
LOCATION:Madrid
ATTACH;FMTTYPE=image/jpeg:https://www.valdeolmos-alalpardo.org/wp-content/uploads/2022/07/CARTEL-ALALPARDO_page-0001.jpg
END:VEVENT
BEGIN:VEVENT
DTSTART;TZID=Europe/Madrid:20220828T183000
DTEND;TZID=Europe/Madrid:20220828T210000
DTSTAMP:20260421T235300
CREATED:20220812T110759Z
LAST-MODIFIED:20220812T110816Z
UID:30105-1661711400-1661720400@www.valdeolmos-alalpardo.org
SUMMARY:28 de agosto: Gran Novillada en Alalpardo - XIX Concurso de Curro Vázquez
DESCRIPTION:El 28 de agosto se celebrará el XIX Concurso de Curro Vázquez en la Plaza de Toros de Alalpardo a las 18:30 horas. \nGran Novillada con 6 bravos novillos de la Ganadería de D. José Escolar. \nEn XIX Concurso de Curro Vázquez para novilleros sin picadores participarán Aarón Rull (Escuela Taurina Diputación de Castellón)\, Tristán Barroso (Escuela Taurina de Badajoz) y Joel Ramírez (Escuela Taurina de Madrid José Cubero ‘Yiyo’. \nEntrada gratuita hasta completas aforo. \nALALPARDO 100 PLIEGOS
URL:https://www.valdeolmos-alalpardo.org/evento/28-de-agosto-gran-novillada-en-alalpardo-xix-concurso-de-curro-vazquez/
LOCATION:Plaza de Toros de Alalpardo
ATTACH;FMTTYPE=image/jpeg:https://www.valdeolmos-alalpardo.org/wp-content/uploads/2022/08/ALALPARDO-100-PLIEGOS_page-0001-scaled.jpg
END:VEVENT
END:VCALENDAR