BEGIN:VCALENDAR
VERSION:2.0
PRODID:-//Ayuntamiento de Valdeolmos-Alalpardo - ECPv6.15.12.2//NONSGML v1.0//EN
CALSCALE:GREGORIAN
METHOD:PUBLISH
X-WR-CALNAME:Ayuntamiento de Valdeolmos-Alalpardo
X-ORIGINAL-URL:https://www.valdeolmos-alalpardo.org
X-WR-CALDESC:Eventos para Ayuntamiento de Valdeolmos-Alalpardo
REFRESH-INTERVAL;VALUE=DURATION:PT1H
X-Robots-Tag:noindex
X-PUBLISHED-TTL:PT1H
BEGIN:VTIMEZONE
TZID:Europe/Madrid
BEGIN:DAYLIGHT
TZOFFSETFROM:+0100
TZOFFSETTO:+0200
TZNAME:CEST
DTSTART:20170326T010000
END:DAYLIGHT
BEGIN:STANDARD
TZOFFSETFROM:+0200
TZOFFSETTO:+0100
TZNAME:CET
DTSTART:20171029T010000
END:STANDARD
BEGIN:DAYLIGHT
TZOFFSETFROM:+0100
TZOFFSETTO:+0200
TZNAME:CEST
DTSTART:20180325T010000
END:DAYLIGHT
BEGIN:STANDARD
TZOFFSETFROM:+0200
TZOFFSETTO:+0100
TZNAME:CET
DTSTART:20181028T010000
END:STANDARD
BEGIN:DAYLIGHT
TZOFFSETFROM:+0100
TZOFFSETTO:+0200
TZNAME:CEST
DTSTART:20190331T010000
END:DAYLIGHT
BEGIN:STANDARD
TZOFFSETFROM:+0200
TZOFFSETTO:+0100
TZNAME:CET
DTSTART:20191027T010000
END:STANDARD
END:VTIMEZONE
BEGIN:VEVENT
DTSTART;TZID=Europe/Madrid:20180301T093000
DTEND;TZID=Europe/Madrid:20180325T190000
DTSTAMP:20260421T025017
CREATED:20180222T163836Z
LAST-MODIFIED:20180222T163836Z
UID:23622-1519896600-1522004400@www.valdeolmos-alalpardo.org
SUMMARY:Agenda Cultural MARZO 2018
DESCRIPTION:Si quieres consultar los espectáculos previstos para marzo de 2018 pincha aquí.
URL:https://www.valdeolmos-alalpardo.org/evento/agenda-cultural-marzo-2018-2/
LOCATION:Madrid
ORGANIZER;CN="Ayuntamiento de Alalpardo":MAILTO:ayuntamiento@alalpardo.org
END:VEVENT
BEGIN:VEVENT
DTSTART;TZID=Europe/Madrid:20180301T093000
DTEND;TZID=Europe/Madrid:20180325T190000
DTSTAMP:20260421T025017
CREATED:20180222T163836Z
LAST-MODIFIED:20180222T163836Z
UID:14543-1519896600-1522004400@www.valdeolmos-alalpardo.org
SUMMARY:Agenda Cultural MARZO 2018
DESCRIPTION:Si quieres consultar los espectáculos previstos para marzo de 2018 pincha aquí.
URL:https://www.valdeolmos-alalpardo.org/evento/agenda-cultural-marzo-2018/
LOCATION:Madrid
ORGANIZER;CN="Ayuntamiento de Alalpardo":MAILTO:ayuntamiento@alalpardo.org
END:VEVENT
BEGIN:VEVENT
DTSTART;TZID=Europe/Madrid:20180306T093000
DTEND;TZID=Europe/Madrid:20180330T163000
DTSTAMP:20260421T025017
CREATED:20180306T100305Z
LAST-MODIFIED:20180306T100305Z
UID:23623-1520328600-1522427400@www.valdeolmos-alalpardo.org
SUMMARY:Libro del Mes Marzo de 2018 - BIBLIOTECA MUNICIPAL DE ALALPARDO
DESCRIPTION:LIBRO DEL MES – MARZO \nTítulo: QUE NADIE DUERMA \nAutor: Juan José Millás. \nEl día en que Lucía pierde su empleo como programadora informática es también el día en que su vida va a dar un giro definitivo\, tal vez por una sucesión de casualidades o tal vez porque ese era el destino que le estaba esperando desde su décimo cumpleaños. Como si de un algoritmo se tratara\, Lucía establece los siguientes principios sobre los que basará su existencia futura: va a dedicarse a ser taxista; recorrerá las calles de Madrid -o tal vez Pekín- al volante de su taxi mientras espera pacientemente la ocasión de llevar en él a su vecino desaparecido\, del que se ha enamorado\, y todos los acontecimientos importantes para ella tendrán como banda sonora\, a partir de ese momento\, la ópera de Puccini Turandot\, de la que se siente protagonista. \nLo cotidiano y lo extraordinario se entremezclan en esta novela de amor y terror protagonizada por un personaje femenino inolvidable. En ella están presentes todas las claves del universo narrativo de Millás: la ironía\, el desdoblamiento del yo\, las distintas facetas que componen la realidad\, la soledad y la constatación de una verdad inmutable\, la de que el espejo en el que miramos nuestras vidas nos devuelve\, indefectiblemente\, una perspectiva insólita ante la que solo cabe el más puro de los asombros. \n  \nA DISPOSICIÓN DE LOS USUARIOS EN LA BIBLIOTECA MUNICIPAL DE ALALPARDO \nCON CADA LIBRO DEL MES SE PRESENTA EN LA BIBLIOTECA UN DOSSIER DEL AUTOR\, IGUALMENTE A DISPOSICIÓN DEL USUARIO.
URL:https://www.valdeolmos-alalpardo.org/evento/libro-del-mes-marzo-2018-biblioteca-municipal-alalpardo-2/
LOCATION:Biblioteca Pública Municipal de Alalpardo\, Travesía de Alcalá\, Alalpardo\, Madrid\, 28130\, España
ATTACH;FMTTYPE=image/jpeg:https://www.valdeolmos-alalpardo.org/wp-content/uploads/Cabecera-Evento-e1520333893484.jpg
ORGANIZER;CN="Ayuntamiento de Alalpardo":MAILTO:ayuntamiento@alalpardo.org
END:VEVENT
BEGIN:VEVENT
DTSTART;TZID=Europe/Madrid:20180306T093000
DTEND;TZID=Europe/Madrid:20180330T163000
DTSTAMP:20260421T025017
CREATED:20180306T100305Z
LAST-MODIFIED:20180306T100305Z
UID:14580-1520328600-1522427400@www.valdeolmos-alalpardo.org
SUMMARY:Libro del Mes Marzo de 2018 - BIBLIOTECA MUNICIPAL DE ALALPARDO
DESCRIPTION:LIBRO DEL MES – MARZO \nTítulo: QUE NADIE DUERMA \nAutor: Juan José Millás. \nEl día en que Lucía pierde su empleo como programadora informática es también el día en que su vida va a dar un giro definitivo\, tal vez por una sucesión de casualidades o tal vez porque ese era el destino que le estaba esperando desde su décimo cumpleaños. Como si de un algoritmo se tratara\, Lucía establece los siguientes principios sobre los que basará su existencia futura: va a dedicarse a ser taxista; recorrerá las calles de Madrid -o tal vez Pekín- al volante de su taxi mientras espera pacientemente la ocasión de llevar en él a su vecino desaparecido\, del que se ha enamorado\, y todos los acontecimientos importantes para ella tendrán como banda sonora\, a partir de ese momento\, la ópera de Puccini Turandot\, de la que se siente protagonista. \nLo cotidiano y lo extraordinario se entremezclan en esta novela de amor y terror protagonizada por un personaje femenino inolvidable. En ella están presentes todas las claves del universo narrativo de Millás: la ironía\, el desdoblamiento del yo\, las distintas facetas que componen la realidad\, la soledad y la constatación de una verdad inmutable\, la de que el espejo en el que miramos nuestras vidas nos devuelve\, indefectiblemente\, una perspectiva insólita ante la que solo cabe el más puro de los asombros. \n  \nA DISPOSICIÓN DE LOS USUARIOS EN LA BIBLIOTECA MUNICIPAL DE ALALPARDO \nCON CADA LIBRO DEL MES SE PRESENTA EN LA BIBLIOTECA UN DOSSIER DEL AUTOR\, IGUALMENTE A DISPOSICIÓN DEL USUARIO.
URL:https://www.valdeolmos-alalpardo.org/evento/libro-del-mes-marzo-2018-biblioteca-municipal-alalpardo/
LOCATION:Biblioteca Pública Municipal de Alalpardo\, Travesía de Alcalá\, Alalpardo\, Madrid\, 28130\, España
ATTACH;FMTTYPE=image/jpeg:https://www.valdeolmos-alalpardo.org/wp-content/uploads/Cabecera-Evento-e1520333893484.jpg
ORGANIZER;CN="Ayuntamiento de Alalpardo":MAILTO:ayuntamiento@alalpardo.org
END:VEVENT
BEGIN:VEVENT
DTSTART;TZID=Europe/Madrid:20180322T163000
DTEND;TZID=Europe/Madrid:20180322T181500
DTSTAMP:20260421T025017
CREATED:20180307T083904Z
LAST-MODIFIED:20180307T083904Z
UID:23624-1521736200-1521742500@www.valdeolmos-alalpardo.org
SUMMARY:Bibliobus MARZO 2018
DESCRIPTION:El BIBLIOBÚS vuelve a Alalpardo los días 8 y 22 de marzo\, desde las 15:30 horas hasta las 17:15 horas estará situado en la Calle Alcalá\, a la altura de los colegios.
URL:https://www.valdeolmos-alalpardo.org/evento/bibliobus-marzo-2018-2/
LOCATION:Bibliobus\, Calle Alcalá\, 25\, Alalpardo\, Madrid\, 28130\, España
ATTACH;FMTTYPE=image/jpeg:https://www.valdeolmos-alalpardo.org/wp-content/uploads/Bibliobus-Marzo-WP-e1520415065890.jpg
END:VEVENT
BEGIN:VEVENT
DTSTART;TZID=Europe/Madrid:20180322T163000
DTEND;TZID=Europe/Madrid:20180322T181500
DTSTAMP:20260421T025017
CREATED:20180307T083904Z
LAST-MODIFIED:20180312T084238Z
UID:14584-1521736200-1521742500@www.valdeolmos-alalpardo.org
SUMMARY:Bibliobus MARZO 2018
DESCRIPTION:El BIBLIOBÚS vuelve a Alalpardo los días 8 y 22 de marzo\, desde las 15:30 horas hasta las 17:15 horas estará situado en la Calle Alcalá\, a la altura de los colegios.
URL:https://www.valdeolmos-alalpardo.org/evento/bibliobus-marzo-2018/
LOCATION:Bibliobus\, Calle Alcalá\, 25\, Alalpardo\, Madrid\, 28130\, España
ATTACH;FMTTYPE=image/jpeg:https://www.valdeolmos-alalpardo.org/wp-content/uploads/Bibliobus-Marzo-WP-e1520415065890.jpg
END:VEVENT
END:VCALENDAR