BEGIN:VCALENDAR
VERSION:2.0
PRODID:-//Ayuntamiento de Valdeolmos-Alalpardo - ECPv6.15.12.2//NONSGML v1.0//EN
CALSCALE:GREGORIAN
METHOD:PUBLISH
X-WR-CALNAME:Ayuntamiento de Valdeolmos-Alalpardo
X-ORIGINAL-URL:https://www.valdeolmos-alalpardo.org
X-WR-CALDESC:Eventos para Ayuntamiento de Valdeolmos-Alalpardo
REFRESH-INTERVAL;VALUE=DURATION:PT1H
X-Robots-Tag:noindex
X-PUBLISHED-TTL:PT1H
BEGIN:VTIMEZONE
TZID:Europe/Madrid
BEGIN:DAYLIGHT
TZOFFSETFROM:+0100
TZOFFSETTO:+0200
TZNAME:CEST
DTSTART:20170326T010000
END:DAYLIGHT
BEGIN:STANDARD
TZOFFSETFROM:+0200
TZOFFSETTO:+0100
TZNAME:CET
DTSTART:20171029T010000
END:STANDARD
BEGIN:DAYLIGHT
TZOFFSETFROM:+0100
TZOFFSETTO:+0200
TZNAME:CEST
DTSTART:20180325T010000
END:DAYLIGHT
BEGIN:STANDARD
TZOFFSETFROM:+0200
TZOFFSETTO:+0100
TZNAME:CET
DTSTART:20181028T010000
END:STANDARD
BEGIN:DAYLIGHT
TZOFFSETFROM:+0100
TZOFFSETTO:+0200
TZNAME:CEST
DTSTART:20190331T010000
END:DAYLIGHT
BEGIN:STANDARD
TZOFFSETFROM:+0200
TZOFFSETTO:+0100
TZNAME:CET
DTSTART:20191027T010000
END:STANDARD
END:VTIMEZONE
BEGIN:VEVENT
DTSTART;TZID=Europe/Madrid:20180201T093000
DTEND;TZID=Europe/Madrid:20180228T200000
DTSTAMP:20260423T071854
CREATED:20180206T085316Z
LAST-MODIFIED:20180206T085316Z
UID:23611-1517477400-1519848000@www.valdeolmos-alalpardo.org
SUMMARY:Libro del Mes Febrero BIBLIOTECA MUNICIPAL DE ALALPARDO
DESCRIPTION:LIBRO DEL MES – FEBRERO \n Título: CINCUENTA MOMENTOS LITERARIOS (2017) \nAutor: Antonio G. Iturbe. \nCincuenta momentos literarios narra sucesos reales que parecen fabulaciones de los propios escritores que los protagonizaron. Son medio centenar de anécdotas divertidas\, inquietantes\, paradójicas o trágicas que retratan a los grandes autores en momentos claves de su vida. \nUn libro artístico que muestra una aproximación a la literatura de todos los tiempos. El crítico Antonio G. Iturbe propone unos textos personales que nos acercan a 50 momentos capitales de la literatura: desde los poetas mesopotámicos hasta nuestros días. Jordi Lafebre ilustra estos momentos y les otorga color. Del diálogo entre crítico e ilustrador surge un libro espectacular\, donde el principito de Saint-Exúpery comparte espacio con Shakespeare\, Ovidio\, Woolf o García Márquez. Un libro que humaniza a los escritores y escritoras de todos los tiempos. \n 
URL:https://www.valdeolmos-alalpardo.org/evento/libro-del-mes-febrero-biblioteca-municipal-alalpardo-2/
LOCATION:Biblioteca Pública Municipal de Alalpardo\, Travesía de Alcalá\, Alalpardo\, Madrid\, 28130\, España
ATTACH;FMTTYPE=image/jpeg:https://www.valdeolmos-alalpardo.org/wp-content/uploads/Cabecera-Entrada-EVENTO-1.jpg
ORGANIZER;CN="Ayuntamiento de Alalpardo":MAILTO:ayuntamiento@alalpardo.org
END:VEVENT
BEGIN:VEVENT
DTSTART;TZID=Europe/Madrid:20180201T093000
DTEND;TZID=Europe/Madrid:20180228T200000
DTSTAMP:20260423T071854
CREATED:20180206T085316Z
LAST-MODIFIED:20180206T094535Z
UID:14438-1517477400-1519848000@www.valdeolmos-alalpardo.org
SUMMARY:Libro del Mes Febrero BIBLIOTECA MUNICIPAL DE ALALPARDO
DESCRIPTION:LIBRO DEL MES – FEBRERO \n Título: CINCUENTA MOMENTOS LITERARIOS (2017) \nAutor: Antonio G. Iturbe. \nCincuenta momentos literarios narra sucesos reales que parecen fabulaciones de los propios escritores que los protagonizaron. Son medio centenar de anécdotas divertidas\, inquietantes\, paradójicas o trágicas que retratan a los grandes autores en momentos claves de su vida. \nUn libro artístico que muestra una aproximación a la literatura de todos los tiempos. El crítico Antonio G. Iturbe propone unos textos personales que nos acercan a 50 momentos capitales de la literatura: desde los poetas mesopotámicos hasta nuestros días. Jordi Lafebre ilustra estos momentos y les otorga color. Del diálogo entre crítico e ilustrador surge un libro espectacular\, donde el principito de Saint-Exúpery comparte espacio con Shakespeare\, Ovidio\, Woolf o García Márquez. Un libro que humaniza a los escritores y escritoras de todos los tiempos. \n 
URL:https://www.valdeolmos-alalpardo.org/evento/libro-del-mes-febrero-biblioteca-municipal-alalpardo/
LOCATION:Biblioteca Pública Municipal de Alalpardo\, Travesía de Alcalá\, Alalpardo\, Madrid\, 28130\, España
ATTACH;FMTTYPE=image/jpeg:https://www.valdeolmos-alalpardo.org/wp-content/uploads/Cabecera-Entrada-EVENTO-1.jpg
ORGANIZER;CN="Ayuntamiento de Alalpardo":MAILTO:ayuntamiento@alalpardo.org
END:VEVENT
BEGIN:VEVENT
DTSTART;TZID=Europe/Madrid:20180221T184500
DTEND;TZID=Europe/Madrid:20180221T200000
DTSTAMP:20260423T071854
CREATED:20180215T133630Z
LAST-MODIFIED:20180215T133630Z
UID:14492-1519238700-1519243200@www.valdeolmos-alalpardo.org
SUMMARY:CUENTACUENTOS "Antes fuimos dinosaurios"
DESCRIPTION:El próximo miércoles se realizará un CUENTACUENTOS\, en formato Kamisibai\, en la Biblioteca Municipal de Alalpardo el cual será realizado por el propio personal de la Biblioteca. \nEl acceso esta abierto para todo tipo de públicos y la edad recomendada es para mayores de 3 años. \nEn esta ocasión se representará un cuento llamado «Antes fuimos dinosaurios». \nRon es un enorme Tiranosaurio Rex\, pero es bastante diferente al resto de tiranosaurios. \nQuizá por eso Ron no tiene muchos colegas. Mei es un dinosaurio muy pequeño\, casi insignificante para ser un dinosaurio. \nEntrañable historia de amistad entre dos personajes muy diferentes pero con algo en común: el deseo de evolucionar cumpliendo sus sueños.
URL:https://www.valdeolmos-alalpardo.org/evento/cuentacuentos-fuimos-dinosaurios/
LOCATION:Biblioteca Pública Municipal de Alalpardo\, Travesía de Alcalá\, Alalpardo\, Madrid\, 28130\, España
ORGANIZER;CN="Ayuntamiento de Alalpardo":MAILTO:ayuntamiento@alalpardo.org
END:VEVENT
BEGIN:VEVENT
DTSTART;TZID=Europe/Madrid:20180221T184500
DTEND;TZID=Europe/Madrid:20180221T200000
DTSTAMP:20260423T071854
CREATED:20180215T133630Z
LAST-MODIFIED:20180215T133630Z
UID:23616-1519238700-1519243200@www.valdeolmos-alalpardo.org
SUMMARY:CUENTACUENTOS "Antes fuimos dinosaurios"
DESCRIPTION:El próximo miércoles se realizará un CUENTACUENTOS\, en formato Kamisibai\, en la Biblioteca Municipal de Alalpardo el cual será realizado por el propio personal de la Biblioteca. \nEl acceso esta abierto para todo tipo de públicos y la edad recomendada es para mayores de 3 años. \nEn esta ocasión se representará un cuento llamado «Antes fuimos dinosaurios». \nRon es un enorme Tiranosaurio Rex\, pero es bastante diferente al resto de tiranosaurios. \nQuizá por eso Ron no tiene muchos colegas. Mei es un dinosaurio muy pequeño\, casi insignificante para ser un dinosaurio. \nEntrañable historia de amistad entre dos personajes muy diferentes pero con algo en común: el deseo de evolucionar cumpliendo sus sueños.
URL:https://www.valdeolmos-alalpardo.org/evento/cuentacuentos-fuimos-dinosaurios-2/
LOCATION:Biblioteca Pública Municipal de Alalpardo\, Travesía de Alcalá\, Alalpardo\, Madrid\, 28130\, España
ORGANIZER;CN="Ayuntamiento de Alalpardo":MAILTO:ayuntamiento@alalpardo.org
END:VEVENT
END:VCALENDAR