BEGIN:VCALENDAR
VERSION:2.0
PRODID:-//Ayuntamiento de Valdeolmos-Alalpardo - ECPv6.15.12.2//NONSGML v1.0//EN
CALSCALE:GREGORIAN
METHOD:PUBLISH
X-WR-CALNAME:Ayuntamiento de Valdeolmos-Alalpardo
X-ORIGINAL-URL:https://www.valdeolmos-alalpardo.org
X-WR-CALDESC:Eventos para Ayuntamiento de Valdeolmos-Alalpardo
REFRESH-INTERVAL;VALUE=DURATION:PT1H
X-Robots-Tag:noindex
X-PUBLISHED-TTL:PT1H
BEGIN:VTIMEZONE
TZID:Europe/Madrid
BEGIN:DAYLIGHT
TZOFFSETFROM:+0100
TZOFFSETTO:+0200
TZNAME:CEST
DTSTART:20160327T010000
END:DAYLIGHT
BEGIN:STANDARD
TZOFFSETFROM:+0200
TZOFFSETTO:+0100
TZNAME:CET
DTSTART:20161030T010000
END:STANDARD
BEGIN:DAYLIGHT
TZOFFSETFROM:+0100
TZOFFSETTO:+0200
TZNAME:CEST
DTSTART:20170326T010000
END:DAYLIGHT
BEGIN:STANDARD
TZOFFSETFROM:+0200
TZOFFSETTO:+0100
TZNAME:CET
DTSTART:20171029T010000
END:STANDARD
BEGIN:DAYLIGHT
TZOFFSETFROM:+0100
TZOFFSETTO:+0200
TZNAME:CEST
DTSTART:20180325T010000
END:DAYLIGHT
BEGIN:STANDARD
TZOFFSETFROM:+0200
TZOFFSETTO:+0100
TZNAME:CET
DTSTART:20181028T010000
END:STANDARD
BEGIN:DAYLIGHT
TZOFFSETFROM:+0100
TZOFFSETTO:+0200
TZNAME:CEST
DTSTART:20190331T010000
END:DAYLIGHT
BEGIN:STANDARD
TZOFFSETFROM:+0200
TZOFFSETTO:+0100
TZNAME:CET
DTSTART:20191027T010000
END:STANDARD
END:VTIMEZONE
BEGIN:VEVENT
DTSTART;TZID=Europe/Madrid:20171201T093000
DTEND;TZID=Europe/Madrid:20171231T153000
DTSTAMP:20260425T154043
CREATED:20171205T072133Z
LAST-MODIFIED:20171205T074538Z
UID:13868-1512120600-1514734200@www.valdeolmos-alalpardo.org
SUMMARY:Libro del Mes Diciembre BIBLIOTECA MUNICIPAL DE ALALPARDO
DESCRIPTION:LIBRO DEL MES – DICIEMBRE \nTítulo: LOS PACIENTES DEL DOCTOR GARCÍA\nAutor: Almudena Grandes \nThriller y novela de espías\, Los pacientes del doctor García es tal vez la historia más internacional y trepidante de Almudena Grandes\, su narración más ambiciosa\, en la que conecta acontecimientos reales y desconocidos de la segunda guerra mundial y el franquismo\, para construir las vidas de unos personajes que no sólo comparten la suerte de España\, sino también la de Argentina. \nEste libro es el cuarto de los «Episodios de una Guerra Interminable»\, un proyecto narrativo a la manera de los Episodios Nacionales de Galdós\, que consta de 6 novelas independientes que tratan de recorrer la posguerra y la dictadura franquista hasta 1964\, el año en el que el Régimen celebró sus veinticinco años. \n \nA disposición de los usuarios en la Biblioteca Municipal de Alalpardo.
URL:https://www.valdeolmos-alalpardo.org/evento/libro-del-mes-diciembre-biblioteca-municipal-alalpardo/
LOCATION:Biblioteca Pública Municipal de Alalpardo\, Travesía de Alcalá\, Alalpardo\, Madrid\, 28130\, España
ATTACH;FMTTYPE=image/jpeg:https://www.valdeolmos-alalpardo.org/wp-content/uploads/Libro-del-Mes-DICIEMBRE-2017-evento-e1512463504213.jpg
ORGANIZER;CN="Ayuntamiento de Alalpardo":MAILTO:ayuntamiento@alalpardo.org
END:VEVENT
BEGIN:VEVENT
DTSTART;TZID=Europe/Madrid:20171201T093000
DTEND;TZID=Europe/Madrid:20171231T153000
DTSTAMP:20260425T154043
CREATED:20171205T072133Z
LAST-MODIFIED:20171205T072133Z
UID:23581-1512120600-1514734200@www.valdeolmos-alalpardo.org
SUMMARY:Libro del Mes Diciembre BIBLIOTECA MUNICIPAL DE ALALPARDO
DESCRIPTION:LIBRO DEL MES – DICIEMBRE \nTítulo: LOS PACIENTES DEL DOCTOR GARCÍA\nAutor: Almudena Grandes \nThriller y novela de espías\, Los pacientes del doctor García es tal vez la historia más internacional y trepidante de Almudena Grandes\, su narración más ambiciosa\, en la que conecta acontecimientos reales y desconocidos de la segunda guerra mundial y el franquismo\, para construir las vidas de unos personajes que no sólo comparten la suerte de España\, sino también la de Argentina. \nEste libro es el cuarto de los «Episodios de una Guerra Interminable»\, un proyecto narrativo a la manera de los Episodios Nacionales de Galdós\, que consta de 6 novelas independientes que tratan de recorrer la posguerra y la dictadura franquista hasta 1964\, el año en el que el Régimen celebró sus veinticinco años. \n \nA disposición de los usuarios en la Biblioteca Municipal de Alalpardo.
URL:https://www.valdeolmos-alalpardo.org/evento/libro-del-mes-diciembre-biblioteca-municipal-alalpardo-2/
LOCATION:Biblioteca Pública Municipal de Alalpardo\, Travesía de Alcalá\, Alalpardo\, Madrid\, 28130\, España
ATTACH;FMTTYPE=image/jpeg:https://www.valdeolmos-alalpardo.org/wp-content/uploads/Libro-del-Mes-DICIEMBRE-2017-evento-e1512463504213.jpg
ORGANIZER;CN="Ayuntamiento de Alalpardo":MAILTO:ayuntamiento@alalpardo.org
END:VEVENT
BEGIN:VEVENT
DTSTART;TZID=Europe/Madrid:20171215T160000
DTEND;TZID=Europe/Madrid:20180105T210000
DTSTAMP:20260425T154043
CREATED:20171204T083304Z
LAST-MODIFIED:20171219T084542Z
UID:13855-1513353600-1515186000@www.valdeolmos-alalpardo.org
SUMMARY:Programación de Navidad
DESCRIPTION:El Ayuntamiento de Valdeolmos-Alalpardo comenzará su programación de Navidad el día 15 de diciembre con un mercadillo donde se podrán realizar esas compras pendientes. \nEste año la agenda viene repleta de actividades\, algunas de ellas se han convertido en todo un clásico en el municipio y otras son novedades\, como el Teatro de Pompas de Jabón. \nPara más información pincha aquí para consultar el folleto: \n 
URL:https://www.valdeolmos-alalpardo.org/evento/programacion-de-navidad/
LOCATION:Valdeolmos-Alalpardo\, Valdeolmos-Alalpardo\, Madrid\, 28130\, España
ATTACH;FMTTYPE=image/jpeg:https://www.valdeolmos-alalpardo.org/wp-content/uploads/Portada-WP-e1512380180369.jpg
ORGANIZER;CN="Ayuntamiento de Alalpardo":MAILTO:ayuntamiento@alalpardo.org
END:VEVENT
BEGIN:VEVENT
DTSTART;TZID=Europe/Madrid:20171215T160000
DTEND;TZID=Europe/Madrid:20180105T210000
DTSTAMP:20260425T154043
CREATED:20171204T083304Z
LAST-MODIFIED:20171204T083304Z
UID:23580-1513353600-1515186000@www.valdeolmos-alalpardo.org
SUMMARY:Programación de Navidad
DESCRIPTION:El Ayuntamiento de Valdeolmos-Alalpardo comenzará su programación de Navidad el día 15 de diciembre con un mercadillo donde se podrán realizar esas compras pendientes. \nEste año la agenda viene repleta de actividades\, algunas de ellas se han convertido en todo un clásico en el municipio y otras son novedades\, como el Teatro de Pompas de Jabón. \nPara más información pincha aquí para consultar el folleto: \n 
URL:https://www.valdeolmos-alalpardo.org/evento/programacion-de-navidad-2/
LOCATION:Valdeolmos-Alalpardo\, Valdeolmos-Alalpardo\, Madrid\, 28130\, España
ATTACH;FMTTYPE=image/jpeg:https://www.valdeolmos-alalpardo.org/wp-content/uploads/Portada-WP-e1512380180369.jpg
ORGANIZER;CN="Ayuntamiento de Alalpardo":MAILTO:ayuntamiento@alalpardo.org
END:VEVENT
END:VCALENDAR