BEGIN:VCALENDAR
VERSION:2.0
PRODID:-//Ayuntamiento de Valdeolmos-Alalpardo - ECPv6.15.12.2//NONSGML v1.0//EN
CALSCALE:GREGORIAN
METHOD:PUBLISH
X-WR-CALNAME:Ayuntamiento de Valdeolmos-Alalpardo
X-ORIGINAL-URL:https://www.valdeolmos-alalpardo.org
X-WR-CALDESC:Eventos para Ayuntamiento de Valdeolmos-Alalpardo
REFRESH-INTERVAL;VALUE=DURATION:PT1H
X-Robots-Tag:noindex
X-PUBLISHED-TTL:PT1H
BEGIN:VTIMEZONE
TZID:Europe/Madrid
BEGIN:DAYLIGHT
TZOFFSETFROM:+0100
TZOFFSETTO:+0200
TZNAME:CEST
DTSTART:20160327T010000
END:DAYLIGHT
BEGIN:STANDARD
TZOFFSETFROM:+0200
TZOFFSETTO:+0100
TZNAME:CET
DTSTART:20161030T010000
END:STANDARD
BEGIN:DAYLIGHT
TZOFFSETFROM:+0100
TZOFFSETTO:+0200
TZNAME:CEST
DTSTART:20170326T010000
END:DAYLIGHT
BEGIN:STANDARD
TZOFFSETFROM:+0200
TZOFFSETTO:+0100
TZNAME:CET
DTSTART:20171029T010000
END:STANDARD
BEGIN:DAYLIGHT
TZOFFSETFROM:+0100
TZOFFSETTO:+0200
TZNAME:CEST
DTSTART:20180325T010000
END:DAYLIGHT
BEGIN:STANDARD
TZOFFSETFROM:+0200
TZOFFSETTO:+0100
TZNAME:CET
DTSTART:20181028T010000
END:STANDARD
END:VTIMEZONE
BEGIN:VEVENT
DTSTART;TZID=Europe/Madrid:20171101T090000
DTEND;TZID=Europe/Madrid:20171130T220000
DTSTAMP:20260425T153924
CREATED:20171108T072719Z
LAST-MODIFIED:20171128T102414Z
UID:13680-1509526800-1512079200@www.valdeolmos-alalpardo.org
SUMMARY:Libro del mes - Noviembre BIBLIOTECA MUNICIPAL DE ALALPARDO
DESCRIPTION:Título: EVA\nAutor:  Arturo Pérez Reverte \n  \nMarzo de 1937. Mientras la Guerra Civil sigue su trágico curso\, una nueva misión lleva a Lorenzo Falcó hasta Tánger\, turbulenta encrucijada de espías\, tráficos ilícitos y conspiraciones\, con el encargo de conseguir que el capitán de un barco cargado con el oro del Banco de España cambie de bandera. Espías nacionales\, republicanos y soviéticos\, hombres y mujeres\, se enfrentan en una guerra oscura y sucia en que acabarán regresando peligrosos fantasmas del pasado. \nCada escena del Libro sucede en un lugar real de Tánger. \n  \nA disposición de los usuarios en la Biblioteca Municipal de Alalpardo. \n 
URL:https://www.valdeolmos-alalpardo.org/evento/libro-del-mes-noviembre-biblioteca-municipal-alalpardo/
LOCATION:Biblioteca Pública Municipal de Alalpardo\, Travesía de Alcalá\, Alalpardo\, Madrid\, 28130\, España
ATTACH;FMTTYPE=image/jpeg:https://www.valdeolmos-alalpardo.org/wp-content/uploads/Libro-del-Mes-NOVIEMBRE-2017-e1510128193122.jpg
ORGANIZER;CN="Ayuntamiento de Alalpardo":MAILTO:ayuntamiento@alalpardo.org
END:VEVENT
BEGIN:VEVENT
DTSTART;TZID=Europe/Madrid:20171101T090000
DTEND;TZID=Europe/Madrid:20171130T220000
DTSTAMP:20260425T153924
CREATED:20171108T072719Z
LAST-MODIFIED:20171108T072719Z
UID:23572-1509526800-1512079200@www.valdeolmos-alalpardo.org
SUMMARY:Libro del mes - Noviembre BIBLIOTECA MUNICIPAL DE ALALPARDO
DESCRIPTION:Título: EVA\nAutor:  Arturo Pérez Reverte \n  \nMarzo de 1937. Mientras la Guerra Civil sigue su trágico curso\, una nueva misión lleva a Lorenzo Falcó hasta Tánger\, turbulenta encrucijada de espías\, tráficos ilícitos y conspiraciones\, con el encargo de conseguir que el capitán de un barco cargado con el oro del Banco de España cambie de bandera. Espías nacionales\, republicanos y soviéticos\, hombres y mujeres\, se enfrentan en una guerra oscura y sucia en que acabarán regresando peligrosos fantasmas del pasado. \nCada escena del Libro sucede en un lugar real de Tánger. \n  \nA disposición de los usuarios en la Biblioteca Municipal de Alalpardo. \n 
URL:https://www.valdeolmos-alalpardo.org/evento/libro-del-mes-noviembre-biblioteca-municipal-alalpardo-2/
LOCATION:Biblioteca Pública Municipal de Alalpardo\, Travesía de Alcalá\, Alalpardo\, Madrid\, 28130\, España
ATTACH;FMTTYPE=image/jpeg:https://www.valdeolmos-alalpardo.org/wp-content/uploads/Libro-del-Mes-NOVIEMBRE-2017-e1510128193122.jpg
ORGANIZER;CN="Ayuntamiento de Alalpardo":MAILTO:ayuntamiento@alalpardo.org
END:VEVENT
BEGIN:VEVENT
DTSTART;TZID=Europe/Madrid:20171101T090000
DTEND;TZID=Europe/Madrid:20171130T230000
DTSTAMP:20260425T153924
CREATED:20171030T120441Z
LAST-MODIFIED:20171128T102555Z
UID:13642-1509526800-1512082800@www.valdeolmos-alalpardo.org
SUMMARY:Agenda Cultural Noviembre
DESCRIPTION:Mira lo que tenemos para noviembre: Último concierto de la MUESTRA INTERNACIONAL DE JAZZ DE ALALPARDO\, Exposición del Salón Hispano-Francés de Otoño ARTEC y la ópera LA TRAVIATA.
URL:https://www.valdeolmos-alalpardo.org/evento/agenda-cultural-noviembre/
LOCATION:Madrid
ATTACH;FMTTYPE=image/jpeg:https://www.valdeolmos-alalpardo.org/wp-content/uploads/Portada-Noviembre-e1509368609835.jpg
ORGANIZER;CN="Ayuntamiento de Alalpardo":MAILTO:ayuntamiento@alalpardo.org
END:VEVENT
BEGIN:VEVENT
DTSTART;TZID=Europe/Madrid:20171101T090000
DTEND;TZID=Europe/Madrid:20171130T230000
DTSTAMP:20260425T153924
CREATED:20171030T120441Z
LAST-MODIFIED:20171030T120441Z
UID:23569-1509526800-1512082800@www.valdeolmos-alalpardo.org
SUMMARY:Agenda Cultural Noviembre
DESCRIPTION:Mira lo que tenemos para noviembre: Último concierto de la MUESTRA INTERNACIONAL DE JAZZ DE ALALPARDO\, Exposición del Salón Hispano-Francés de Otoño ARTEC y la ópera LA TRAVIATA.
URL:https://www.valdeolmos-alalpardo.org/evento/agenda-cultural-noviembre-3/
LOCATION:Madrid
ATTACH;FMTTYPE=image/jpeg:https://www.valdeolmos-alalpardo.org/wp-content/uploads/Portada-Noviembre-e1509368609835.jpg
ORGANIZER;CN="Ayuntamiento de Alalpardo":MAILTO:ayuntamiento@alalpardo.org
END:VEVENT
BEGIN:VEVENT
DTSTART;TZID=Europe/Madrid:20171130T163000
DTEND;TZID=Europe/Madrid:20171130T181500
DTSTAMP:20260425T153924
CREATED:20171129T085501Z
LAST-MODIFIED:20171129T085501Z
UID:13826-1512059400-1512065700@www.valdeolmos-alalpardo.org
SUMMARY:Bibliobus
DESCRIPTION:Mañana vuelve el Bibliobus a Alalpardo ¿Donde? En el mismo lugar de siempre\, en la Calle Alcalá junto a los colegios\, de 15:30 a 17:15 horas.
URL:https://www.valdeolmos-alalpardo.org/evento/bibliobus/
LOCATION:Bibliobus\, Calle Alcalá\, 25\, Alalpardo\, Madrid\, 28130\, España
ATTACH;FMTTYPE=image/jpeg:https://www.valdeolmos-alalpardo.org/wp-content/uploads/Bibliobus-Noviembre-1.jpg
ORGANIZER;CN="Ayuntamiento de Alalpardo":MAILTO:ayuntamiento@alalpardo.org
END:VEVENT
BEGIN:VEVENT
DTSTART;TZID=Europe/Madrid:20171130T163000
DTEND;TZID=Europe/Madrid:20171130T181500
DTSTAMP:20260425T153924
CREATED:20171129T085501Z
LAST-MODIFIED:20171129T085501Z
UID:23578-1512059400-1512065700@www.valdeolmos-alalpardo.org
SUMMARY:Bibliobus
DESCRIPTION:Mañana vuelve el Bibliobus a Alalpardo ¿Donde? En el mismo lugar de siempre\, en la Calle Alcalá junto a los colegios\, de 15:30 a 17:15 horas.
URL:https://www.valdeolmos-alalpardo.org/evento/bibliobus-2/
LOCATION:Bibliobus\, Calle Alcalá\, 25\, Alalpardo\, Madrid\, 28130\, España
ATTACH;FMTTYPE=image/jpeg:https://www.valdeolmos-alalpardo.org/wp-content/uploads/Bibliobus-Noviembre-1.jpg
ORGANIZER;CN="Ayuntamiento de Alalpardo":MAILTO:ayuntamiento@alalpardo.org
END:VEVENT
BEGIN:VEVENT
DTSTART;TZID=Europe/Madrid:20171130T193000
DTEND;TZID=Europe/Madrid:20171130T210000
DTSTAMP:20260425T153924
CREATED:20171122T094057Z
LAST-MODIFIED:20171122T094057Z
UID:13784-1512070200-1512075600@www.valdeolmos-alalpardo.org
SUMMARY:Videoforum del Día Internacional Contra la Violencia de Género
DESCRIPTION:El próximo jueves en el Teatro de la Casa de la Cultura de Alalpardo se proyectará un vídeo y se realizarán unas charlas con motivo de la celebración del Día Internacional Contra la Violencia de Género. \nNO OLVIDES LLEVAR UNA PRENDA MORADA Y UN MENSAJE ESCRITO CONTRA LA VIOLENCIA DE GÉNERO PARA PODER PARTICIPAR EN EL PHOTOCALL DEL FINAL DE LA ACTIVIDAD\,. \nSE MONTARÁ UN GRAN COLLAGE CON TODOS LOS PARTICIPANTES DE LA MANCOMUNIDAD.
URL:https://www.valdeolmos-alalpardo.org/evento/videoforum-del-dia-internacional-la-violencia-genero/
LOCATION:Casa de Cultura de Alalpardo\, C/ Ejidos\, 8\, Alalpardo\, Madrid\, 28130\, España
ATTACH;FMTTYPE=image/jpeg:https://www.valdeolmos-alalpardo.org/wp-content/uploads/Día-Internacional-contra-la-Violencia-de-Género-e1511347106970.jpg
ORGANIZER;CN="Ayuntamiento de Alalpardo":MAILTO:ayuntamiento@alalpardo.org
END:VEVENT
BEGIN:VEVENT
DTSTART;TZID=Europe/Madrid:20171130T193000
DTEND;TZID=Europe/Madrid:20171130T210000
DTSTAMP:20260425T153924
CREATED:20171122T094057Z
LAST-MODIFIED:20171122T094057Z
UID:23577-1512070200-1512075600@www.valdeolmos-alalpardo.org
SUMMARY:Videoforum del Día Internacional Contra la Violencia de Género
DESCRIPTION:El próximo jueves en el Teatro de la Casa de la Cultura de Alalpardo se proyectará un vídeo y se realizarán unas charlas con motivo de la celebración del Día Internacional Contra la Violencia de Género. \nNO OLVIDES LLEVAR UNA PRENDA MORADA Y UN MENSAJE ESCRITO CONTRA LA VIOLENCIA DE GÉNERO PARA PODER PARTICIPAR EN EL PHOTOCALL DEL FINAL DE LA ACTIVIDAD\,. \nSE MONTARÁ UN GRAN COLLAGE CON TODOS LOS PARTICIPANTES DE LA MANCOMUNIDAD.
URL:https://www.valdeolmos-alalpardo.org/evento/videoforum-del-dia-internacional-la-violencia-genero-2/
LOCATION:Casa de Cultura de Alalpardo\, C/ Ejidos\, 8\, Alalpardo\, Madrid\, 28130\, España
ATTACH;FMTTYPE=image/jpeg:https://www.valdeolmos-alalpardo.org/wp-content/uploads/Día-Internacional-contra-la-Violencia-de-Género-e1511347106970.jpg
ORGANIZER;CN="Ayuntamiento de Alalpardo":MAILTO:ayuntamiento@alalpardo.org
END:VEVENT
END:VCALENDAR