BEGIN:VCALENDAR
VERSION:2.0
PRODID:-//Ayuntamiento de Valdeolmos-Alalpardo - ECPv6.15.12.2//NONSGML v1.0//EN
CALSCALE:GREGORIAN
METHOD:PUBLISH
X-ORIGINAL-URL:https://www.valdeolmos-alalpardo.org
X-WR-CALDESC:Eventos para Ayuntamiento de Valdeolmos-Alalpardo
REFRESH-INTERVAL;VALUE=DURATION:PT1H
X-Robots-Tag:noindex
X-PUBLISHED-TTL:PT1H
BEGIN:VTIMEZONE
TZID:Europe/Madrid
BEGIN:DAYLIGHT
TZOFFSETFROM:+0100
TZOFFSETTO:+0200
TZNAME:CEST
DTSTART:20210328T010000
END:DAYLIGHT
BEGIN:STANDARD
TZOFFSETFROM:+0200
TZOFFSETTO:+0100
TZNAME:CET
DTSTART:20211031T010000
END:STANDARD
BEGIN:DAYLIGHT
TZOFFSETFROM:+0100
TZOFFSETTO:+0200
TZNAME:CEST
DTSTART:20220327T010000
END:DAYLIGHT
BEGIN:STANDARD
TZOFFSETFROM:+0200
TZOFFSETTO:+0100
TZNAME:CET
DTSTART:20221030T010000
END:STANDARD
BEGIN:DAYLIGHT
TZOFFSETFROM:+0100
TZOFFSETTO:+0200
TZNAME:CEST
DTSTART:20230326T010000
END:DAYLIGHT
BEGIN:STANDARD
TZOFFSETFROM:+0200
TZOFFSETTO:+0100
TZNAME:CET
DTSTART:20231029T010000
END:STANDARD
END:VTIMEZONE
BEGIN:VEVENT
DTSTART;TZID=Europe/Madrid:20220603T190000
DTEND;TZID=Europe/Madrid:20220608T200000
DTSTAMP:20260422T014521
CREATED:20220506T111116Z
LAST-MODIFIED:20220603T094727Z
UID:29218-1654282800-1654718400@www.valdeolmos-alalpardo.org
SUMMARY:Del 16 de mayo al 8 de junio: Intensivo de Reggaeton con Niurka
DESCRIPTION:Intensivo de Reaggaeton con Niurka del 16 de mayo al 7 de junio. 22 euros. \nEl miércoles 11 de mayo habrá una demostración a las 19:00 horas en la Sala de Cristal de la Casa de la Cultura de Alalpardo. Precio 5 euros. \n\nPara las inscripciones hay que contactar con la Asociación Valami\, \nPara la Demostración no es necesario inscribirse. Solo hay que presentarse en la Sala acristalada y abonar 5 euros antes del inicio de la clase. \n\n  \n  \nINTENSIVO REGGAETON
URL:https://www.valdeolmos-alalpardo.org/evento/del-16-de-mayo-al-8-de-junio-intensivo-de-reggaeton-con-niurka/
LOCATION:Sala Cristal Casa Cultura Alalpardo\, C/ Egidos 8\, Alalpardo
ATTACH;FMTTYPE=image/jpeg:https://www.valdeolmos-alalpardo.org/wp-content/uploads/2022/05/INTENSIVO-REGGAETON_page-0001.jpg
END:VEVENT
BEGIN:VEVENT
DTSTART;TZID=Europe/Madrid:20220609T190000
DTEND;TZID=Europe/Madrid:20220619T220000
DTSTAMP:20260422T014521
CREATED:20220602T220106Z
LAST-MODIFIED:20220520T143037Z
UID:29436-1654801200-1655676000@www.valdeolmos-alalpardo.org
SUMMARY:Del 9 al 12 y del 16 al 19 de junio: Exposición 'Dos Miradas'
DESCRIPTION:Del 9 al 12 de junio y del 16 al 19 se podrá disfrutar de la Exposición ‘Dos Miradas’. Fotografía\, poesía y música de película en la Sala Al-Artis en la Casa de la Cultura de Alalpardo.  \nEntrada gratuita. \nConsulta horarios:  \n\nJueves y viernes: de 19 a 22 horas.\nSábados y domingos: de 11 a 15 y de 19 a 22 horas. \n\nDOS MIRADAS CARTEL
URL:https://www.valdeolmos-alalpardo.org/evento/del-9-al-12-y-del-16-al-19-de-junio-exposicion-dos-miradas/
LOCATION:Sala Al Artis\, Calle Egidos\, 8\, Valdeolmos-Alalpardo\, Madrid\, 28130\, España
ATTACH;FMTTYPE=image/jpeg:https://www.valdeolmos-alalpardo.org/wp-content/uploads/2022/05/DOS-MIRADAS-CARTEL_page-0001.jpg
END:VEVENT
BEGIN:VEVENT
DTSTART;TZID=Europe/Madrid:20220630T113000
DTEND;TZID=Europe/Madrid:20220630T130000
DTSTAMP:20260422T014521
CREATED:20220520T125823Z
LAST-MODIFIED:20220617T091454Z
UID:29422-1656588600-1656594000@www.valdeolmos-alalpardo.org
SUMMARY:2\, 16 y 30 de junio: Vuelve el Bibliobús
DESCRIPTION:El 2\, 16 y 30 de junio vuelve al municipio el Bibliobús. Como siempre\, cargado de revistas\, libros\, cómics\, CD\, y DVD. Te espera en la Calle Alcalá 25  junto a los colegios\, de 11:30 a 13:00 horas.   \nEntra y te sorprenderás en el autobús convertido en biblioteca móvil. \nHay 13 bibliobuses que recorren 118 municipios de la Comunidad de Madrid y 17 distritos de la capital para atender a públicos de todas las edades. \nBibliobús junio \n \n  \n 
URL:https://www.valdeolmos-alalpardo.org/evento/2-16-y-30-de-junio-vuelve-el-bibliobus/
LOCATION:Bibliobus\, Calle Alcalá\, 25\, Alalpardo\, Madrid\, 28130\, España
ATTACH;FMTTYPE=image/jpeg:https://www.valdeolmos-alalpardo.org/wp-content/uploads/2022/05/WhatsApp-Image-2022-05-20-at-2.52.49-PM.jpeg
END:VEVENT
END:VCALENDAR