BEGIN:VCALENDAR
VERSION:2.0
PRODID:-//Ayuntamiento de Valdeolmos-Alalpardo - ECPv6.15.12.2//NONSGML v1.0//EN
CALSCALE:GREGORIAN
METHOD:PUBLISH
X-ORIGINAL-URL:https://www.valdeolmos-alalpardo.org
X-WR-CALDESC:Eventos para Ayuntamiento de Valdeolmos-Alalpardo
REFRESH-INTERVAL;VALUE=DURATION:PT1H
X-Robots-Tag:noindex
X-PUBLISHED-TTL:PT1H
BEGIN:VTIMEZONE
TZID:Europe/Madrid
BEGIN:DAYLIGHT
TZOFFSETFROM:+0100
TZOFFSETTO:+0200
TZNAME:CEST
DTSTART:20210328T010000
END:DAYLIGHT
BEGIN:STANDARD
TZOFFSETFROM:+0200
TZOFFSETTO:+0100
TZNAME:CET
DTSTART:20211031T010000
END:STANDARD
BEGIN:DAYLIGHT
TZOFFSETFROM:+0100
TZOFFSETTO:+0200
TZNAME:CEST
DTSTART:20220327T010000
END:DAYLIGHT
BEGIN:STANDARD
TZOFFSETFROM:+0200
TZOFFSETTO:+0100
TZNAME:CET
DTSTART:20221030T010000
END:STANDARD
BEGIN:DAYLIGHT
TZOFFSETFROM:+0100
TZOFFSETTO:+0200
TZNAME:CEST
DTSTART:20230326T010000
END:DAYLIGHT
BEGIN:STANDARD
TZOFFSETFROM:+0200
TZOFFSETTO:+0100
TZNAME:CET
DTSTART:20231029T010000
END:STANDARD
END:VTIMEZONE
BEGIN:VEVENT
DTSTART;TZID=Europe/Madrid:20220506T123000
DTEND;TZID=Europe/Madrid:20220508T180000
DTSTAMP:20260423T041011
CREATED:20220421T084220Z
LAST-MODIFIED:20220421T084243Z
UID:29033-1651840200-1652032800@www.valdeolmos-alalpardo.org
SUMMARY:6\, 7 y 8: Después de dos años\, vuelve con ganas la Feria de Abril
DESCRIPTION:Tras dos años sin Feria de Abril por la pandemia\, vuelven los trajes de flamenca\, las sevillanas\, los farolillos y las actuaciones musicales en el Patio de Caballos de Alalpardo el 6\, 7 y 8 de mayo. \nLa Feria de Abril arranca el viernes 6 de mayo con la apertura del Recinto y un Concurso de Sevillanas. Habrá premios infantiles\, juveniles y adultos\, actuaciones musicales\, salve rociera\, comida y aperitivo en Hermandad. \nDurante toda la Feria tendrá lugar un Concurso al Mejor Atuendo en categoría infantil y adultos. El premio se entregará el domingo día 8 tras la actuación infantil ‘La Candela’. \nCartel Feria de Abril 2022
URL:https://www.valdeolmos-alalpardo.org/evento/6-7-y-8-despues-de-dos-anos-vuelve-con-ganas-la-feria-de-abril/
LOCATION:Patio de Caballos\, C/ Alcalá 21\, Alalpardo\, 28130
ATTACH;FMTTYPE=image/jpeg:https://www.valdeolmos-alalpardo.org/wp-content/uploads/2022/04/Cartel-Feria-de-Abril-2022_page-0001.jpg
END:VEVENT
BEGIN:VEVENT
DTSTART;TZID=Europe/Madrid:20220521T200000
DTEND;TZID=Europe/Madrid:20220521T210000
DTSTAMP:20260423T041011
CREATED:20220505T220151Z
LAST-MODIFIED:20220505T093040Z
UID:29204-1653163200-1653166800@www.valdeolmos-alalpardo.org
SUMMARY:21 de mayo: 'Bunkers'\, una comedia apocalíptica que te hará reir sin parar
DESCRIPTION:‘Búnker’ es un show humorístico con tintes catastrofistas que hará al público reír sin parar el 21 de mayo a las 20:00 horas en el Teatro de la Casa de la Cultura de Alalpardo.  \nEl protagonista de esta alocada comedia para todos los públicos es un importante ejecutivo dedicado al marketing y la comunicación. Para alejarse de los problemas laborales que se le amontonan\, decide perderse en un resort de lujo hasta tener preparada una campaña más efectiva y provocativa. \nEl actor Fernando Gil debe convencer a la población de que el mundo se acaba para que compren sus búnkers de lujo. Un producto dirigido exclusivamente a la élites económicas\, a gobernantes que lo dirigen todo. ¿Conseguirá este espabilado ejecutivo que la gente caiga en su trampa comercial? ¡Consigue tus entradas y no te quedes sin saberlo! \nVenta de entradas a partir del viernes 6 de mayo en el Bar de la Casa de la Cultura de Alalpardo. \nCartel Bunkers \n \nPincha para ver un adelanto. \nhttps://www.youtube.com/watch?v=irtcTCAA2Ac \n 
URL:https://www.valdeolmos-alalpardo.org/evento/21-de-mayo-bunkers-una-comedia-apocaliptica-que-te-hara-reir-sin-parar/
LOCATION:Teatro Casa de la Cultura de Alalpardo\, C/ Carlos Martín Alvárez 6\, Valdeolmos-Alalpardo\, Madrid\, 28130
ATTACH;FMTTYPE=image/jpeg:https://www.valdeolmos-alalpardo.org/wp-content/uploads/2022/05/Cartel-Bunkers_page-0001.jpg
END:VEVENT
BEGIN:VEVENT
DTSTART;TZID=Europe/Madrid:20220521T200000
DTEND;TZID=Europe/Madrid:20220521T220000
DTSTAMP:20260423T041011
CREATED:20220516T100144Z
LAST-MODIFIED:20220516T100144Z
UID:29355-1653163200-1653170400@www.valdeolmos-alalpardo.org
SUMMARY:21 de mayo: VI Encuentro de Bandas 'Cruz-Epifanio Mateo'
DESCRIPTION:VI Encuentro de Bandas ‘Cruz-Epifanio Mateo’ el 21 de mayo a las 20:00 horas en la Plaza de Toros de Alalpardo.  \n\nLa Agrupación invitada es la Banda de Música de San Sebastián de los Reyes con D. Jesús Vioque Lara como Director.\nLa Agrupación anfitriona es la Banda de Música ‘Villa de Fuente El Saz’ con D. Cruz-Epifanio Mateo Fernández como Director.\n\nAntes del Encuentro de Bandas habrá un Pasacalles a las 19:30 horas con salida del Ayuntamiento y el siguiente recorrido:  \nCruce carretera\, C/Calvo Sotelo\, C/ Mayor\, Plaza de la Comunidad de Madrid\, C/ del Pilar\, C/Alcalá y Plaza de Toros.  \nEntrada gratuita. \n 
URL:https://www.valdeolmos-alalpardo.org/evento/21-de-mayo-vi-encuentro-de-bandas-cruz-epifanio-mateo/
LOCATION:Plaza de Toros de Alalpardo
ATTACH;FMTTYPE=image/jpeg:https://www.valdeolmos-alalpardo.org/wp-content/uploads/2022/05/WhatsApp-Image-2022-05-16-at-10.23.17-AM.jpeg
END:VEVENT
BEGIN:VEVENT
DTSTART;TZID=Europe/Madrid:20220522T091500
DTEND;TZID=Europe/Madrid:20220522T143000
DTSTAMP:20260423T041011
CREATED:20220509T100603Z
LAST-MODIFIED:20220509T100603Z
UID:29252-1653210900-1653229800@www.valdeolmos-alalpardo.org
SUMMARY:22 de mayo: II Torneo de Ajedrez Valdeolmos-Alalpardo
DESCRIPTION:El II Torneo de Ajedrez Valdeolmos-Alalpardo se celebra el domingo 22 de mayo en la Sala de Cristal de la Casa de la Cultura de Alalpardo.  \n\nBlitz 22 minutos a finish.\nSistema suizo a 6 rondas.\nNo es válido para ELO.\n\nTorneo de Ajedrez para todas las edades y niveles.  Domingo 22 de mayo de 9:15 a 14:30 horas. Homenaje al maestro Kasparov. \nHabrá chocolate con churros para todos los participantes. \nInscripciones hasta completar aforo mediante QR o WhatsApp. \n\nMenores de edad: 2 euros\nMayores de edad: 3 euros.\nPago por bizum o transferencia.\nJuan 626613558 (pago bizum)\nPilu  678587039 (inscripciones por whatsapp o pago por transferencia)\n\nCartel II Torneo
URL:https://www.valdeolmos-alalpardo.org/evento/22-de-mayo-ii-torneo-de-ajedrez-valdeolmos-alalpardo/
LOCATION:Sala Cristal Casa Cultura Alalpardo\, C/ Egidos 8\, Alalpardo
ATTACH;FMTTYPE=image/jpeg:https://www.valdeolmos-alalpardo.org/wp-content/uploads/2022/05/Cartel-II-Torneo_page-0001.jpg
END:VEVENT
END:VCALENDAR