BEGIN:VCALENDAR
VERSION:2.0
PRODID:-//Ayuntamiento de Valdeolmos-Alalpardo - ECPv6.15.12.2//NONSGML v1.0//EN
CALSCALE:GREGORIAN
METHOD:PUBLISH
X-ORIGINAL-URL:https://www.valdeolmos-alalpardo.org
X-WR-CALDESC:Eventos para Ayuntamiento de Valdeolmos-Alalpardo
REFRESH-INTERVAL;VALUE=DURATION:PT1H
X-Robots-Tag:noindex
X-PUBLISHED-TTL:PT1H
BEGIN:VTIMEZONE
TZID:Europe/Madrid
BEGIN:DAYLIGHT
TZOFFSETFROM:+0100
TZOFFSETTO:+0200
TZNAME:CEST
DTSTART:20210328T010000
END:DAYLIGHT
BEGIN:STANDARD
TZOFFSETFROM:+0200
TZOFFSETTO:+0100
TZNAME:CET
DTSTART:20211031T010000
END:STANDARD
BEGIN:DAYLIGHT
TZOFFSETFROM:+0100
TZOFFSETTO:+0200
TZNAME:CEST
DTSTART:20220327T010000
END:DAYLIGHT
BEGIN:STANDARD
TZOFFSETFROM:+0200
TZOFFSETTO:+0100
TZNAME:CET
DTSTART:20221030T010000
END:STANDARD
BEGIN:DAYLIGHT
TZOFFSETFROM:+0100
TZOFFSETTO:+0200
TZNAME:CEST
DTSTART:20230326T010000
END:DAYLIGHT
BEGIN:STANDARD
TZOFFSETFROM:+0200
TZOFFSETTO:+0100
TZNAME:CET
DTSTART:20231029T010000
END:STANDARD
END:VTIMEZONE
BEGIN:VEVENT
DTSTART;TZID=Europe/Madrid:20220312T180000
DTEND;TZID=Europe/Madrid:20220312T193000
DTSTAMP:20260423T222137
CREATED:20220301T092100Z
LAST-MODIFIED:20220301T092100Z
UID:28502-1647108000-1647113400@www.valdeolmos-alalpardo.org
SUMMARY:12 de marzo: La Candela presenta su actuación de baile 'Mujer\, todo y nada'
DESCRIPTION:Actuación de baile de la Escuela La Candela en la Casa de la Cultura de Alalpardo el sábado 12 de marzo a las 18:00 horas. \nLa Candela presentará ‘Mujer\, todo y nada’\, una actuación donde quedará plasmada la vida\, el orden\, el sentimiento\, la dureza\, el caos y la dominación. \nYa puedes recoger la invitación en la Escuela. Entrada hasta completa aforo.  \n 
URL:https://www.valdeolmos-alalpardo.org/evento/12-de-marzo-la-candela-presenta-su-actuacion-de-baile-mujer-todo-y-nada/
LOCATION:Casa de Cultura de Alalpardo\, C/ Ejidos\, 8\, Alalpardo\, Madrid\, 28130\, España
ATTACH;FMTTYPE=image/jpeg:https://www.valdeolmos-alalpardo.org/wp-content/uploads/2022/03/WhatsApp-Image-2022-02-28-at-11.11.17.jpeg
END:VEVENT
BEGIN:VEVENT
DTSTART;TZID=Europe/Madrid:20220316T180000
DTEND;TZID=Europe/Madrid:20220316T200000
DTSTAMP:20260423T222137
CREATED:20220315T100935Z
LAST-MODIFIED:20220315T100935Z
UID:28629-1647453600-1647460800@www.valdeolmos-alalpardo.org
SUMMARY:16 de marzo: Reunión del grupo de ODS dentro del Proyecto de Dinamización Ambiental
DESCRIPTION:Seguimos con el Proyecto de Dinamización Ambiental y con una reunión del grupo de ODS (Objetivos de Desarrollo Sostenible) el miércoles 16 de marzo.  \nDe 18:00 a 20:00 horas en el Aula de la Casa de la Cultura de Alalpardo. \nEs una actividad para mayores de 18 años. 
URL:https://www.valdeolmos-alalpardo.org/evento/16-de-marzo-reunion-del-grupo-de-ods-dentro-del-proyecto-de-dinamizacion-ambiental/
LOCATION:Aula Casa de la Cultura de Alalpardo\, Calle Egidos\, 8\, Alalpardo\, Madrid\, 28130\, España
ATTACH;FMTTYPE=image/jpeg:https://www.valdeolmos-alalpardo.org/wp-content/uploads/2022/03/ea216618-8de5-4784-8fdf-c1ac8fcf8867.jpg
END:VEVENT
BEGIN:VEVENT
DTSTART;TZID=Europe/Madrid:20220323T173000
DTEND;TZID=Europe/Madrid:20220323T193000
DTSTAMP:20260423T222137
CREATED:20220321T123527Z
LAST-MODIFIED:20220321T125943Z
UID:28672-1648056600-1648063800@www.valdeolmos-alalpardo.org
SUMMARY:23 de marzo: Taller de reproducción de plantas aromáticas. De 6 a 16 años
DESCRIPTION:23 de marzo: Taller de reproducción de plantas aromáticas en el Aula de la Casa de la Cultura de Alalpardo y vivero municipal.  \nActividad dentro del Proyecto de Dinamización Ambiental para niñ@s y jóvenes de entre 6 y 16 años. De 17:30 a 19:30 horas. Se llevará a cabo entre el Aula de Casa de Cultura de Alalpardo y el Vivero Municipal. \nSe enseñará a reproducir plantas aromáticas autóctonas por estaquillas y esquejes y también a elaborar perfumes. \nEs necesario inscribirse en el 91.6202153 \n 
URL:https://www.valdeolmos-alalpardo.org/evento/23-de-marzo-taller-de-reproduccion-de-plantas-aromaticas-de-6-a-16-anos/
LOCATION:Aula Casa de la Cultura de Alalpardo\, Calle Egidos\, 8\, Alalpardo\, Madrid\, 28130\, España
ATTACH;FMTTYPE=image/jpeg:https://www.valdeolmos-alalpardo.org/wp-content/uploads/2022/03/WhatsApp-Image-2022-03-21-at-1.57.00-PM.jpeg
END:VEVENT
BEGIN:VEVENT
DTSTART;TZID=Europe/Madrid:20220326T120000
DTEND;TZID=Europe/Madrid:20220326T133000
DTSTAMP:20260423T222137
CREATED:20220314T123121Z
LAST-MODIFIED:20220318T122754Z
UID:28621-1648296000-1648301400@www.valdeolmos-alalpardo.org
SUMMARY:26 de marzo: 'ECO'\, dos cómicos atrapados en el escenario del Teatro de la Casa de la Cultura de Alalpardo
DESCRIPTION:Ymedioteatro te presenta su propuesta más personal y vibrante: ECO en el Teatro de la Casa de la Cultura de Alalpardo el 26 de marzo a las 12:00 horas. \nPodría ser la pesadilla recurrente de dos cómicos atrapados en el escenario pero es un baile de metáforas visuales donde queda al descubierto la maraña que ha ido tejiendo su relación. \nEs un función para todos los públicos que parte del festival Teatralia de la Comunidad de Madrid. No te quedes sin entrada. A la venta desde el 18 de marzo en la Casa de Cultura de Alalpardo.  \nPrecio: 3 € \nTeatro de títeres y objetos de lo más divertido. \nCon motivo del inicio de la primavera\, la Concejalía de Medio Ambiente regalará a todos los asistentes a la representación unas semillas para plantar en macetas. Las entregará la Concejal. \n\nECO ya ha sido seleccionado para todos estos grandes eventos: \n\n37a Feria de Palma del Río\, 2020\n32a Fira de Titelles de Lleida\, 2021\nFETEN Gijón\, 2021\nIncanti Torino\, 2021\nMercè Arts de Carrer\, Barcelona\, 2021\nInternationale Kulturbörse Freiburg\, 2022\nPanoptikum Festival Nürnberg\, 2022\nTeatralia Madrid\, 2022\n\nECO «Ser libre\, muchas veces\, no consiste en romper las ataduras sino en convivir con ellas. Mientras lo intentamos\, la vida se repite en un eco que resuena en las paredes de cabezas y corazones. Esta es la pesadilla recurrente de dos cómicos atrapados en el escenario» \nPincha para ver el video promocional: \nhttps://www.youtube.com/watch?v=IqHtDkrUJYI&t=6s \n        \nCARTEL ECO 2022 \n 
URL:https://www.valdeolmos-alalpardo.org/evento/26-de-marzo-eco-dos-comicos-atrapados-en-el-escenario-del-teatro-de-la-casa-de-la-cultura-de-alalpardo/
LOCATION:Teatro Casa de la Cultura de Alalpardo\, C/ Carlos Martín Alvárez 6\, Valdeolmos-Alalpardo\, Madrid\, 28130
ATTACH;FMTTYPE=image/jpeg:https://www.valdeolmos-alalpardo.org/wp-content/uploads/2022/03/CARTEL-ECO-2022_page-0001.jpg
END:VEVENT
BEGIN:VEVENT
DTSTART;TZID=Europe/Madrid:20220326T173000
DTEND;TZID=Europe/Madrid:20220326T193000
DTSTAMP:20260423T222137
CREATED:20220322T231840Z
LAST-MODIFIED:20220322T231840Z
UID:28707-1648315800-1648323000@www.valdeolmos-alalpardo.org
SUMMARY:26 de marzo: Corrida de toros en Alalpardo. Consigue tu entrada
DESCRIPTION:El 26 de marzo se celebrará una corrida de toros en la Plaza de Alalpardo a las 17:30 horas. \nEl Ayuntamiento pone la Plaza de Toros de Alalpardo libremente a disposición del empresario\, organizador de estos festejos. \nEl Ayuntamiento dispone de un paquete de entradas que ha comprado para repartir gratuitamente a los empadronados hasta fin de existencias. Constará de entradas sueltas para cada tarde y/o abonos para ver ambos festejos\, a petición de los vecinos. Podrán reservar las entradas llamando al 91 620 21 53 en horario de 9:00 a 14:00 horas antes del jueves 24 de marzo.  \n  \nCorrida-de-toros-y-novillada-con-picadores-26-y-27-de-marzo
URL:https://www.valdeolmos-alalpardo.org/evento/26-de-marzo-corrida-de-toros-en-alalpardo-consigue-tu-entrada/
LOCATION:Plaza de Toros de Alalpardo
ATTACH;FMTTYPE=image/jpeg:https://www.valdeolmos-alalpardo.org/wp-content/uploads/2022/03/c1a90b5b-22b6-4e59-8519-a2e79b46951a.jpg
END:VEVENT
BEGIN:VEVENT
DTSTART;TZID=Europe/Madrid:20220327T173000
DTEND;TZID=Europe/Madrid:20220327T193000
DTSTAMP:20260423T222137
CREATED:20220322T232207Z
LAST-MODIFIED:20220322T232207Z
UID:28709-1648402200-1648409400@www.valdeolmos-alalpardo.org
SUMMARY:27 de marzo: Novillada con picadores. Consigue tu entrada
DESCRIPTION:El 27 de marzo se celebrará una novillada con picadores en la Plaza de Alalpardo a las 17:30 horas.  \nEl Ayuntamiento pone la Plaza de Toros de Alalpardo libremente a disposición del empresario\, organizador de estos festejos. \nEl Ayuntamiento dispone de un paquete de entradas que ha comprado para repartir gratuitamente a los empadronados hasta fin de existencias. Constará de entradas sueltas para cada tarde y/o abonos para ver ambos festejos\, a petición de los vecinos. Podrán reservar las entradas llamando al 91 620 21 53 en horario de 9:00 a 14:00 horas antes del jueves 24 de marzo. \n       \nCorrida-de-toros-y-novillada-con-picadores-26-y-27-de-marzo
URL:https://www.valdeolmos-alalpardo.org/evento/27-de-marzo-novillada-con-picadores-consigue-tu-entrada/
LOCATION:Plaza de Toros de Alalpardo
ATTACH;FMTTYPE=image/jpeg:https://www.valdeolmos-alalpardo.org/wp-content/uploads/2022/03/d8fd7da9-73f5-4a07-a38a-634d17b87c36.jpg
END:VEVENT
BEGIN:VEVENT
DTSTART;TZID=Europe/Madrid:20220329T100000
DTEND;TZID=Europe/Madrid:20220329T123000
DTSTAMP:20260423T222137
CREATED:20220315T140351Z
LAST-MODIFIED:20220315T140351Z
UID:28639-1648548000-1648557000@www.valdeolmos-alalpardo.org
SUMMARY:29 de marzo: Reunión anual de socios PAEVA
DESCRIPTION:Reunión anual de la Asociación de Pymes\, Autónomos y Empresarios de Valdeolmos-Alalpardo el 29 de marzo.  \nSe convoca a los socios en la Sala de Cristal de la Casa de la Cultura de Alalpardo a las 10:00 horas. \nSe ruega puntualidad.
URL:https://www.valdeolmos-alalpardo.org/evento/29-de-marzo-reunion-anual-de-socios-paeva/
LOCATION:Sala Cristal Casa Cultura Alalpardo\, C/ Egidos 8\, Alalpardo
ATTACH;FMTTYPE=image/jpeg:https://www.valdeolmos-alalpardo.org/wp-content/uploads/2022/03/WhatsApp-Image-2022-03-15-at-12.58.42.jpeg
END:VEVENT
END:VCALENDAR