BEGIN:VCALENDAR
VERSION:2.0
PRODID:-//Ayuntamiento de Valdeolmos-Alalpardo - ECPv6.15.12.2//NONSGML v1.0//EN
CALSCALE:GREGORIAN
METHOD:PUBLISH
X-ORIGINAL-URL:https://www.valdeolmos-alalpardo.org
X-WR-CALDESC:Eventos para Ayuntamiento de Valdeolmos-Alalpardo
REFRESH-INTERVAL;VALUE=DURATION:PT1H
X-Robots-Tag:noindex
X-PUBLISHED-TTL:PT1H
BEGIN:VTIMEZONE
TZID:Europe/Madrid
BEGIN:DAYLIGHT
TZOFFSETFROM:+0100
TZOFFSETTO:+0200
TZNAME:CEST
DTSTART:20170326T010000
END:DAYLIGHT
BEGIN:STANDARD
TZOFFSETFROM:+0200
TZOFFSETTO:+0100
TZNAME:CET
DTSTART:20171029T010000
END:STANDARD
BEGIN:DAYLIGHT
TZOFFSETFROM:+0100
TZOFFSETTO:+0200
TZNAME:CEST
DTSTART:20180325T010000
END:DAYLIGHT
BEGIN:STANDARD
TZOFFSETFROM:+0200
TZOFFSETTO:+0100
TZNAME:CET
DTSTART:20181028T010000
END:STANDARD
BEGIN:DAYLIGHT
TZOFFSETFROM:+0100
TZOFFSETTO:+0200
TZNAME:CEST
DTSTART:20190331T010000
END:DAYLIGHT
BEGIN:STANDARD
TZOFFSETFROM:+0200
TZOFFSETTO:+0100
TZNAME:CET
DTSTART:20191027T010000
END:STANDARD
END:VTIMEZONE
BEGIN:VEVENT
DTSTART;TZID=Europe/Madrid:20180403T103000
DTEND;TZID=Europe/Madrid:20180430T163000
DTSTAMP:20260420T231035
CREATED:20180403T084857Z
LAST-MODIFIED:20180403T084857Z
UID:23635-1522751400-1525105800@www.valdeolmos-alalpardo.org
SUMMARY:Libro del Mes Abril BIBLIOTECA MUNICIPAL DE ALALPARDO
DESCRIPTION:ABRIL 2018. LIBRO DEL MES EN LA BIBLIOTECA MUNICIPAL DE ALALPARDO.\n\n\n \n\n\nTítulo: Idiotizadas\, un cuento de empoderhadas\n\n\nAutor: MODERNA DE PUEBLO (Raquel Córcoles ) \n\n\n \n\n\n¿DE QUÉ VA LA HISTORIA?\n\n\n– Crecimos con cuentos de hadas y acabamos idiotizadas\n\n\n– Como muchas de las mujeres de la generación Disney\, Moderna fue hechizada con idiotizaciones que marcaron su vida desde pequeña.\n\n\n– Le encantaban esos finales felices que acababan en boda y en la promesa del “vivieron felices para siempre”\, aunque pronto se dio cuenta de que eso no era lo que pasaba en la realidad. Su madre\, que había seguido esos pasos\, continuaba siendo la Cenicienta del cuento.\n\n\n– Así que guardó sus preciados cuentos de princesas en el cajón y se prometió no caer en la misma trampa que ella.\n\n\n– Se fue a un lugar muy muy lejano (la gran ciudad) y conoció a sus amigas. Juntas siguieron enfrentándose a las idiotizaciones con las que se topaban día a día.\n\n\n– Y es que\, aunque en el cuento\, a la Bella Durmiente solo la puede despertar un príncipe\, en la vida real suelen ser las mujeres que tienes cerca quienes se encargan de quitarte la venda de los ojos.\n\n\n \n\n\nA DISPOSICIÓN DE LOS USUARIOS EN LA BIBLIOTECA MUNICIPAL DE ALALPARDO.\n\n\nCON CADA LIBRO DEL MES SE PRESENTA EN LA BIBLIOTECA UN DOSSIER DEL AUTOR\, IGUALMENTE A DISPOSICIÓN DEL USUARIO.
URL:https://www.valdeolmos-alalpardo.org/evento/libro-del-mes-abril-biblioteca-municipal-alalpardo-2/
LOCATION:Biblioteca Pública Municipal de Alalpardo\, Travesía de Alcalá\, Alalpardo\, Madrid\, 28130\, España
ATTACH;FMTTYPE=image/jpeg:https://www.valdeolmos-alalpardo.org/wp-content/uploads/Cabecera-Entrada-4-e1522752453880.jpg
ORGANIZER;CN="Ayuntamiento de Alalpardo":MAILTO:ayuntamiento@alalpardo.org
END:VEVENT
BEGIN:VEVENT
DTSTART;TZID=Europe/Madrid:20180403T103000
DTEND;TZID=Europe/Madrid:20180430T163000
DTSTAMP:20260420T231035
CREATED:20180403T084857Z
LAST-MODIFIED:20180403T084857Z
UID:14749-1522751400-1525105800@www.valdeolmos-alalpardo.org
SUMMARY:Libro del Mes Abril BIBLIOTECA MUNICIPAL DE ALALPARDO
DESCRIPTION:ABRIL 2018. LIBRO DEL MES EN LA BIBLIOTECA MUNICIPAL DE ALALPARDO.\n\n\n \n\n\nTítulo: Idiotizadas\, un cuento de empoderhadas\n\n\nAutor: MODERNA DE PUEBLO (Raquel Córcoles ) \n\n\n \n\n\n¿DE QUÉ VA LA HISTORIA?\n\n\n– Crecimos con cuentos de hadas y acabamos idiotizadas\n\n\n– Como muchas de las mujeres de la generación Disney\, Moderna fue hechizada con idiotizaciones que marcaron su vida desde pequeña.\n\n\n– Le encantaban esos finales felices que acababan en boda y en la promesa del “vivieron felices para siempre”\, aunque pronto se dio cuenta de que eso no era lo que pasaba en la realidad. Su madre\, que había seguido esos pasos\, continuaba siendo la Cenicienta del cuento.\n\n\n– Así que guardó sus preciados cuentos de princesas en el cajón y se prometió no caer en la misma trampa que ella.\n\n\n– Se fue a un lugar muy muy lejano (la gran ciudad) y conoció a sus amigas. Juntas siguieron enfrentándose a las idiotizaciones con las que se topaban día a día.\n\n\n– Y es que\, aunque en el cuento\, a la Bella Durmiente solo la puede despertar un príncipe\, en la vida real suelen ser las mujeres que tienes cerca quienes se encargan de quitarte la venda de los ojos.\n\n\n \n\n\nA DISPOSICIÓN DE LOS USUARIOS EN LA BIBLIOTECA MUNICIPAL DE ALALPARDO.\n\n\nCON CADA LIBRO DEL MES SE PRESENTA EN LA BIBLIOTECA UN DOSSIER DEL AUTOR\, IGUALMENTE A DISPOSICIÓN DEL USUARIO.
URL:https://www.valdeolmos-alalpardo.org/evento/libro-del-mes-abril-biblioteca-municipal-alalpardo/
LOCATION:Biblioteca Pública Municipal de Alalpardo\, Travesía de Alcalá\, Alalpardo\, Madrid\, 28130\, España
ATTACH;FMTTYPE=image/jpeg:https://www.valdeolmos-alalpardo.org/wp-content/uploads/Cabecera-Entrada-4-e1522752453880.jpg
ORGANIZER;CN="Ayuntamiento de Alalpardo":MAILTO:ayuntamiento@alalpardo.org
END:VEVENT
BEGIN:VEVENT
DTSTART;TZID=Europe/Madrid:20180412T103000
DTEND;TZID=Europe/Madrid:20180418T210000
DTSTAMP:20260420T231035
CREATED:20180321T163750Z
LAST-MODIFIED:20180321T163750Z
UID:23628-1523529000-1524085200@www.valdeolmos-alalpardo.org
SUMMARY:XXXIII Muestra del Libro Infantil y Juvenil
DESCRIPTION:Vuelve a la Biblioteca Municipal de Alalpardo la MUESTRA DEL LIBRO INFANTIL Y JUVENIL\, alcanzando su XXXIII edición.  \nExposición bibliográfica que se desarrollará del 12 al 18 de abril.\n \n\nLa Muestra del Libro Infantil y Juvenil es una selección de las novedades literarias más destacadas publicadas en el año anterior\, que sirve de guía y ayuda a la hora de valorar y recomendar libros\, convirtiéndose en una herramienta útil para bibliotecarias\, educadores\, padres y madres y\, por supuesto\, los propios lectores.Los libros elegidos corresponden a diversos géneros (narrativa\, poesía\, teatro\, álbum ilustrado\, cómic\, libros informativos\,…) y tramos de edad (de los 0 a los 16 años). \nLa exposición bibliográfica itinerante\, compuesta por los 200 títulos de la Muestra\, recorre a lo largo del año las bibliotecas de Madrid Capital y de los municipios de toda la Comunidad. \n  \nDurante la duración de la muestra la Biblioteca Municipal de Alalpardo permanecerá abierta en el siguiente horario: \nDe lunes a viernes de 8:30 a 14:30 y de 17:00 a 19:00 horas.
URL:https://www.valdeolmos-alalpardo.org/evento/xxxiii-muestra-del-libro-infantil-juvenil-2/
LOCATION:Biblioteca Pública Municipal de Alalpardo\, Travesía de Alcalá\, Alalpardo\, Madrid\, 28130\, España
ATTACH;FMTTYPE=image/jpeg:https://www.valdeolmos-alalpardo.org/wp-content/uploads/Cartel-XXXIII-Muestra-e1521653508206.jpg
ORGANIZER;CN="Ayuntamiento de Alalpardo":MAILTO:ayuntamiento@alalpardo.org
END:VEVENT
BEGIN:VEVENT
DTSTART;TZID=Europe/Madrid:20180412T103000
DTEND;TZID=Europe/Madrid:20180418T210000
DTSTAMP:20260420T231035
CREATED:20180321T163750Z
LAST-MODIFIED:20180321T163750Z
UID:14664-1523529000-1524085200@www.valdeolmos-alalpardo.org
SUMMARY:XXXIII Muestra del Libro Infantil y Juvenil
DESCRIPTION:Vuelve a la Biblioteca Municipal de Alalpardo la MUESTRA DEL LIBRO INFANTIL Y JUVENIL\, alcanzando su XXXIII edición.  \nExposición bibliográfica que se desarrollará del 12 al 18 de abril.\n \n\nLa Muestra del Libro Infantil y Juvenil es una selección de las novedades literarias más destacadas publicadas en el año anterior\, que sirve de guía y ayuda a la hora de valorar y recomendar libros\, convirtiéndose en una herramienta útil para bibliotecarias\, educadores\, padres y madres y\, por supuesto\, los propios lectores.Los libros elegidos corresponden a diversos géneros (narrativa\, poesía\, teatro\, álbum ilustrado\, cómic\, libros informativos\,…) y tramos de edad (de los 0 a los 16 años). \nLa exposición bibliográfica itinerante\, compuesta por los 200 títulos de la Muestra\, recorre a lo largo del año las bibliotecas de Madrid Capital y de los municipios de toda la Comunidad. \n  \nDurante la duración de la muestra la Biblioteca Municipal de Alalpardo permanecerá abierta en el siguiente horario: \nDe lunes a viernes de 8:30 a 14:30 y de 17:00 a 19:00 horas.
URL:https://www.valdeolmos-alalpardo.org/evento/xxxiii-muestra-del-libro-infantil-juvenil/
LOCATION:Biblioteca Pública Municipal de Alalpardo\, Travesía de Alcalá\, Alalpardo\, Madrid\, 28130\, España
ATTACH;FMTTYPE=image/jpeg:https://www.valdeolmos-alalpardo.org/wp-content/uploads/Cartel-XXXIII-Muestra-e1521653508206.jpg
ORGANIZER;CN="Ayuntamiento de Alalpardo":MAILTO:ayuntamiento@alalpardo.org
END:VEVENT
BEGIN:VEVENT
DTSTART;TZID=Europe/Madrid:20180412T200000
DTEND;TZID=Europe/Madrid:20180412T213000
DTSTAMP:20260420T231035
CREATED:20180321T161431Z
LAST-MODIFIED:20180321T161431Z
UID:23626-1523563200-1523568600@www.valdeolmos-alalpardo.org
SUMMARY:CUENTACUENTOS - Presentación de la XXXIII Muestra del Libro Infantil y Juvenil
DESCRIPTION:El próximo día 12 de abril se realizará un CUENTACUENTOS en el Teatro de la Casa de la Cultura de Alalpardo. \nActividad que se desarrolla dentro de la XXXIII Muestra del Libro Infantil y Juvenil para fomentar la lectura. El cuentacuentos está indicado para niños entre edades de 0 a 16 años. \n  \n 
URL:https://www.valdeolmos-alalpardo.org/evento/cuentacuentos-presentacion-la-xxxiii-muestra-del-libro-infantil-juvenil-2/
LOCATION:Casa de Cultura de Alalpardo\, C/ Ejidos\, 8\, Alalpardo\, Madrid\, 28130\, España
ATTACH;FMTTYPE=image/jpeg:https://www.valdeolmos-alalpardo.org/wp-content/uploads/Cuentacuentos-XXXIII-Muestra-del-Libro-e1521652165240.jpg
ORGANIZER;CN="Ayuntamiento de Alalpardo":MAILTO:ayuntamiento@alalpardo.org
END:VEVENT
BEGIN:VEVENT
DTSTART;TZID=Europe/Madrid:20180412T200000
DTEND;TZID=Europe/Madrid:20180412T213000
DTSTAMP:20260420T231035
CREATED:20180321T161431Z
LAST-MODIFIED:20180411T081200Z
UID:14657-1523563200-1523568600@www.valdeolmos-alalpardo.org
SUMMARY:CUENTACUENTOS - Presentación de la XXXIII Muestra del Libro Infantil y Juvenil
DESCRIPTION:El próximo día 12 de abril se realizará un CUENTACUENTOS en el Teatro de la Casa de la Cultura de Alalpardo. \nActividad que se desarrolla dentro de la XXXIII Muestra del Libro Infantil y Juvenil para fomentar la lectura. El cuentacuentos está indicado para niños entre edades de 0 a 16 años. \n  \n 
URL:https://www.valdeolmos-alalpardo.org/evento/cuentacuentos-presentacion-la-xxxiii-muestra-del-libro-infantil-juvenil/
LOCATION:Casa de Cultura de Alalpardo\, C/ Ejidos\, 8\, Alalpardo\, Madrid\, 28130\, España
ATTACH;FMTTYPE=image/jpeg:https://www.valdeolmos-alalpardo.org/wp-content/uploads/Cuentacuentos-XXXIII-Muestra-del-Libro-e1521652165240.jpg
ORGANIZER;CN="Ayuntamiento de Alalpardo":MAILTO:ayuntamiento@alalpardo.org
END:VEVENT
BEGIN:VEVENT
DTSTART;TZID=Europe/Madrid:20180414T200000
DTEND;TZID=Europe/Madrid:20180414T210000
DTSTAMP:20260420T231035
CREATED:20180321T162625Z
LAST-MODIFIED:20180321T162625Z
UID:23627-1523736000-1523739600@www.valdeolmos-alalpardo.org
SUMMARY:Historia de un calcetín - TEATRALIA
DESCRIPTION:Ton y Tin Son un par de calcetines inseparables.\nDonde está Tin está Ton y donde esta Ton está Tin.\nDesde pequeños han crecido juntos compartiendo risas aventuras y travesuras.\nUn buen día Ton desaparece y Tin debe emprender un viaje en su búsqueda\, un viaje lleno de sorpresas que lo llevará a rincones insospechados.\nCalcetines\, sábanas\, pantalones\, fregonas\, escobas\, planchas y otros objetos cotidianos dan vida a la nueva creación de La Canica\, su propuesta teatral más divertida y desenfadada.
URL:https://www.valdeolmos-alalpardo.org/evento/historia-calcetin-teatralia-2/
LOCATION:Casa de Cultura de Alalpardo\, C/ Ejidos\, 8\, Alalpardo\, Madrid\, 28130\, España
ATTACH;FMTTYPE=image/jpeg:https://www.valdeolmos-alalpardo.org/wp-content/uploads/Cartel-HISTORIA-DE-UN-CALCETÍN-e1522738083372.jpg
ORGANIZER;CN="Ayuntamiento de Alalpardo":MAILTO:ayuntamiento@alalpardo.org
END:VEVENT
BEGIN:VEVENT
DTSTART;TZID=Europe/Madrid:20180414T200000
DTEND;TZID=Europe/Madrid:20180414T210000
DTSTAMP:20260420T231035
CREATED:20180321T162625Z
LAST-MODIFIED:20180403T045258Z
UID:14661-1523736000-1523739600@www.valdeolmos-alalpardo.org
SUMMARY:Historia de un calcetín - TEATRALIA
DESCRIPTION:Ton y Tin Son un par de calcetines inseparables.\nDonde está Tin está Ton y donde esta Ton está Tin.\nDesde pequeños han crecido juntos compartiendo risas aventuras y travesuras.\nUn buen día Ton desaparece y Tin debe emprender un viaje en su búsqueda\, un viaje lleno de sorpresas que lo llevará a rincones insospechados.\nCalcetines\, sábanas\, pantalones\, fregonas\, escobas\, planchas y otros objetos cotidianos dan vida a la nueva creación de La Canica\, su propuesta teatral más divertida y desenfadada.
URL:https://www.valdeolmos-alalpardo.org/evento/historia-calcetin-teatralia/
LOCATION:Casa de Cultura de Alalpardo\, C/ Ejidos\, 8\, Alalpardo\, Madrid\, 28130\, España
ATTACH;FMTTYPE=image/jpeg:https://www.valdeolmos-alalpardo.org/wp-content/uploads/Cartel-HISTORIA-DE-UN-CALCETÍN-e1522738083372.jpg
ORGANIZER;CN="Ayuntamiento de Alalpardo":MAILTO:ayuntamiento@alalpardo.org
END:VEVENT
BEGIN:VEVENT
DTSTART;TZID=Europe/Madrid:20180420T140000
DTEND;TZID=Europe/Madrid:20180420T170000
DTSTAMP:20260420T231035
CREATED:20180413T093048Z
LAST-MODIFIED:20180413T093048Z
UID:23637-1524232800-1524243600@www.valdeolmos-alalpardo.org
SUMMARY:Presentación del III TORNEO DE FÚTBOL CADETE VICENTE DEL BOSQUE.
DESCRIPTION:El Torneo de Fútbol Cadete masculino Vicente del Bosque que se celebra en la localidad madrileña de Alalpardo llega a su tercera edición\, con las fechas confirmadas: 29\, 30 de abril y 1 de mayo. \nEl torneo nació con la finalidad de dar cabida a una competición de fútbol cadete de alta calidad como homenaje al ex-seleccionador Nacional de Fútbol y campeón del mundo\, Don Vicente del Bosque.  \nDespués del éxito deportivo en las dos primeras ediciones\, renovamos la ilusión y pasamos de ocho a trece equipos en el listado de participantes. También abrimos las puertas a otros clubes nacionales e internacionales. De esta forma el Sevilla F.C. y el Evergrande F.S. (China) se incorporan a la lista de participantes: \nClub Atlético de Madrid\, Sevilla F.C.\, Getafe C.F.\, Rayo Vallecano de Madrid\, C. D. Leganés\, A. D. Alcorcón\, A.C. Intersoccer\, Las Rozas C.F.\, E.D. Pinto\, E.F. Brunete\, ADEPO Palomeras\, C.F. Alalpardo y Evergrande F.S. (Guangzhou). \nOtra importante novedad es la creación del I Torneo Femenino Vicente del Bosque que disputarán el día 1 de mayo\, en las mismas instalaciones\, siendo los equipos del Rayo Vallecano de Madrid y un combinado de Las Rozas C.F. y el C.F. Alalpardo los que disputarán esta primera edición. \nLa presentación oficial del Torneo tendrá lugar en la Casa de la Cultura de Alalpardo\, el viernes 20 de Abril\, a las 12:00 horas y contará con  la presencia del ex seleccionador nacional\, Vicente del Bosque\, el alcalde de Valdeomos-Alalpardo\, Miguel Ángel Medranda y varias personalidades del mundo del deporte. \nAl igual que el año pasado el Excmo. Ayuntamiento cuenta con la inestimable ayuda de A.C. Intersoccer Madrid\, la entidad Play Out Gestión Deportiva y el C.F. Alalpardo para la organización del mismo. \nEl torneo recibe el apoyo institucional de la Real Federación de Fútbol de Madrid y la colaboración de la Comunidad de Madrid.
URL:https://www.valdeolmos-alalpardo.org/evento/presentacion-del-iii-torneo-futbol-cadete-vicente-del-bosque-2/
LOCATION:Casa de Cultura de Alalpardo\, C/ Ejidos\, 8\, Alalpardo\, Madrid\, 28130\, España
ATTACH;FMTTYPE=image/jpeg:https://www.valdeolmos-alalpardo.org/wp-content/uploads/Presentación-III-Torneo-de-Futbol-e1523618894581.jpg
END:VEVENT
BEGIN:VEVENT
DTSTART;TZID=Europe/Madrid:20180420T140000
DTEND;TZID=Europe/Madrid:20180420T170000
DTSTAMP:20260420T231035
CREATED:20180413T093048Z
LAST-MODIFIED:20180413T093048Z
UID:14805-1524232800-1524243600@www.valdeolmos-alalpardo.org
SUMMARY:Presentación del III TORNEO DE FÚTBOL CADETE VICENTE DEL BOSQUE.
DESCRIPTION:El Torneo de Fútbol Cadete masculino Vicente del Bosque que se celebra en la localidad madrileña de Alalpardo llega a su tercera edición\, con las fechas confirmadas: 29\, 30 de abril y 1 de mayo. \nEl torneo nació con la finalidad de dar cabida a una competición de fútbol cadete de alta calidad como homenaje al ex-seleccionador Nacional de Fútbol y campeón del mundo\, Don Vicente del Bosque.  \nDespués del éxito deportivo en las dos primeras ediciones\, renovamos la ilusión y pasamos de ocho a trece equipos en el listado de participantes. También abrimos las puertas a otros clubes nacionales e internacionales. De esta forma el Sevilla F.C. y el Evergrande F.S. (China) se incorporan a la lista de participantes: \nClub Atlético de Madrid\, Sevilla F.C.\, Getafe C.F.\, Rayo Vallecano de Madrid\, C. D. Leganés\, A. D. Alcorcón\, A.C. Intersoccer\, Las Rozas C.F.\, E.D. Pinto\, E.F. Brunete\, ADEPO Palomeras\, C.F. Alalpardo y Evergrande F.S. (Guangzhou). \nOtra importante novedad es la creación del I Torneo Femenino Vicente del Bosque que disputarán el día 1 de mayo\, en las mismas instalaciones\, siendo los equipos del Rayo Vallecano de Madrid y un combinado de Las Rozas C.F. y el C.F. Alalpardo los que disputarán esta primera edición. \nLa presentación oficial del Torneo tendrá lugar en la Casa de la Cultura de Alalpardo\, el viernes 20 de Abril\, a las 12:00 horas y contará con  la presencia del ex seleccionador nacional\, Vicente del Bosque\, el alcalde de Valdeomos-Alalpardo\, Miguel Ángel Medranda y varias personalidades del mundo del deporte. \nAl igual que el año pasado el Excmo. Ayuntamiento cuenta con la inestimable ayuda de A.C. Intersoccer Madrid\, la entidad Play Out Gestión Deportiva y el C.F. Alalpardo para la organización del mismo. \nEl torneo recibe el apoyo institucional de la Real Federación de Fútbol de Madrid y la colaboración de la Comunidad de Madrid.
URL:https://www.valdeolmos-alalpardo.org/evento/presentacion-del-iii-torneo-futbol-cadete-vicente-del-bosque/
LOCATION:Casa de Cultura de Alalpardo\, C/ Ejidos\, 8\, Alalpardo\, Madrid\, 28130\, España
ATTACH;FMTTYPE=image/jpeg:https://www.valdeolmos-alalpardo.org/wp-content/uploads/Presentación-III-Torneo-de-Futbol-e1523618894581.jpg
END:VEVENT
BEGIN:VEVENT
DTSTART;TZID=Europe/Madrid:20180420T223000
DTEND;TZID=Europe/Madrid:20180422T210000
DTSTAMP:20260420T231035
CREATED:20180322T092115Z
LAST-MODIFIED:20180322T092115Z
UID:23631-1524263400-1524430800@www.valdeolmos-alalpardo.org
SUMMARY:FERIA DE ABRIL DE ALALPARDO
DESCRIPTION:¡Se acerca la FERIA de ABRIL de ALALPARDO! \nLos días 20\, 21 y 22 de abril ven a disfrutar de un fin de semana en el que habrá bailes rocieros\, flamenco\, muchas sevillanas y ambiente de feria\, además del Gran Espectáculo Ecuestre ‘El Arte de Andalucía a caballo’ de Carmelo Cuevas\, en la Plaza de Toros de Alalpardo. \n¡¡TE ESPERAMOS!! \nSi quieres consultar la programación pincha aquí. \n 
URL:https://www.valdeolmos-alalpardo.org/evento/feria-abril-alalpardo-2-2/
LOCATION:Patio de Caballos\, C/ Alcalá 21\, Alalpardo\, 28130
ATTACH;FMTTYPE=image/jpeg:https://www.valdeolmos-alalpardo.org/wp-content/uploads/Cartel-Feria-de-Abril-e1521713681181.jpg
ORGANIZER;CN="Ayuntamiento de Alalpardo":MAILTO:ayuntamiento@alalpardo.org
END:VEVENT
BEGIN:VEVENT
DTSTART;TZID=Europe/Madrid:20180420T223000
DTEND;TZID=Europe/Madrid:20180422T210000
DTSTAMP:20260420T231035
CREATED:20180322T092115Z
LAST-MODIFIED:20180322T094615Z
UID:14683-1524263400-1524430800@www.valdeolmos-alalpardo.org
SUMMARY:FERIA DE ABRIL DE ALALPARDO
DESCRIPTION:¡Se acerca la FERIA de ABRIL de ALALPARDO! \nLos días 20\, 21 y 22 de abril ven a disfrutar de un fin de semana en el que habrá bailes rocieros\, flamenco\, muchas sevillanas y ambiente de feria\, además del Gran Espectáculo Ecuestre ‘El Arte de Andalucía a caballo’ de Carmelo Cuevas\, en la Plaza de Toros de Alalpardo. \n¡¡TE ESPERAMOS!! \nSi quieres consultar la programación pincha aquí. \n 
URL:https://www.valdeolmos-alalpardo.org/evento/feria-abril-alalpardo-2/
LOCATION:Patio de Caballos\, C/ Alcalá 21\, Alalpardo\, 28130
ATTACH;FMTTYPE=image/jpeg:https://www.valdeolmos-alalpardo.org/wp-content/uploads/Cartel-Feria-de-Abril-e1521713681181.jpg
ORGANIZER;CN="Ayuntamiento de Alalpardo":MAILTO:ayuntamiento@alalpardo.org
END:VEVENT
BEGIN:VEVENT
DTSTART;TZID=Europe/Madrid:20180421T200000
DTEND;TZID=Europe/Madrid:20180421T220000
DTSTAMP:20260420T231035
CREATED:20180323T104545Z
LAST-MODIFIED:20180323T104545Z
UID:14710-1524340800-1524348000@www.valdeolmos-alalpardo.org
SUMMARY:Espectáculo ecuestre "EL ARTE DE ANDALUCÍA A CABALLO" de Carmelo Cuevas
DESCRIPTION:Día 21 de abril a las seis de la tarde llega a Alalpardo\, el Gran espectáculo ‘El Arte de Andalucía a caballo’ de Carmelo Cuevas\, que fusiona caballos\, flamenco y baile… \nEscenas de gran belleza\, realizando ejercicios de alta escuela como el paso español\, las corvetas y las riendas\, entre otros. \nRecuerda el 21 de abril a las 18:00 en la plaza de toros de Alalpardo. \nEntrada libre hasta completar aforo. \n 
URL:https://www.valdeolmos-alalpardo.org/evento/espectaculo-ecuestre-arte-andalucia-caballo-carmelo-cuevas/
LOCATION:Plaza de Toros de Alalpardo
ATTACH;FMTTYPE=image/jpeg:https://www.valdeolmos-alalpardo.org/wp-content/uploads/Cartel-espectáculo-Ecuestre-e1521805488708.jpg
ORGANIZER;CN="Ayuntamiento de Alalpardo":MAILTO:ayuntamiento@alalpardo.org
END:VEVENT
BEGIN:VEVENT
DTSTART;TZID=Europe/Madrid:20180421T200000
DTEND;TZID=Europe/Madrid:20180421T220000
DTSTAMP:20260420T231035
CREATED:20180323T104545Z
LAST-MODIFIED:20180323T104545Z
UID:23634-1524340800-1524348000@www.valdeolmos-alalpardo.org
SUMMARY:Espectáculo ecuestre "EL ARTE DE ANDALUCÍA A CABALLO" de Carmelo Cuevas
DESCRIPTION:Día 21 de abril a las seis de la tarde llega a Alalpardo\, el Gran espectáculo ‘El Arte de Andalucía a caballo’ de Carmelo Cuevas\, que fusiona caballos\, flamenco y baile… \nEscenas de gran belleza\, realizando ejercicios de alta escuela como el paso español\, las corvetas y las riendas\, entre otros. \nRecuerda el 21 de abril a las 18:00 en la plaza de toros de Alalpardo. \nEntrada libre hasta completar aforo. \n 
URL:https://www.valdeolmos-alalpardo.org/evento/espectaculo-ecuestre-arte-andalucia-caballo-carmelo-cuevas-2/
LOCATION:Plaza de Toros de Alalpardo
ATTACH;FMTTYPE=image/jpeg:https://www.valdeolmos-alalpardo.org/wp-content/uploads/Cartel-espectáculo-Ecuestre-e1521805488708.jpg
ORGANIZER;CN="Ayuntamiento de Alalpardo":MAILTO:ayuntamiento@alalpardo.org
END:VEVENT
END:VCALENDAR