BEGIN:VCALENDAR
VERSION:2.0
PRODID:-//Ayuntamiento de Valdeolmos-Alalpardo - ECPv6.15.12.2//NONSGML v1.0//EN
CALSCALE:GREGORIAN
METHOD:PUBLISH
X-ORIGINAL-URL:https://www.valdeolmos-alalpardo.org
X-WR-CALDESC:Eventos para Ayuntamiento de Valdeolmos-Alalpardo
REFRESH-INTERVAL;VALUE=DURATION:PT1H
X-Robots-Tag:noindex
X-PUBLISHED-TTL:PT1H
BEGIN:VTIMEZONE
TZID:Europe/Madrid
BEGIN:DAYLIGHT
TZOFFSETFROM:+0100
TZOFFSETTO:+0200
TZNAME:CEST
DTSTART:20170326T010000
END:DAYLIGHT
BEGIN:STANDARD
TZOFFSETFROM:+0200
TZOFFSETTO:+0100
TZNAME:CET
DTSTART:20171029T010000
END:STANDARD
BEGIN:DAYLIGHT
TZOFFSETFROM:+0100
TZOFFSETTO:+0200
TZNAME:CEST
DTSTART:20180325T010000
END:DAYLIGHT
BEGIN:STANDARD
TZOFFSETFROM:+0200
TZOFFSETTO:+0100
TZNAME:CET
DTSTART:20181028T010000
END:STANDARD
BEGIN:DAYLIGHT
TZOFFSETFROM:+0100
TZOFFSETTO:+0200
TZNAME:CEST
DTSTART:20190331T010000
END:DAYLIGHT
BEGIN:STANDARD
TZOFFSETFROM:+0200
TZOFFSETTO:+0100
TZNAME:CET
DTSTART:20191027T010000
END:STANDARD
END:VTIMEZONE
BEGIN:VEVENT
DTSTART;TZID=Europe/Madrid:20180201T093000
DTEND;TZID=Europe/Madrid:20180228T200000
DTSTAMP:20260422T101950
CREATED:20180206T085316Z
LAST-MODIFIED:20180206T094535Z
UID:14438-1517477400-1519848000@www.valdeolmos-alalpardo.org
SUMMARY:Libro del Mes Febrero BIBLIOTECA MUNICIPAL DE ALALPARDO
DESCRIPTION:LIBRO DEL MES – FEBRERO \n Título: CINCUENTA MOMENTOS LITERARIOS (2017) \nAutor: Antonio G. Iturbe. \nCincuenta momentos literarios narra sucesos reales que parecen fabulaciones de los propios escritores que los protagonizaron. Son medio centenar de anécdotas divertidas\, inquietantes\, paradójicas o trágicas que retratan a los grandes autores en momentos claves de su vida. \nUn libro artístico que muestra una aproximación a la literatura de todos los tiempos. El crítico Antonio G. Iturbe propone unos textos personales que nos acercan a 50 momentos capitales de la literatura: desde los poetas mesopotámicos hasta nuestros días. Jordi Lafebre ilustra estos momentos y les otorga color. Del diálogo entre crítico e ilustrador surge un libro espectacular\, donde el principito de Saint-Exúpery comparte espacio con Shakespeare\, Ovidio\, Woolf o García Márquez. Un libro que humaniza a los escritores y escritoras de todos los tiempos. \n 
URL:https://www.valdeolmos-alalpardo.org/evento/libro-del-mes-febrero-biblioteca-municipal-alalpardo/
LOCATION:Biblioteca Pública Municipal de Alalpardo\, Travesía de Alcalá\, Alalpardo\, Madrid\, 28130\, España
ATTACH;FMTTYPE=image/jpeg:https://www.valdeolmos-alalpardo.org/wp-content/uploads/Cabecera-Entrada-EVENTO-1.jpg
ORGANIZER;CN="Ayuntamiento de Alalpardo":MAILTO:ayuntamiento@alalpardo.org
END:VEVENT
BEGIN:VEVENT
DTSTART;TZID=Europe/Madrid:20180201T093000
DTEND;TZID=Europe/Madrid:20180228T200000
DTSTAMP:20260422T101950
CREATED:20180206T085316Z
LAST-MODIFIED:20180206T085316Z
UID:23611-1517477400-1519848000@www.valdeolmos-alalpardo.org
SUMMARY:Libro del Mes Febrero BIBLIOTECA MUNICIPAL DE ALALPARDO
DESCRIPTION:LIBRO DEL MES – FEBRERO \n Título: CINCUENTA MOMENTOS LITERARIOS (2017) \nAutor: Antonio G. Iturbe. \nCincuenta momentos literarios narra sucesos reales que parecen fabulaciones de los propios escritores que los protagonizaron. Son medio centenar de anécdotas divertidas\, inquietantes\, paradójicas o trágicas que retratan a los grandes autores en momentos claves de su vida. \nUn libro artístico que muestra una aproximación a la literatura de todos los tiempos. El crítico Antonio G. Iturbe propone unos textos personales que nos acercan a 50 momentos capitales de la literatura: desde los poetas mesopotámicos hasta nuestros días. Jordi Lafebre ilustra estos momentos y les otorga color. Del diálogo entre crítico e ilustrador surge un libro espectacular\, donde el principito de Saint-Exúpery comparte espacio con Shakespeare\, Ovidio\, Woolf o García Márquez. Un libro que humaniza a los escritores y escritoras de todos los tiempos. \n 
URL:https://www.valdeolmos-alalpardo.org/evento/libro-del-mes-febrero-biblioteca-municipal-alalpardo-2/
LOCATION:Biblioteca Pública Municipal de Alalpardo\, Travesía de Alcalá\, Alalpardo\, Madrid\, 28130\, España
ATTACH;FMTTYPE=image/jpeg:https://www.valdeolmos-alalpardo.org/wp-content/uploads/Cabecera-Entrada-EVENTO-1.jpg
ORGANIZER;CN="Ayuntamiento de Alalpardo":MAILTO:ayuntamiento@alalpardo.org
END:VEVENT
BEGIN:VEVENT
DTSTART;TZID=Europe/Madrid:20180202T203000
DTEND;TZID=Europe/Madrid:20180204T153000
DTSTAMP:20260422T101950
CREATED:20180201T070241Z
LAST-MODIFIED:20180201T070908Z
UID:14401-1517603400-1517758200@www.valdeolmos-alalpardo.org
SUMMARY:Hermandad de SANTA ÁGUEDA Fiestas 2018
DESCRIPTION:Para consultar la programación que se realizará por las Fiestas de Santa Águeda pulsa aquí.  \n\n 
URL:https://www.valdeolmos-alalpardo.org/evento/hermandad-santa-agueda-fiestas-2018/
LOCATION:Valdeolmos-Alalpardo\, Valdeolmos-Alalpardo\, Madrid\, 28130\, España
ATTACH;FMTTYPE=image/jpeg:https://www.valdeolmos-alalpardo.org/wp-content/uploads/Virgen-e1517472065251.jpg
END:VEVENT
BEGIN:VEVENT
DTSTART;TZID=Europe/Madrid:20180202T203000
DTEND;TZID=Europe/Madrid:20180204T153000
DTSTAMP:20260422T101950
CREATED:20180201T070241Z
LAST-MODIFIED:20180201T070241Z
UID:23610-1517603400-1517758200@www.valdeolmos-alalpardo.org
SUMMARY:Hermandad de SANTA ÁGUEDA Fiestas 2018
DESCRIPTION:Para consultar la programación que se realizará por las Fiestas de Santa Águeda pulsa aquí.  \n\n 
URL:https://www.valdeolmos-alalpardo.org/evento/hermandad-santa-agueda-fiestas-2018-2/
LOCATION:Valdeolmos-Alalpardo\, Valdeolmos-Alalpardo\, Madrid\, 28130\, España
ATTACH;FMTTYPE=image/jpeg:https://www.valdeolmos-alalpardo.org/wp-content/uploads/Virgen-e1517472065251.jpg
END:VEVENT
BEGIN:VEVENT
DTSTART;TZID=Europe/Madrid:20180203T210000
DTEND;TZID=Europe/Madrid:20180203T223000
DTSTAMP:20260422T101950
CREATED:20180110T122310Z
LAST-MODIFIED:20180110T140443Z
UID:14242-1517691600-1517697000@www.valdeolmos-alalpardo.org
SUMMARY:TEATRO Brujas de la Compañía Lolita Corina
DESCRIPTION:En el inicio de 2018 el Ayuntamiento de Valdeolmos-Alalpardo abre su programación cultural con la obra de Teatro BRUJAS\, de la Compañía Lolita Corina. \nEsta obra está recomendada para mayores de 12 años acompañados de un adulto. \nSinópsis:\nUna muerte accidental\, la consulta de una bruja\, un cuadro… a veces solo hace falta un pequeño empujón para que poderes ocultos se manifiesten.\nBruja Lula\, una bruja visionaria entre las visionarias se encargará de adentrar a Dora\, viuda\ndesconsolada entre las desconsoladas\, en el mundo de lo sobrenatural\, pero nada es lo que parece… a veces las brujas están donde menos esperas…\nEs la hora de Brujas … abre tus sentidos\, déjate llevar.\nEs la hora de Brujas … no tengas miedo no te dolerá.\nEs la hora de Brujas … nunca las olvidarás. \nPincha sobre el vídeo para ver el trailer de la obra:
URL:https://www.valdeolmos-alalpardo.org/evento/teatro-brujas-la-compania-lolita-corina/
LOCATION:Casa de Cultura de Alalpardo\, C/ Ejidos\, 8\, Alalpardo\, Madrid\, 28130\, España
ATTACH;FMTTYPE=image/jpeg:https://www.valdeolmos-alalpardo.org/wp-content/uploads/Cartel_BRUJAS.jpg
ORGANIZER;CN="Ayuntamiento de Alalpardo":MAILTO:ayuntamiento@alalpardo.org
END:VEVENT
BEGIN:VEVENT
DTSTART;TZID=Europe/Madrid:20180203T210000
DTEND;TZID=Europe/Madrid:20180203T223000
DTSTAMP:20260422T101950
CREATED:20180110T122310Z
LAST-MODIFIED:20180110T122310Z
UID:23604-1517691600-1517697000@www.valdeolmos-alalpardo.org
SUMMARY:TEATRO Brujas de la Compañía Lolita Corina
DESCRIPTION:En el inicio de 2018 el Ayuntamiento de Valdeolmos-Alalpardo abre su programación cultural con la obra de Teatro BRUJAS\, de la Compañía Lolita Corina. \nEsta obra está recomendada para mayores de 12 años acompañados de un adulto. \nSinópsis:\nUna muerte accidental\, la consulta de una bruja\, un cuadro… a veces solo hace falta un pequeño empujón para que poderes ocultos se manifiesten.\nBruja Lula\, una bruja visionaria entre las visionarias se encargará de adentrar a Dora\, viuda\ndesconsolada entre las desconsoladas\, en el mundo de lo sobrenatural\, pero nada es lo que parece… a veces las brujas están donde menos esperas…\nEs la hora de Brujas … abre tus sentidos\, déjate llevar.\nEs la hora de Brujas … no tengas miedo no te dolerá.\nEs la hora de Brujas … nunca las olvidarás. \nPincha sobre el vídeo para ver el trailer de la obra:
URL:https://www.valdeolmos-alalpardo.org/evento/teatro-brujas-la-compania-lolita-corina-2/
LOCATION:Casa de Cultura de Alalpardo\, C/ Ejidos\, 8\, Alalpardo\, Madrid\, 28130\, España
ATTACH;FMTTYPE=image/jpeg:https://www.valdeolmos-alalpardo.org/wp-content/uploads/Cartel_BRUJAS.jpg
ORGANIZER;CN="Ayuntamiento de Alalpardo":MAILTO:ayuntamiento@alalpardo.org
END:VEVENT
BEGIN:VEVENT
DTSTART;TZID=Europe/Madrid:20180203T213000
DTEND;TZID=Europe/Madrid:20180203T230000
DTSTAMP:20260422T101950
CREATED:20180111T074511Z
LAST-MODIFIED:20180117T113023Z
UID:14238-1517693400-1517698800@www.valdeolmos-alalpardo.org
SUMMARY:CONCIERTO del Grupo Vocal "Artis Voces" de Alalpardo
DESCRIPTION:Imágenes y Voces \n¿Un concierto con imágenes? ¿Una película con sonidos en vivo y en directo? ¿Un deseo de hacer visible un pensamiento o un simple divertimento irreflexivo? \nNo hay clara respuesta y solo una conclusión: El grupo vocal y todos los intervinientes lo han pasado bien y les ha sorprendido su propia personalidad dramática o disparatada\, que aparece con trazas de película o de documental\, ilustrando realidades y músicas universales. \nConstruyen la invisibilidad del Coro rememorando a micro-escala de pueblo castellano\, el Wagner de Beyreuth. \nPrometen que su próximo proyecto (cimentado en el deseable éxito del presente trabajo)\, permita llegar a imaginar\, desde una cierta lejanía\, a los espectáculos con esa fantasía mediterránea de “La Fura dels Baus” y el “Amor Brujo” de Falla. \nEste es también un llamamiento público para apuntarse a los nuevos enredos culturales con Coro. \nEsta es una oportunidad para hacer cosas que alguna vez pensaste hacer y nunca diste el último paso. \nPrograma: \n Ch. Aznavour. J´atteindrai\n C. Portillo. Contigo en la distancia\n A. Lloyd Webber y R. Stilgoe. Fantasma de la Ópera\n G. Miller y Mitchell Parish. Moonlight Serenade\n A. Piazzolla. Tango\, Tango\n Paul Anka. Put your head on my shoulder\n Vinicius de Moraes y Tom Sobin. La garota de Ipanema\n A. Boubil y C. M. Schönberg. Los miserables\n E. Clapton y W. Jennings. Thears from heaven\n Leonard Cohen. Aleluya\n Palabras de un saxo barítono con coro.
URL:https://www.valdeolmos-alalpardo.org/evento/concierto-del-grupo-vocal-artis-voces-alalpardo/
LOCATION:Sala Al Artis\, Calle Egidos\, 8\, Valdeolmos-Alalpardo\, Madrid\, 28130\, España
ATTACH;FMTTYPE=image/jpeg:https://www.valdeolmos-alalpardo.org/wp-content/uploads/Concierto-Artis-Voces-e1515583727123.jpeg
ORGANIZER;CN="Ayuntamiento de Alalpardo":MAILTO:ayuntamiento@alalpardo.org
END:VEVENT
BEGIN:VEVENT
DTSTART;TZID=Europe/Madrid:20180203T213000
DTEND;TZID=Europe/Madrid:20180203T230000
DTSTAMP:20260422T101950
CREATED:20180111T074511Z
LAST-MODIFIED:20180111T074511Z
UID:23603-1517693400-1517698800@www.valdeolmos-alalpardo.org
SUMMARY:CONCIERTO del Grupo Vocal "Artis Voces" de Alalpardo
DESCRIPTION:Imágenes y Voces \n¿Un concierto con imágenes? ¿Una película con sonidos en vivo y en directo? ¿Un deseo de hacer visible un pensamiento o un simple divertimento irreflexivo? \nNo hay clara respuesta y solo una conclusión: El grupo vocal y todos los intervinientes lo han pasado bien y les ha sorprendido su propia personalidad dramática o disparatada\, que aparece con trazas de película o de documental\, ilustrando realidades y músicas universales. \nConstruyen la invisibilidad del Coro rememorando a micro-escala de pueblo castellano\, el Wagner de Beyreuth. \nPrometen que su próximo proyecto (cimentado en el deseable éxito del presente trabajo)\, permita llegar a imaginar\, desde una cierta lejanía\, a los espectáculos con esa fantasía mediterránea de “La Fura dels Baus” y el “Amor Brujo” de Falla. \nEste es también un llamamiento público para apuntarse a los nuevos enredos culturales con Coro. \nEsta es una oportunidad para hacer cosas que alguna vez pensaste hacer y nunca diste el último paso. \nPrograma: \n Ch. Aznavour. J´atteindrai\n C. Portillo. Contigo en la distancia\n A. Lloyd Webber y R. Stilgoe. Fantasma de la Ópera\n G. Miller y Mitchell Parish. Moonlight Serenade\n A. Piazzolla. Tango\, Tango\n Paul Anka. Put your head on my shoulder\n Vinicius de Moraes y Tom Sobin. La garota de Ipanema\n A. Boubil y C. M. Schönberg. Los miserables\n E. Clapton y W. Jennings. Thears from heaven\n Leonard Cohen. Aleluya\n Palabras de un saxo barítono con coro.
URL:https://www.valdeolmos-alalpardo.org/evento/concierto-del-grupo-vocal-artis-voces-alalpardo-2/
LOCATION:Sala Al Artis\, Calle Egidos\, 8\, Valdeolmos-Alalpardo\, Madrid\, 28130\, España
ATTACH;FMTTYPE=image/jpeg:https://www.valdeolmos-alalpardo.org/wp-content/uploads/Concierto-Artis-Voces-e1515583727123.jpeg
ORGANIZER;CN="Ayuntamiento de Alalpardo":MAILTO:ayuntamiento@alalpardo.org
END:VEVENT
BEGIN:VEVENT
DTSTART;TZID=Europe/Madrid:20180210T200000
DTEND;TZID=Europe/Madrid:20180210T200000
DTSTAMP:20260422T101950
CREATED:20180122T104008Z
LAST-MODIFIED:20180122T104008Z
UID:14355-1518292800-1518292800@www.valdeolmos-alalpardo.org
SUMMARY:CARNAVAL 2018
DESCRIPTION:El próximo 10 de febrero se realizará el tradicional CONCURSO DE DISFRACES de Carnaval. \nPara poder participar consulta las categorías: \n1ª CATEGORÍA 0-6 años\n2ª CATEGORÍA 7-14 años\n3ª CATEGORÍA +15 años \nEn un grupo la categoría la marca la persona de mayor edad.\nLas personas y comparsas que deseen participar podrán apuntarse ante los organizadores\, en el recinto del evento\,  hasta 30 minutos antes de comenzar el concurso.\nPara llevarse a cabo una categoría deberá haber un mínimo de 4 inscripciones.\nLa representación no será por orden de inscripción sino por sorteo efectuado entre los participantes.\nAFORO LIMITADO DEL RECINTO
URL:https://www.valdeolmos-alalpardo.org/evento/carnaval-2018/
LOCATION:Casa de la Cultura Alalpardo y Valdeolmos
ATTACH;FMTTYPE=image/jpeg:https://www.valdeolmos-alalpardo.org/wp-content/uploads/carnaval-2018-e1516620287308.jpg
ORGANIZER;CN="Ayuntamiento de Alalpardo":MAILTO:ayuntamiento@alalpardo.org
END:VEVENT
BEGIN:VEVENT
DTSTART;TZID=Europe/Madrid:20180210T200000
DTEND;TZID=Europe/Madrid:20180210T200000
DTSTAMP:20260422T101950
CREATED:20180122T104008Z
LAST-MODIFIED:20180122T104008Z
UID:23608-1518292800-1518292800@www.valdeolmos-alalpardo.org
SUMMARY:CARNAVAL 2018
DESCRIPTION:El próximo 10 de febrero se realizará el tradicional CONCURSO DE DISFRACES de Carnaval. \nPara poder participar consulta las categorías: \n1ª CATEGORÍA 0-6 años\n2ª CATEGORÍA 7-14 años\n3ª CATEGORÍA +15 años \nEn un grupo la categoría la marca la persona de mayor edad.\nLas personas y comparsas que deseen participar podrán apuntarse ante los organizadores\, en el recinto del evento\,  hasta 30 minutos antes de comenzar el concurso.\nPara llevarse a cabo una categoría deberá haber un mínimo de 4 inscripciones.\nLa representación no será por orden de inscripción sino por sorteo efectuado entre los participantes.\nAFORO LIMITADO DEL RECINTO
URL:https://www.valdeolmos-alalpardo.org/evento/carnaval-2018-2/
LOCATION:Casa de la Cultura Alalpardo y Valdeolmos
ATTACH;FMTTYPE=image/jpeg:https://www.valdeolmos-alalpardo.org/wp-content/uploads/carnaval-2018-e1516620287308.jpg
ORGANIZER;CN="Ayuntamiento de Alalpardo":MAILTO:ayuntamiento@alalpardo.org
END:VEVENT
BEGIN:VEVENT
DTSTART;TZID=Europe/Madrid:20180221T184500
DTEND;TZID=Europe/Madrid:20180221T200000
DTSTAMP:20260422T101950
CREATED:20180215T133630Z
LAST-MODIFIED:20180215T133630Z
UID:14492-1519238700-1519243200@www.valdeolmos-alalpardo.org
SUMMARY:CUENTACUENTOS "Antes fuimos dinosaurios"
DESCRIPTION:El próximo miércoles se realizará un CUENTACUENTOS\, en formato Kamisibai\, en la Biblioteca Municipal de Alalpardo el cual será realizado por el propio personal de la Biblioteca. \nEl acceso esta abierto para todo tipo de públicos y la edad recomendada es para mayores de 3 años. \nEn esta ocasión se representará un cuento llamado «Antes fuimos dinosaurios». \nRon es un enorme Tiranosaurio Rex\, pero es bastante diferente al resto de tiranosaurios. \nQuizá por eso Ron no tiene muchos colegas. Mei es un dinosaurio muy pequeño\, casi insignificante para ser un dinosaurio. \nEntrañable historia de amistad entre dos personajes muy diferentes pero con algo en común: el deseo de evolucionar cumpliendo sus sueños.
URL:https://www.valdeolmos-alalpardo.org/evento/cuentacuentos-fuimos-dinosaurios/
LOCATION:Biblioteca Pública Municipal de Alalpardo\, Travesía de Alcalá\, Alalpardo\, Madrid\, 28130\, España
ORGANIZER;CN="Ayuntamiento de Alalpardo":MAILTO:ayuntamiento@alalpardo.org
END:VEVENT
BEGIN:VEVENT
DTSTART;TZID=Europe/Madrid:20180221T184500
DTEND;TZID=Europe/Madrid:20180221T200000
DTSTAMP:20260422T101950
CREATED:20180215T133630Z
LAST-MODIFIED:20180215T133630Z
UID:23616-1519238700-1519243200@www.valdeolmos-alalpardo.org
SUMMARY:CUENTACUENTOS "Antes fuimos dinosaurios"
DESCRIPTION:El próximo miércoles se realizará un CUENTACUENTOS\, en formato Kamisibai\, en la Biblioteca Municipal de Alalpardo el cual será realizado por el propio personal de la Biblioteca. \nEl acceso esta abierto para todo tipo de públicos y la edad recomendada es para mayores de 3 años. \nEn esta ocasión se representará un cuento llamado «Antes fuimos dinosaurios». \nRon es un enorme Tiranosaurio Rex\, pero es bastante diferente al resto de tiranosaurios. \nQuizá por eso Ron no tiene muchos colegas. Mei es un dinosaurio muy pequeño\, casi insignificante para ser un dinosaurio. \nEntrañable historia de amistad entre dos personajes muy diferentes pero con algo en común: el deseo de evolucionar cumpliendo sus sueños.
URL:https://www.valdeolmos-alalpardo.org/evento/cuentacuentos-fuimos-dinosaurios-2/
LOCATION:Biblioteca Pública Municipal de Alalpardo\, Travesía de Alcalá\, Alalpardo\, Madrid\, 28130\, España
ORGANIZER;CN="Ayuntamiento de Alalpardo":MAILTO:ayuntamiento@alalpardo.org
END:VEVENT
BEGIN:VEVENT
DTSTART;TZID=Europe/Madrid:20180222T163000
DTEND;TZID=Europe/Madrid:20180222T181500
DTSTAMP:20260422T101950
CREATED:20180207T075109Z
LAST-MODIFIED:20180312T084207Z
UID:14448-1519317000-1519323300@www.valdeolmos-alalpardo.org
SUMMARY:Bibliobús FEBRERO 2018
DESCRIPTION:El BIBLIOBÚS vuelve a Alalpardo los días 8 y 22 de febrero\, desde las 15:30 horas hasta las 17:15 horas estará situado en la Calle Alcalá\, a la altura de los colegios.
URL:https://www.valdeolmos-alalpardo.org/evento/bibliobus-febrero-2018/
LOCATION:Bibliobus\, Calle Alcalá\, 25\, Alalpardo\, Madrid\, 28130\, España
END:VEVENT
BEGIN:VEVENT
DTSTART;TZID=Europe/Madrid:20180222T163000
DTEND;TZID=Europe/Madrid:20180222T181500
DTSTAMP:20260422T101951
CREATED:20180207T075109Z
LAST-MODIFIED:20180207T075109Z
UID:23612-1519317000-1519323300@www.valdeolmos-alalpardo.org
SUMMARY:Bibliobús FEBRERO 2018
DESCRIPTION:El BIBLIOBÚS vuelve a Alalpardo los días 8 y 22 de febrero\, desde las 15:30 horas hasta las 17:15 horas estará situado en la Calle Alcalá\, a la altura de los colegios.
URL:https://www.valdeolmos-alalpardo.org/evento/bibliobus-febrero-2018-2/
LOCATION:Bibliobus\, Calle Alcalá\, 25\, Alalpardo\, Madrid\, 28130\, España
END:VEVENT
BEGIN:VEVENT
DTSTART;TZID=Europe/Madrid:20180222T163000
DTEND;TZID=Europe/Madrid:20180222T181500
DTSTAMP:20260422T101951
CREATED:20180221T103326Z
LAST-MODIFIED:20180221T103326Z
UID:14529-1519317000-1519323300@www.valdeolmos-alalpardo.org
SUMMARY:BIBLIOBUS Febrero
DESCRIPTION:Mañana vuelve el Bibliobus a Alalpardo ¿Donde? En el mismo lugar de siempre\, en la Calle Alcalá junto a los colegios\, de 15:30 a 17:15 horas.
URL:https://www.valdeolmos-alalpardo.org/evento/bibliobus-febrero/
LOCATION:Bibliobus\, Calle Alcalá\, 25\, Alalpardo\, Madrid\, 28130\, España
END:VEVENT
BEGIN:VEVENT
DTSTART;TZID=Europe/Madrid:20180222T163000
DTEND;TZID=Europe/Madrid:20180222T181500
DTSTAMP:20260422T101951
CREATED:20180221T103326Z
LAST-MODIFIED:20180221T103326Z
UID:23621-1519317000-1519323300@www.valdeolmos-alalpardo.org
SUMMARY:BIBLIOBUS Febrero
DESCRIPTION:Mañana vuelve el Bibliobus a Alalpardo ¿Donde? En el mismo lugar de siempre\, en la Calle Alcalá junto a los colegios\, de 15:30 a 17:15 horas.
URL:https://www.valdeolmos-alalpardo.org/evento/bibliobus-febrero-2/
LOCATION:Bibliobus\, Calle Alcalá\, 25\, Alalpardo\, Madrid\, 28130\, España
END:VEVENT
END:VCALENDAR