BEGIN:VCALENDAR
VERSION:2.0
PRODID:-//Ayuntamiento de Valdeolmos-Alalpardo - ECPv6.15.12.2//NONSGML v1.0//EN
CALSCALE:GREGORIAN
METHOD:PUBLISH
X-WR-CALNAME:Ayuntamiento de Valdeolmos-Alalpardo
X-ORIGINAL-URL:https://www.valdeolmos-alalpardo.org
X-WR-CALDESC:Eventos para Ayuntamiento de Valdeolmos-Alalpardo
REFRESH-INTERVAL;VALUE=DURATION:PT1H
X-Robots-Tag:noindex
X-PUBLISHED-TTL:PT1H
BEGIN:VTIMEZONE
TZID:Europe/Madrid
BEGIN:DAYLIGHT
TZOFFSETFROM:+0100
TZOFFSETTO:+0200
TZNAME:CEST
DTSTART:20250330T010000
END:DAYLIGHT
BEGIN:STANDARD
TZOFFSETFROM:+0200
TZOFFSETTO:+0100
TZNAME:CET
DTSTART:20251026T010000
END:STANDARD
BEGIN:DAYLIGHT
TZOFFSETFROM:+0100
TZOFFSETTO:+0200
TZNAME:CEST
DTSTART:20260329T010000
END:DAYLIGHT
BEGIN:STANDARD
TZOFFSETFROM:+0200
TZOFFSETTO:+0100
TZNAME:CET
DTSTART:20261025T010000
END:STANDARD
BEGIN:DAYLIGHT
TZOFFSETFROM:+0100
TZOFFSETTO:+0200
TZNAME:CEST
DTSTART:20270328T010000
END:DAYLIGHT
BEGIN:STANDARD
TZOFFSETFROM:+0200
TZOFFSETTO:+0100
TZNAME:CET
DTSTART:20271031T010000
END:STANDARD
END:VTIMEZONE
BEGIN:VEVENT
DTSTART;TZID=Europe/Madrid:20260224T093000
DTEND;TZID=Europe/Madrid:20260224T140000
DTSTAMP:20260420T021546
CREATED:20260113T123524Z
LAST-MODIFIED:20260223T100347Z
UID:41341-1771925400-1771941600@www.valdeolmos-alalpardo.org
SUMMARY:24 de febrero: ITV de vehículos agrícolas
DESCRIPTION:ITV de vehículos agrícolas\nEl próximo 20 y 24 de febrero viene al municipio una unidad móvil (UMA) para realizar las revisiones a los vehículos agrícolas. \n\n20 y 24 de febrero\nDe 9:30 a 14:00 horas\nCamino de Serracines s/n\n\n20260113_NOTIFICACIÓN \n \n  \n 
URL:https://www.valdeolmos-alalpardo.org/evento/20-y-24-de-febrero-itv-de-vehiculos-agricolas/
LOCATION:Camino de Serracines s/n
ATTACH;FMTTYPE=image/jpeg:https://www.valdeolmos-alalpardo.org/wp-content/uploads/2026/01/Copia-de-Copia-de-Post-de-instagram-dia-mundial-de-la-Tierra.jpg
END:VEVENT
END:VCALENDAR