BEGIN:VCALENDAR
VERSION:2.0
PRODID:-//Ayuntamiento de Valdeolmos-Alalpardo - ECPv6.15.12.2//NONSGML v1.0//EN
CALSCALE:GREGORIAN
METHOD:PUBLISH
X-WR-CALNAME:Ayuntamiento de Valdeolmos-Alalpardo
X-ORIGINAL-URL:https://www.valdeolmos-alalpardo.org
X-WR-CALDESC:Eventos para Ayuntamiento de Valdeolmos-Alalpardo
REFRESH-INTERVAL;VALUE=DURATION:PT1H
X-Robots-Tag:noindex
X-PUBLISHED-TTL:PT1H
BEGIN:VTIMEZONE
TZID:Europe/Madrid
BEGIN:DAYLIGHT
TZOFFSETFROM:+0100
TZOFFSETTO:+0200
TZNAME:CEST
DTSTART:20210328T010000
END:DAYLIGHT
BEGIN:STANDARD
TZOFFSETFROM:+0200
TZOFFSETTO:+0100
TZNAME:CET
DTSTART:20211031T010000
END:STANDARD
BEGIN:DAYLIGHT
TZOFFSETFROM:+0100
TZOFFSETTO:+0200
TZNAME:CEST
DTSTART:20220327T010000
END:DAYLIGHT
BEGIN:STANDARD
TZOFFSETFROM:+0200
TZOFFSETTO:+0100
TZNAME:CET
DTSTART:20221030T010000
END:STANDARD
BEGIN:DAYLIGHT
TZOFFSETFROM:+0100
TZOFFSETTO:+0200
TZNAME:CEST
DTSTART:20230326T010000
END:DAYLIGHT
BEGIN:STANDARD
TZOFFSETFROM:+0200
TZOFFSETTO:+0100
TZNAME:CET
DTSTART:20231029T010000
END:STANDARD
END:VTIMEZONE
BEGIN:VEVENT
DTSTART;TZID=Europe/Madrid:20220406T180000
DTEND;TZID=Europe/Madrid:20220427T200000
DTSTAMP:20260421T194527
CREATED:20220328T090537Z
LAST-MODIFIED:20220328T091851Z
UID:28753-1649268000-1651089600@www.valdeolmos-alalpardo.org
SUMMARY:Abril: Proyecto de Dinamización Ambiental
DESCRIPTION:Proyecto de Dinamización Ambiental en abril\nEl Ayuntamiento de Valdeolmos-Alalpardo\, junto con la Consejería de Educación y Juventud de la Comunidad de Madrid\, viene realizando un Proyecto de Dinamización Ambiental para niños\, jóvenes y adultos del municipio desde octubre de 2021 y duración  hasta junio de 2022. \nDurante el mes de abril continuarán los trabajos en el vivero municipal\, se realizará un segundo taller de elaboración de jabones con aceite de cocina usado y habrá una reunión informativa del Grupo de consumo Alalpardo. \nPlazas preferentes para empadronados. Para confirmar es necesario realizar la inscripción en el Ayuntamiento 91 6202153 \nInscripciones abiertas desde el 31 de marzo. \nPROYECTO DE DINAMIZACIÓN AMBIENTAL_ABRIL \nFormulario de Inscripción ABRIL \n       
URL:https://www.valdeolmos-alalpardo.org/evento/abril-proyecto-de-dinamizacion-ambiental/
ATTACH;FMTTYPE=image/jpeg:https://www.valdeolmos-alalpardo.org/wp-content/uploads/2022/03/PROYECTO-DE-DINAMIZACION-AMBIENTAL_ABRIL-1_page-0001.jpg
END:VEVENT
BEGIN:VEVENT
DTSTART;TZID=Europe/Madrid:20220406T190000
DTEND;TZID=Europe/Madrid:20220424T160000
DTSTAMP:20260421T194527
CREATED:20220401T092803Z
LAST-MODIFIED:20220401T100230Z
UID:28831-1649271600-1650816000@www.valdeolmos-alalpardo.org
SUMMARY:Actividades del Club de Ocio Juvenil en el mes de abril
DESCRIPTION:Arranca el Club de Ocio 09 con sus primeras actividades para adolescentes de 12 a 17 años en el mes de abril los días 6\, 20 y 24.  \nMiércoles 6 de abril \nReunión informativa para la creación de un Club de ocio juvenil \nMiércoles 20 de abril \nPrimera reunión del Club de ocio. \nDomingo 24 de abril \nVisita a la Cueva de los Enebralejos en Segovia. 10 euros. \n\nPlazas preferentes para empadronados. Los no empadronados pasarán a una lista de reserva.\nPara formalizar la participación en el Club es preciso inscribirse en el Ayuntamiento o por teléfono llamando al 91 6202153.\nLas actividades están sujetas a cambios de última hora por circunstancias meteorológica o de organización.\nTodas aquellas actividades que tengas coste\, quedarán confirmadas tras el pago de las mismas.\n\nEl porqué del nombre ‘Club de Ocio 09’ se debe a que en 2009 nacieron los niños que ahora tienen 12 años.  \nSólo hay 24 plazas. ¿Te apuntas? \nclub ocio \n   
URL:https://www.valdeolmos-alalpardo.org/evento/actividades-del-club-de-ocio-juvenil-en-el-mes-de-abril/
ATTACH;FMTTYPE=image/jpeg:https://www.valdeolmos-alalpardo.org/wp-content/uploads/2022/04/club-ocio_page-0001.jpg
END:VEVENT
BEGIN:VEVENT
DTSTART;TZID=Europe/Madrid:20220420T190000
DTEND;TZID=Europe/Madrid:20220420T200000
DTSTAMP:20260421T194527
CREATED:20220419T090239Z
LAST-MODIFIED:20220419T090239Z
UID:29008-1650481200-1650484800@www.valdeolmos-alalpardo.org
SUMMARY:20 de abril: Primera Reunión Club de Ocio Juvenil
DESCRIPTION:Primera reunión del Club de Ocio Juvenil el 20 de abril a las 19:00 horas en la Sala Al-Artis. \nSe preparará la salida del domingo 24 de abril a la Cueva de los Enebralejos en Segovia. \nSe consensuará la actividad del Club de Ocio con miembros de 12 a 17 años para el mes de mayo.  \n 
URL:https://www.valdeolmos-alalpardo.org/evento/20-de-abril-primera-reunion-club-de-ocio-juvenil/
LOCATION:Sala Al Artis\, Calle Egidos\, 8\, Valdeolmos-Alalpardo\, Madrid\, 28130\, España
ATTACH;FMTTYPE=image/jpeg:https://www.valdeolmos-alalpardo.org/wp-content/uploads/2022/04/f12cbfdf-16a1-43da-8c30-70397f9d8561.jpg
END:VEVENT
END:VCALENDAR