BEGIN:VCALENDAR
VERSION:2.0
PRODID:-//Ayuntamiento de Valdeolmos-Alalpardo - ECPv6.15.12.2//NONSGML v1.0//EN
CALSCALE:GREGORIAN
METHOD:PUBLISH
X-WR-CALNAME:Ayuntamiento de Valdeolmos-Alalpardo
X-ORIGINAL-URL:https://www.valdeolmos-alalpardo.org
X-WR-CALDESC:Eventos para Ayuntamiento de Valdeolmos-Alalpardo
REFRESH-INTERVAL;VALUE=DURATION:PT1H
X-Robots-Tag:noindex
X-PUBLISHED-TTL:PT1H
BEGIN:VTIMEZONE
TZID:Europe/Madrid
BEGIN:DAYLIGHT
TZOFFSETFROM:+0100
TZOFFSETTO:+0200
TZNAME:CEST
DTSTART:20230326T010000
END:DAYLIGHT
BEGIN:STANDARD
TZOFFSETFROM:+0200
TZOFFSETTO:+0100
TZNAME:CET
DTSTART:20231029T010000
END:STANDARD
BEGIN:DAYLIGHT
TZOFFSETFROM:+0100
TZOFFSETTO:+0200
TZNAME:CEST
DTSTART:20240331T010000
END:DAYLIGHT
BEGIN:STANDARD
TZOFFSETFROM:+0200
TZOFFSETTO:+0100
TZNAME:CET
DTSTART:20241027T010000
END:STANDARD
BEGIN:DAYLIGHT
TZOFFSETFROM:+0100
TZOFFSETTO:+0200
TZNAME:CEST
DTSTART:20250330T010000
END:DAYLIGHT
BEGIN:STANDARD
TZOFFSETFROM:+0200
TZOFFSETTO:+0100
TZNAME:CET
DTSTART:20251026T010000
END:STANDARD
END:VTIMEZONE
BEGIN:VEVENT
DTSTART;TZID=Europe/Madrid:20241018T180000
DTEND;TZID=Europe/Madrid:20241020T200000
DTSTAMP:20260420T055643
CREATED:20241015T074046Z
LAST-MODIFIED:20241015T130641Z
UID:36700-1729274400-1729454400@www.valdeolmos-alalpardo.org
SUMMARY:18\, 19 y 20 de octubre: Enrique Cerezo apadrina el VAFF (Valdeolmos-Alalpardo Film Festival)
DESCRIPTION:Llega la primera edición del VAFF   Valdeolmos-Alalpardo Film Festival\nEl VAFF nace con la intención de acercar los nuevos talentos a profesionales de la industria. Y no puede tener mejor padrino que Enrique Cerezo\, empresario y uno de los productores más importantes de la industria cinematográfica española. Estará en la ceremonia de inauguración aí como en la entrega de premios y clausura.  \nEl Festival de Cine\, diseñado para el público general y para los profesionales del sector\, se celebra en la Sala Al-Artis y en la Casa de la Cultura de Alalpardo los días 18\, 19 y 20 de octubre. \nCuenta con un exigente concurso de cortometrajes además de ponencias muy interesantes\, mesas redondas y pitch a ciegas. \nEl VAFF nace para quedarse y dar a Valdeolmos-Alalpardo un espacio para que el cine y sus talentos crezcan. \nPrograma final (3)
URL:https://www.valdeolmos-alalpardo.org/evento/18-19-y-20-de-octubre-valdeolmos-alalpardo-film-festival-vaff/
LOCATION:Sala Al Artis\, Calle Egidos\, 8\, Valdeolmos-Alalpardo\, Madrid\, 28130\, España
ATTACH;FMTTYPE=image/jpeg:https://www.valdeolmos-alalpardo.org/wp-content/uploads/2024/10/VAFF.jpg
END:VEVENT
END:VCALENDAR