BEGIN:VCALENDAR
VERSION:2.0
PRODID:-//Ayuntamiento de Valdeolmos-Alalpardo - ECPv6.15.12.2//NONSGML v1.0//EN
CALSCALE:GREGORIAN
METHOD:PUBLISH
X-WR-CALNAME:Ayuntamiento de Valdeolmos-Alalpardo
X-ORIGINAL-URL:https://www.valdeolmos-alalpardo.org
X-WR-CALDESC:Eventos para Ayuntamiento de Valdeolmos-Alalpardo
REFRESH-INTERVAL;VALUE=DURATION:PT1H
X-Robots-Tag:noindex
X-PUBLISHED-TTL:PT1H
BEGIN:VTIMEZONE
TZID:Europe/Madrid
BEGIN:DAYLIGHT
TZOFFSETFROM:+0100
TZOFFSETTO:+0200
TZNAME:CEST
DTSTART:20240331T010000
END:DAYLIGHT
BEGIN:STANDARD
TZOFFSETFROM:+0200
TZOFFSETTO:+0100
TZNAME:CET
DTSTART:20241027T010000
END:STANDARD
BEGIN:DAYLIGHT
TZOFFSETFROM:+0100
TZOFFSETTO:+0200
TZNAME:CEST
DTSTART:20250330T010000
END:DAYLIGHT
BEGIN:STANDARD
TZOFFSETFROM:+0200
TZOFFSETTO:+0100
TZNAME:CET
DTSTART:20251026T010000
END:STANDARD
BEGIN:DAYLIGHT
TZOFFSETFROM:+0100
TZOFFSETTO:+0200
TZNAME:CEST
DTSTART:20260329T010000
END:DAYLIGHT
BEGIN:STANDARD
TZOFFSETFROM:+0200
TZOFFSETTO:+0100
TZNAME:CET
DTSTART:20261025T010000
END:STANDARD
END:VTIMEZONE
BEGIN:VEVENT
DTSTART;TZID=Europe/Madrid:20251223T090000
DTEND;TZID=Europe/Madrid:20251223T100000
DTSTAMP:20260423T232350
CREATED:20251215T074445Z
LAST-MODIFIED:20251222T114611Z
UID:39812-1766480400-1766484000@www.valdeolmos-alalpardo.org
SUMMARY:23 de diciembre: Es martes y llega la Oficina Móvil de Atención al Ciudadano
DESCRIPTION:La Oficina Móvil de Atención al Ciudadano nos visita el 23 de diciembre\nAgentes 012 atienden de forma presencial para solicitud de información\, documentación y realización de trámites con la Administración madrileña. \n\n23 de diciembre\nDe 9:00 a 10:00 horas\nEn la calle Alcalá nº 4\n\nLas Oficinas Móviles de la CAM dan cobertura a los municipios de menos de 20.000 habitantes.
URL:https://www.valdeolmos-alalpardo.org/evento/30-de-septiembre-es-martes-y-llega-la-oficina-movil-de-atencion-al-ciudadano/
LOCATION:Calle Alcalá 4\, Calle Alcalá 4\, Valdeolmos-Alalpardo\, Madrid\, 28130
ATTACH;FMTTYPE=image/jpeg:https://www.valdeolmos-alalpardo.org/wp-content/uploads/2025/01/012-martes.jpg
END:VEVENT
BEGIN:VEVENT
DTSTART;TZID=Europe/Madrid:20251223T180000
DTEND;TZID=Europe/Madrid:20251223T190000
DTSTAMP:20260423T232350
CREATED:20251222T100735Z
LAST-MODIFIED:20251222T100735Z
UID:41219-1766512800-1766516400@www.valdeolmos-alalpardo.org
SUMMARY:23 de diciembre: Reunión de figurantes y colaboradores - Belén Viviente 'Villa de Alalpardo'
DESCRIPTION:Reunión de figurantes y colaboradores – Belén Viviente\n Se ruega máxima asistencia. \n\n23 de diciembre\n18:00 horas\nPorche de la Casa de la Cultura de Alalpardo \n\nREUNIÓN 23 DICIEMBRE_2025
URL:https://www.valdeolmos-alalpardo.org/evento/23-de-diciembre-reunion-de-figurantes-y-colaboradores-belen-viviente-villa-de-alalpardo/
LOCATION:Casa de Cultura de Alalpardo\, C/ Ejidos\, 8\, Alalpardo\, Madrid\, 28130\, España
ATTACH;FMTTYPE=image/jpeg:https://www.valdeolmos-alalpardo.org/wp-content/uploads/2025/12/reunion-23-diciembre.jpg
END:VEVENT
END:VCALENDAR