BEGIN:VCALENDAR
VERSION:2.0
PRODID:-//Ayuntamiento de Valdeolmos-Alalpardo - ECPv6.15.12.2//NONSGML v1.0//EN
CALSCALE:GREGORIAN
METHOD:PUBLISH
X-ORIGINAL-URL:https://www.valdeolmos-alalpardo.org
X-WR-CALDESC:Eventos para Ayuntamiento de Valdeolmos-Alalpardo
REFRESH-INTERVAL;VALUE=DURATION:PT1H
X-Robots-Tag:noindex
X-PUBLISHED-TTL:PT1H
BEGIN:VTIMEZONE
TZID:Europe/Madrid
BEGIN:DAYLIGHT
TZOFFSETFROM:+0100
TZOFFSETTO:+0200
TZNAME:CEST
DTSTART:20220327T010000
END:DAYLIGHT
BEGIN:STANDARD
TZOFFSETFROM:+0200
TZOFFSETTO:+0100
TZNAME:CET
DTSTART:20221030T010000
END:STANDARD
BEGIN:DAYLIGHT
TZOFFSETFROM:+0100
TZOFFSETTO:+0200
TZNAME:CEST
DTSTART:20230326T010000
END:DAYLIGHT
BEGIN:STANDARD
TZOFFSETFROM:+0200
TZOFFSETTO:+0100
TZNAME:CET
DTSTART:20231029T010000
END:STANDARD
BEGIN:DAYLIGHT
TZOFFSETFROM:+0100
TZOFFSETTO:+0200
TZNAME:CEST
DTSTART:20240331T010000
END:DAYLIGHT
BEGIN:STANDARD
TZOFFSETFROM:+0200
TZOFFSETTO:+0100
TZNAME:CET
DTSTART:20241027T010000
END:STANDARD
END:VTIMEZONE
BEGIN:VEVENT
DTSTART;TZID=Europe/Madrid:20231125T160000
DTEND;TZID=Europe/Madrid:20231125T230000
DTSTAMP:20260421T064238
CREATED:20231029T142939Z
LAST-MODIFIED:20231126T091350Z
UID:34882-1700928000-1700953200@www.valdeolmos-alalpardo.org
SUMMARY:25 de noviembre: Actividades del Club de Ocio
DESCRIPTION:El 18 y 25 de noviembre hay actividades del Club de Ocio\nEl Club de Ocio lo forman jóvenes de 13 a 17 años en el que puedes formar parte. Se creó en abril del 2022 y desde entonces se llevan a cabo actividades lúdicas muy divertidas\, ocio saludable organizado por la Concejalía de Juventud. \nACTIVIDADES EN NOVIEMBRE \n\nSábado 18 : CREA TU PROPIA PELÍCULA\n11:00-13:00 horas   Aula Casa de la Cultura Alalpardo\nTaller de cine para crear tu propio cortometraje. No olvides llevar material para crear tu propio escenario y personaje.\n20 plazas\, inscripción previa\nGratuito\n\n  \n\nSábado 25: NOS VAMOS A PATINAR SOBRE HIELO\n16:00-22:40 horas  Consultorio Local Alalpardo\n¡Nos vamos al Palacio de Hielo a patinar! No olvides tus guantes y tu abono de transporte recargado.\n20 plazas\, inscripción previa.\n14 euros\, pago en taquilla\n\nCLUB DE OCIO_NOVIEMBRE \nCO_Formulario de Inscripción NOVIEMBRE \n \n\nPlazas preferentes para empadronados. Los no empadronados pasarán a una lista de reserva. \nPara confirmar asistencia en las actividades es necesario realizar inscripción en el Ayuntamiento o por teléfono 91 6202153\nLas actividades están sujetas a cambios de última hora por circunstancias meteorológicas o de organización.\nLas actividades que conlleven un coste quedarán confirmadas tras el pago de las mismas. \n\n 
URL:https://www.valdeolmos-alalpardo.org/evento/18-y-25-de-noviembre-actividades-del-club-de-ocio/
LOCATION:Madrid
ATTACH;FMTTYPE=image/jpeg:https://www.valdeolmos-alalpardo.org/wp-content/uploads/2023/10/CLUB-DE-OCIO_NOVIEMBRE-01-scaled.jpg
END:VEVENT
BEGIN:VEVENT
DTSTART;TZID=Europe/Madrid:20231125T200000
DTEND;TZID=Europe/Madrid:20231125T210000
DTSTAMP:20260421T064238
CREATED:20231122T105508Z
LAST-MODIFIED:20231122T105508Z
UID:35181-1700942400-1700946000@www.valdeolmos-alalpardo.org
SUMMARY:25 noviembre: Concierto Tango\, Jazz y Boleros de ayer ' Aún la nave del olvido no ha partido'
DESCRIPTION:Gran concierto de piano y voz en el Teatro-Estudio Sara Baras el sábado 25 de noviembre\n‘Aún la nave del olvido no ha partido’ es el concierto en el que disfrutarás mucho en el Teatro Sara Baras de Valdeolmos. Cantante venezolana y pianista argentino. \n\nSábado 25 de noviembre 20:00 horas\nTeatro Estudio Sara Baras\, Valdeolmos\nReserva de entradas: Antoinette Antón  695635879\nRecogida y adquisición: sábado 19:15 en la entrada del Teatro\nPrecio: 5 euros\nSe abona en la recogida de localidades reservadas \nAforo 80 butacas\n\nConcierto 25 noviembre
URL:https://www.valdeolmos-alalpardo.org/evento/25-noviembre-concierto-tango-jazz-y-boleros-de-ayer-aun-la-nave-del-olvido-no-ha-partido/
LOCATION:Teatro-Estudio Sara Baras\, C/ Olivar 1\, Valdeolmos\, 28130
ATTACH;FMTTYPE=image/jpeg:https://www.valdeolmos-alalpardo.org/wp-content/uploads/2023/11/f8ccd161-5708-421e-ad3d-8049351f57c0.jpg
END:VEVENT
END:VCALENDAR