BEGIN:VCALENDAR
VERSION:2.0
PRODID:-//Ayuntamiento de Valdeolmos-Alalpardo - ECPv6.15.12.2//NONSGML v1.0//EN
CALSCALE:GREGORIAN
METHOD:PUBLISH
X-ORIGINAL-URL:https://www.valdeolmos-alalpardo.org
X-WR-CALDESC:Eventos para Ayuntamiento de Valdeolmos-Alalpardo
REFRESH-INTERVAL;VALUE=DURATION:PT1H
X-Robots-Tag:noindex
X-PUBLISHED-TTL:PT1H
BEGIN:VTIMEZONE
TZID:Europe/Madrid
BEGIN:DAYLIGHT
TZOFFSETFROM:+0100
TZOFFSETTO:+0200
TZNAME:CEST
DTSTART:20220327T010000
END:DAYLIGHT
BEGIN:STANDARD
TZOFFSETFROM:+0200
TZOFFSETTO:+0100
TZNAME:CET
DTSTART:20221030T010000
END:STANDARD
BEGIN:DAYLIGHT
TZOFFSETFROM:+0100
TZOFFSETTO:+0200
TZNAME:CEST
DTSTART:20230326T010000
END:DAYLIGHT
BEGIN:STANDARD
TZOFFSETFROM:+0200
TZOFFSETTO:+0100
TZNAME:CET
DTSTART:20231029T010000
END:STANDARD
BEGIN:DAYLIGHT
TZOFFSETFROM:+0100
TZOFFSETTO:+0200
TZNAME:CEST
DTSTART:20240331T010000
END:DAYLIGHT
BEGIN:STANDARD
TZOFFSETFROM:+0200
TZOFFSETTO:+0100
TZNAME:CET
DTSTART:20241027T010000
END:STANDARD
END:VTIMEZONE
BEGIN:VEVENT
DTSTART;TZID=Europe/Madrid:20231123T150000
DTEND;TZID=Europe/Madrid:20231123T160000
DTSTAMP:20260421T064242
CREATED:20231015T172400Z
LAST-MODIFIED:20231015T172400Z
UID:34698-1700751600-1700755200@www.valdeolmos-alalpardo.org
SUMMARY:23 de noviembre: Llega la Oficina Móvil de Atención al Ciudadano
DESCRIPTION:La Oficina Móvil de Atención al Ciudadano nos visita el 23 de noviembre\nAgentes 012 atenderán de forma presencial para solicitud de información\, documentación y realización de trámites con la Administración madrileña. \n\n23 de noviembre\nDe 15:00-16:00 horas\nEn la calle Alcalá nº 4\n\nLas Oficinas Móviles de la CAM dan cobertura a los municipios de menos de 20.000 habitantes.
URL:https://www.valdeolmos-alalpardo.org/evento/23-de-noviembre-llega-la-oficina-movil-de-atencion-al-ciudadano/
LOCATION:Calle Alcalá 4\, Calle Alcalá 4\, Valdeolmos-Alalpardo\, Madrid\, 28130
ATTACH;FMTTYPE=image/jpeg:https://www.valdeolmos-alalpardo.org/wp-content/uploads/2023/10/8a1b443f-6527-435f-a486-433b99431f57.jpg
END:VEVENT
BEGIN:VEVENT
DTSTART;TZID=Europe/Madrid:20231123T151500
DTEND;TZID=Europe/Madrid:20231123T170000
DTSTAMP:20260421T064242
CREATED:20231003T193817Z
LAST-MODIFIED:20231003T194306Z
UID:34604-1700752500-1700758800@www.valdeolmos-alalpardo.org
SUMMARY:23 de noviembre: Vuelve el Bibliobús
DESCRIPTION:El Bibliobús vuelve al municipio el 23 de noviembre\nComo siempre\, llega cargado de revistas\, libros\, cómics\, CD\, y DVD. Te espera en la Calle Alcalá 25  junto a los colegios\, de 15:15 a 17:00 horas. \nEntra y te sorprenderás en el autobús convertido en biblioteca móvil. \nHay 13 bibliobuses que recorren 118 municipios de la Comunidad de Madrid y 17 distritos de la capital para atender a públicos de todas las edades.
URL:https://www.valdeolmos-alalpardo.org/evento/23-de-noviembre-vuelve-el-bibliobus/
LOCATION:Calle Alcalá 25
ATTACH;FMTTYPE=image/jpeg:https://www.valdeolmos-alalpardo.org/wp-content/uploads/2023/10/0130b4b0-059c-4703-94a4-70740248d76d.jpg
END:VEVENT
END:VCALENDAR