BEGIN:VCALENDAR
VERSION:2.0
PRODID:-//Ayuntamiento de Valdeolmos-Alalpardo - ECPv6.15.12.2//NONSGML v1.0//EN
CALSCALE:GREGORIAN
METHOD:PUBLISH
X-WR-CALNAME:Ayuntamiento de Valdeolmos-Alalpardo
X-ORIGINAL-URL:https://www.valdeolmos-alalpardo.org
X-WR-CALDESC:Eventos para Ayuntamiento de Valdeolmos-Alalpardo
REFRESH-INTERVAL;VALUE=DURATION:PT1H
X-Robots-Tag:noindex
X-PUBLISHED-TTL:PT1H
BEGIN:VTIMEZONE
TZID:Europe/Madrid
BEGIN:DAYLIGHT
TZOFFSETFROM:+0100
TZOFFSETTO:+0200
TZNAME:CEST
DTSTART:20220327T010000
END:DAYLIGHT
BEGIN:STANDARD
TZOFFSETFROM:+0200
TZOFFSETTO:+0100
TZNAME:CET
DTSTART:20221030T010000
END:STANDARD
BEGIN:DAYLIGHT
TZOFFSETFROM:+0100
TZOFFSETTO:+0200
TZNAME:CEST
DTSTART:20230326T010000
END:DAYLIGHT
BEGIN:STANDARD
TZOFFSETFROM:+0200
TZOFFSETTO:+0100
TZNAME:CET
DTSTART:20231029T010000
END:STANDARD
BEGIN:DAYLIGHT
TZOFFSETFROM:+0100
TZOFFSETTO:+0200
TZNAME:CEST
DTSTART:20240331T010000
END:DAYLIGHT
BEGIN:STANDARD
TZOFFSETFROM:+0200
TZOFFSETTO:+0100
TZNAME:CET
DTSTART:20241027T010000
END:STANDARD
END:VTIMEZONE
BEGIN:VEVENT
DTSTART;TZID=Europe/Madrid:20231021T100000
DTEND;TZID=Europe/Madrid:20231021T170000
DTSTAMP:20260420T044022
CREATED:20231016T095040Z
LAST-MODIFIED:20231016T101127Z
UID:34716-1697882400-1697907600@www.valdeolmos-alalpardo.org
SUMMARY:21 de octubre: Ruta del Águila en mountain bike con salida desde la Plaza de Toros de Alalpardo
DESCRIPTION:Ruta larga de 66 kilómetros en bici y ruta corta de 37 kilómetros dentro del Circuito 7 Estrellas\nEl nombre de la Ruta del Águila se debe a la cantidad y variedad de especies de aves existentes en el entorno de Valdeolmos-Alalpardo\, Fuente el Saz\, Ribatejada\, El Casar\, Serracines y Daganzo\, localidades por las que discurre este recorrido. Entre todas esas especies destaca el águila\, de ahí el nombre de la que es una de las Rutas del Circuito 7 Estrellas. \nEl Circuito SCOTT 7 Estrellas MTB es el primer circuito de mountain bike en la Comunidad de Madrid que combina el aspecto puramente deportivo y competitivo\, con el estilo recreativo que persigue el gran público participante en este tipo de eventos. \nLa primera parte de la ruta está diseñada en 2 bucles\, cercanos a Valdeolmos. Tras ese primer tramo de subida\, vendrá una zona más favorable buscando el límite con la provincia de Guadalajara\, en Ribatejada y El Casar\, localidades vecinas que se bordeará circulando por los caminos. Se atravesarán las subidas y bajadas de El Serrucho llegando a Daganzo para regresar a Alalpardo tras una entretenida bajada final. Será la recompensa para olvidar las dificultades del circuito y los más de 1000 metros de desnivel acumulado. \n\nSALIDA RUTA LARGA: 10:00. Salidas Escalonadas por Grupos de Edad.\nSALIDA RUTA CORTA: 10:30\nYa puedes inscribirte\n\nRuta del Aguila \n  \n \nhttps://www.circuito7estrellas.com/ \nhttps://www.circuito7estrellas.com/7mb-ruta-del-aguila-recorrido \nhttps://www.circuito7estrellas.com/7mb-ruta-del-aguila-reglamento \n 
URL:https://www.valdeolmos-alalpardo.org/evento/21-de-octubre-ruta-del-aguila-en-mountain-bike-con-salida-desde-la-plaza-de-toros-de-alalpardo/
LOCATION:Plaza de Toros de Alalpardo
ATTACH;FMTTYPE=image/jpeg:https://www.valdeolmos-alalpardo.org/wp-content/uploads/2023/10/6a2e67a3-7855-461c-ae5c-12c54470e9ac-1.jpg
END:VEVENT
BEGIN:VEVENT
DTSTART;TZID=Europe/Madrid:20231021T200000
DTEND;TZID=Europe/Madrid:20231021T220000
DTSTAMP:20260420T044022
CREATED:20231020T102904Z
LAST-MODIFIED:20231020T104818Z
UID:34740-1697918400-1697925600@www.valdeolmos-alalpardo.org
SUMMARY:21 de octubre: Velada de Boxeo profesional y amateur en el Pabellón municipal de Alalpardo
DESCRIPTION:Velada de Boxeo profesional y amateur el sábado 21 de octubre en el pabellón cubierto de Alalpardo 20:00 horas\nHabrá venta de entradas en taquilla \n\n25 € en primera fila\n20 € en silla/grada\n15 € menores de 18 años en silla/grada\n\nTambién puedes comprar tu entrada en el gimnasio Gorjón Team \nVitin DJ amenizará la velada. \nVelada de boxeo
URL:https://www.valdeolmos-alalpardo.org/evento/21-de-octubre-velada-de-boxeo-profesional-y-amateur-en-el-pabellon-municipal-de-alalpardo/
LOCATION:Pabellón Cubierto de Alalpardo\, C/ Alcalá s/n\, Alalpardo\, 28130\, España
ATTACH;FMTTYPE=image/jpeg:https://www.valdeolmos-alalpardo.org/wp-content/uploads/2023/10/WhatsApp-Image-2023-10-20-at-11.49.06.jpeg
END:VEVENT
END:VCALENDAR