BEGIN:VCALENDAR
VERSION:2.0
PRODID:-//Ayuntamiento de Valdeolmos-Alalpardo - ECPv6.15.12.2//NONSGML v1.0//EN
CALSCALE:GREGORIAN
METHOD:PUBLISH
X-WR-CALNAME:Ayuntamiento de Valdeolmos-Alalpardo
X-ORIGINAL-URL:https://www.valdeolmos-alalpardo.org
X-WR-CALDESC:Eventos para Ayuntamiento de Valdeolmos-Alalpardo
REFRESH-INTERVAL;VALUE=DURATION:PT1H
X-Robots-Tag:noindex
X-PUBLISHED-TTL:PT1H
BEGIN:VTIMEZONE
TZID:Europe/Madrid
BEGIN:DAYLIGHT
TZOFFSETFROM:+0100
TZOFFSETTO:+0200
TZNAME:CEST
DTSTART:20220327T010000
END:DAYLIGHT
BEGIN:STANDARD
TZOFFSETFROM:+0200
TZOFFSETTO:+0100
TZNAME:CET
DTSTART:20221030T010000
END:STANDARD
BEGIN:DAYLIGHT
TZOFFSETFROM:+0100
TZOFFSETTO:+0200
TZNAME:CEST
DTSTART:20230326T010000
END:DAYLIGHT
BEGIN:STANDARD
TZOFFSETFROM:+0200
TZOFFSETTO:+0100
TZNAME:CET
DTSTART:20231029T010000
END:STANDARD
BEGIN:DAYLIGHT
TZOFFSETFROM:+0100
TZOFFSETTO:+0200
TZNAME:CEST
DTSTART:20240331T010000
END:DAYLIGHT
BEGIN:STANDARD
TZOFFSETFROM:+0200
TZOFFSETTO:+0100
TZNAME:CET
DTSTART:20241027T010000
END:STANDARD
END:VTIMEZONE
BEGIN:VEVENT
DTSTART;TZID=Europe/Madrid:20230915T180000
DTEND;TZID=Europe/Madrid:20231001T140000
DTSTAMP:20260420T065001
CREATED:20230908T094837Z
LAST-MODIFIED:20230912T094019Z
UID:34200-1694800800-1696168800@www.valdeolmos-alalpardo.org
SUMMARY:Del 15 de septiembre al 1 de octubre: Exposición José Luis López Vázquez\, 100 años
DESCRIPTION:La Exposición homenajea al actor con motivo de su centenario\nSe muestra por primera vez una gran cantidad de material inédito\, procedente en su mayoría de la colección privada de su primogénito José Luis López Magerus. En la Exposición se podrán ver desde sus primeros trabajos como dibujante hasta el Goya de Honor que la Academia de Cine de España le otorgó en 2005. \nLa carrera de José Luis López Vázquez nos lleva del teatro de la posguerra al Hollywood de los setenta\, incluyendo también hitos como sus colaboraciones con Luis García Berlanga o Carlos Saura y algunas de sus recordadas campañas publicitarias. \nEl actor español participó en 262 películas. La muestra nos descubre su faceta personal\, oculta tras el personaje público.  \nhttps://www.comunidad.madrid/actividades/2022/jose-luis-lopez-vazquez-100-anos \nhttps://www.youtube.com/watch?v=z_3JC3_NCmE \nCartel_JLLV_RedItiner \n  \n  \n\nLa Exposición se inaugurará el viernes 15 de septiembre en la Sala Al-Artis a las 19:30 horas. Entrada gratuita y visita guiada con Carolina Barreira López\, Coordinadora de Voluntarios Culturales Red Itiner.\nDel 15 de septiembre al 1 de octubre.\nSala Al-Artis – Casa de la Cultura de Alalpardo C/Ejidos 8-10\nHorario: Viernes de 18:00 a 20:00 horas. Sábado de 12:00 a 14:00 horas y de 18:00 a 20:00 horas. Domingo de 12:00 a 14:00
URL:https://www.valdeolmos-alalpardo.org/evento/del-15-de-septiembre-al-1-de-octubre-exposicion-jose-luis-lopez-vazquez-100-anos/
LOCATION:Sala Al Artis\, Calle Egidos\, 8\, Valdeolmos-Alalpardo\, Madrid\, 28130\, España
ATTACH;FMTTYPE=image/jpeg:https://www.valdeolmos-alalpardo.org/wp-content/uploads/2023/09/Exposicion-Jose-Luis-Lopez-Vazquez.jpg
END:VEVENT
BEGIN:VEVENT
DTSTART;TZID=Europe/Madrid:20230926T120000
DTEND;TZID=Europe/Madrid:20230926T133000
DTSTAMP:20260420T065001
CREATED:20230921T135835Z
LAST-MODIFIED:20230922T082721Z
UID:34381-1695729600-1695735000@www.valdeolmos-alalpardo.org
SUMMARY:26 de septiembre: Empieza 'ACTÍVATE'\, dirigido a mayores de 60 años
DESCRIPTION:‘ACTÍVATE es un programa de actividades gratuitas y exclusivas para nuestros mayores\nEl curso 2023/2024 empieza el 26 de septiembre de 12:00 a 13:30 horas en el Hogar del Jubilado de Alalpardo. Se trata de un programa para un estilo de vida saludable. \nMás información en los Servicios Sociales de Valdeolmos-Alalpardo y en el teléfono 91 6203842 \nActivate
URL:https://www.valdeolmos-alalpardo.org/evento/26-de-septiembre-empieza-activate-dirigido-a-mayores-de-60-anos/
LOCATION:Hogar del Jubilado de Alalpardo\, C/ Carlos Martín Alvárez 6\, Alalpardo\, 28130
ATTACH;FMTTYPE=image/jpeg:https://www.valdeolmos-alalpardo.org/wp-content/uploads/2023/09/8eb3c16b-2469-474a-a79a-3feb0fb40229.jpg
END:VEVENT
END:VCALENDAR