BEGIN:VCALENDAR
VERSION:2.0
PRODID:-//Ayuntamiento de Valdeolmos-Alalpardo - ECPv6.15.12.2//NONSGML v1.0//EN
CALSCALE:GREGORIAN
METHOD:PUBLISH
X-WR-CALNAME:Ayuntamiento de Valdeolmos-Alalpardo
X-ORIGINAL-URL:https://www.valdeolmos-alalpardo.org
X-WR-CALDESC:Eventos para Ayuntamiento de Valdeolmos-Alalpardo
REFRESH-INTERVAL;VALUE=DURATION:PT1H
X-Robots-Tag:noindex
X-PUBLISHED-TTL:PT1H
BEGIN:VTIMEZONE
TZID:Europe/Madrid
BEGIN:DAYLIGHT
TZOFFSETFROM:+0100
TZOFFSETTO:+0200
TZNAME:CEST
DTSTART:20220327T010000
END:DAYLIGHT
BEGIN:STANDARD
TZOFFSETFROM:+0200
TZOFFSETTO:+0100
TZNAME:CET
DTSTART:20221030T010000
END:STANDARD
BEGIN:DAYLIGHT
TZOFFSETFROM:+0100
TZOFFSETTO:+0200
TZNAME:CEST
DTSTART:20230326T010000
END:DAYLIGHT
BEGIN:STANDARD
TZOFFSETFROM:+0200
TZOFFSETTO:+0100
TZNAME:CET
DTSTART:20231029T010000
END:STANDARD
BEGIN:DAYLIGHT
TZOFFSETFROM:+0100
TZOFFSETTO:+0200
TZNAME:CEST
DTSTART:20240331T010000
END:DAYLIGHT
BEGIN:STANDARD
TZOFFSETFROM:+0200
TZOFFSETTO:+0100
TZNAME:CET
DTSTART:20241027T010000
END:STANDARD
END:VTIMEZONE
BEGIN:VEVENT
DTSTART;TZID=Europe/Madrid:20230215T092000
DTEND;TZID=Europe/Madrid:20230307T133000
DTSTAMP:20260419T142424
CREATED:20230202T074822Z
LAST-MODIFIED:20230313T164123Z
UID:32049-1676452800-1678195800@www.valdeolmos-alalpardo.org
SUMMARY:Del 15 de febrero al 7 de marzo: Curso gratuito - Programa GEA (Dinamizador infantil)
DESCRIPTION:Curso gratuito de 50 horas de Dinamizador infantil\nEl Programa GEA se llevará a cabo del 15 de febrero al 7 de marzo en el Aula del Hogar del Jubilado de Alalpardo 4 días a la semana: lunes\, martes\, miércoles y viernes de 9:20 a 13:30 horas. \nOrganiza la Dirección General de Igualdad de la Consejería de Familia\, Juventud y Política Social. Curso cofinanciado por el Fondo Social Europeo. \nvaldeolmos DINAMIZADOR CARTEL \n \nSi quieres apuntarte a este curso de 50 horas a través de la Mancomunidad 2016 de Servicios Sociales\, a la que pertenece el municipio\, contacta en: \n\ngeamadrid@idelnet.com\nTeléfono:  638 437 790
URL:https://www.valdeolmos-alalpardo.org/evento/del-15-de-febrero-al-7-de-marzo-curso-gratuito-programa-gea-dinamizador-infantil/
LOCATION:Hogar del Jubilado de Alalpardo\, C/ Carlos Martín Alvárez 6\, Alalpardo\, 28130
ATTACH;FMTTYPE=image/jpeg:https://www.valdeolmos-alalpardo.org/wp-content/uploads/2023/02/valdeolmos-DINAMIZADOR-CARTEL_page-0001.jpg
END:VEVENT
BEGIN:VEVENT
DTSTART;TZID=Europe/Madrid:20230217T180000
DTEND;TZID=Europe/Madrid:20230219T140000
DTSTAMP:20260419T142424
CREATED:20230126T122339Z
LAST-MODIFIED:20230220T104512Z
UID:32004-1676656800-1676815200@www.valdeolmos-alalpardo.org
SUMMARY:Del 3 al 19 de febrero: Exposición 'Coll -  El gigante del TBO'
DESCRIPTION:Exposición ‘Coll – El gigante del TBO’ en la Sala Al-Artis del 3 al 19 de febrero\nJosep Coll es considerado por muchos críticos y por sus admiradores como uno de los mejores dibujantes de historietas del siglo XX español. \nLa Exposición del genio del TBO se inaugura el 3 de febrero a las 19:30 horas con una visita guiada por parte de Carolina Barreira López (Coordinadora Voluntarios Culturales RED ITINER CEATE- COMUNIDAD DE MADRID). \nHorario Sala Al-Artis: \n\nViernes de 18:00 a 20:00 horas.\nSábado de 12:00 a 14:00 horas y de 18:00 a 20:00 horas\nDomingo de 12:00 a 14:00 horas\n\nCARTEL_Coll \n \nJosep Coll se incorporó en 1949 al TBO\, la revista que dio nombre a todos los tebeos\, y se convirtió en uno de sus pilares. Aportó sus originales regularmente hasta 1964\, cuando\, por motivos económicos\, dejó su colaboración para dedicarse a la profesión familiar en la que se había iniciado de adolescente: la albañilería. Algunos han visto en este abandono del oficio de historietista —que\, afortunadamente\, no fue total— uno de los mayores errores editoriales de la España del siglo XX. \nAunque murió tempranamente a los 60 años\, Coll sigue estando vivo. Pervive en la memoria de los que disfrutaron de sus historietas en el TBO y hoy es reconocido por las nuevas generaciones de dibujantes de cómic. En una encuesta realizada en marzo de 2021 por la revista Rock de Lux entre dibujantes y expertos para elegir los cien mejores tebeos españoles\, ocupó el quinto lugar\, tras Carlos Giménez\, Kim/Altarriba\, Ibáñez y Nazario. Es la mejor posición conseguida por un dibujante fallecido cuya obra prácticamente no se publica. Que lo descubran —y redescubran— todos los aficionados al octavo arte es el propósito de esta exposición. \n   \n 
URL:https://www.valdeolmos-alalpardo.org/evento/del-3-al-19-de-febrero-exposicion-coll-el-gigante-del-tbo/
LOCATION:Sala Al Artis\, Calle Egidos\, 8\, Valdeolmos-Alalpardo\, Madrid\, 28130\, España
ATTACH;FMTTYPE=image/jpeg:https://www.valdeolmos-alalpardo.org/wp-content/uploads/2023/01/CARTEL_Coll_page-0001-1.jpg
END:VEVENT
BEGIN:VEVENT
DTSTART;TZID=Europe/Madrid:20230217T200000
DTEND;TZID=Europe/Madrid:20230217T210000
DTSTAMP:20260419T142424
CREATED:20230214T075454Z
LAST-MODIFIED:20230214T075454Z
UID:32151-1676664000-1676667600@www.valdeolmos-alalpardo.org
SUMMARY:17 de febrero: Espectáculo 'Lerles' en el Teatro Sara Baras
DESCRIPTION:Espectáculo ‘Lerles’ en el Teatro Sara Baras el viernes 17 de febrero a las 20:00 horas\nClásicos de jazz\, blues\, pop y folk de la mano de 3 artistas\, dos argentinos y un americano: Sean Clapis\, Florencia Begue y Federico Lechner. \nTras el concierto en RTVE y el Teatro Monumental\, el espectáculo ‘Lerles’ llega al Teatro Sara Baras en la calle Olvia 1\, Valdeolmos. Una selección de temas de Cole Porter\, Gershwin o Miles Davis junto a los Beatles o la música tradicional irlandesa. \n\nReserva y adquisición de entradas: Café del Teatro en Valdeolmos y Ayuntamiento.\nAforo 80 butacas.\nPrecio entrada: 6€\n\nCARTEL LERNER (hora actualizada)
URL:https://www.valdeolmos-alalpardo.org/evento/17-de-febrero-espectaculo-lerles-en-el-teatro-sara-baras/
LOCATION:Teatro-Estudio Sara Baras\, C/ Olivar 1\, Valdeolmos\, 28130
ATTACH;FMTTYPE=image/jpeg:https://www.valdeolmos-alalpardo.org/wp-content/uploads/2023/02/CARTEL-LERNER-hora-actualizada_page-0001.jpg
END:VEVENT
END:VCALENDAR