BEGIN:VCALENDAR
VERSION:2.0
PRODID:-//Ayuntamiento de Valdeolmos-Alalpardo - ECPv6.15.12.2//NONSGML v1.0//EN
CALSCALE:GREGORIAN
METHOD:PUBLISH
X-WR-CALNAME:Ayuntamiento de Valdeolmos-Alalpardo
X-ORIGINAL-URL:https://www.valdeolmos-alalpardo.org
X-WR-CALDESC:Eventos para Ayuntamiento de Valdeolmos-Alalpardo
REFRESH-INTERVAL;VALUE=DURATION:PT1H
X-Robots-Tag:noindex
X-PUBLISHED-TTL:PT1H
BEGIN:VTIMEZONE
TZID:Europe/Madrid
BEGIN:DAYLIGHT
TZOFFSETFROM:+0100
TZOFFSETTO:+0200
TZNAME:CEST
DTSTART:20210328T010000
END:DAYLIGHT
BEGIN:STANDARD
TZOFFSETFROM:+0200
TZOFFSETTO:+0100
TZNAME:CET
DTSTART:20211031T010000
END:STANDARD
BEGIN:DAYLIGHT
TZOFFSETFROM:+0100
TZOFFSETTO:+0200
TZNAME:CEST
DTSTART:20220327T010000
END:DAYLIGHT
BEGIN:STANDARD
TZOFFSETFROM:+0200
TZOFFSETTO:+0100
TZNAME:CET
DTSTART:20221030T010000
END:STANDARD
BEGIN:DAYLIGHT
TZOFFSETFROM:+0100
TZOFFSETTO:+0200
TZNAME:CEST
DTSTART:20230326T010000
END:DAYLIGHT
BEGIN:STANDARD
TZOFFSETFROM:+0200
TZOFFSETTO:+0100
TZNAME:CET
DTSTART:20231029T010000
END:STANDARD
END:VTIMEZONE
BEGIN:VEVENT
DTSTART;TZID=Europe/Madrid:20220706T220000
DTEND;TZID=Europe/Madrid:20220727T233000
DTSTAMP:20260420T065020
CREATED:20220630T130036Z
LAST-MODIFIED:20220630T130036Z
UID:29814-1657144800-1658964600@www.valdeolmos-alalpardo.org
SUMMARY:Del 6 al 27 de julio: Cine de verano
DESCRIPTION:Vuelve el Cine de verano al municipio después de dos años sin ver películas al aire libre por la pandemia. \nEn el Patio de caballos de Alalpardo y en la Plaza Nacional de Valdeolmos. A las 22:00 horas y los siguientes días. \n\n6 de julio en Alalpardo – ‘La llamada salvaje’. No recomendada a menores de 12 años.\n13 de julio en Valdeolmos – ‘A todo tren’. No recomendada a menores de 7 años.\n20 de julio en Alalpardo –  ‘Onward’. Para todos los públicos.\n27 de julio en Valdeolmos – ‘Peter Rabbit 2 a la fuga’. Para todos los públicos.\n\ncartel cine de verano 2022
URL:https://www.valdeolmos-alalpardo.org/evento/del-6-al-27-de-julio-cine-de-verano/
LOCATION:Madrid
ATTACH;FMTTYPE=image/jpeg:https://www.valdeolmos-alalpardo.org/wp-content/uploads/2022/06/cartel-cine-de-verano-2022_page-0001.jpg
END:VEVENT
BEGIN:VEVENT
DTSTART;TZID=Europe/Madrid:20220712T150000
DTEND;TZID=Europe/Madrid:20220728T180000
DTSTAMP:20260420T065020
CREATED:20220706T163030Z
LAST-MODIFIED:20220706T163030Z
UID:29884-1657638000-1659031200@www.valdeolmos-alalpardo.org
SUMMARY:Del 12 al 28 de julio: Curso gratuito de Ofimática en la Nube
DESCRIPTION:Curso para mujeres en edad laboral de Ofimática en la Nube en el CAPI del Ayuntamiento de Valdeolmos-Alalpardo del 12 al 28 de julio. \nEl curso de Google Drive nivel avanzado tendrá una duración de 40 horas lectivas\, 3 horas diarias en horario de tarde (de 15:00 a 18:00 horas). Es gratuito. \n‘PREPARADAS\, mujer\, formación digital y empleo es un módulo de emprendimiento dirigido a mujeres en edad laboral. Son clases teórico-prácticas del 12 al 28 de julio. \nInscripciones hasta el lunes 11 de julio en el mail:  \nayuntamiento@alalpardo.org \nTeléfono: 91 62102153 \nPREPARADAS \n \n 
URL:https://www.valdeolmos-alalpardo.org/evento/del-12-al-28-de-julio-curso-gratuito-de-ofimatica-en-la-nube/
LOCATION:Ayuntamiento de Valdeolmos-Alalpardo\, Calle Alcalá 4\, Alalpardo\, Madrid\, 28130\, España
ATTACH;FMTTYPE=image/jpeg:https://www.valdeolmos-alalpardo.org/wp-content/uploads/2022/07/PREPARADAS_page-0001.jpg
END:VEVENT
BEGIN:VEVENT
DTSTART;TZID=Europe/Madrid:20220715T080000
DTEND;TZID=Europe/Madrid:20220729T170000
DTSTAMP:20260420T065020
CREATED:20220701T141334Z
LAST-MODIFIED:20220729T145909Z
UID:29820-1657872000-1659114000@www.valdeolmos-alalpardo.org
SUMMARY:Del 15 de julio al 4 de agosto: Sin trabajadora social por vacaciones
DESCRIPTION:Vacaciones de la trabajadora social de la Mancomunidad 2016 de Servicios Sociales.  \nLa trabajadora social no atenderá en Valdeolmos-Alalpardo por estar de vacaciones del 15 de julio al 4 de agosto. \nEn situación de urgencia\, ponerse en contacto con Servicio Emergencias Sociales 112. \n  \nCOMUNICACIÓN AYTOS
URL:https://www.valdeolmos-alalpardo.org/evento/del-15-de-julio-al-4-de-agosto-sin-trabajadora-social/
LOCATION:Madrid
ATTACH;FMTTYPE=image/jpeg:https://www.valdeolmos-alalpardo.org/wp-content/uploads/2022/07/COMUNICACION-AYTOS_page-0002.jpg
END:VEVENT
BEGIN:VEVENT
DTSTART;TZID=Europe/Madrid:20220727T220000
DTEND;TZID=Europe/Madrid:20220727T233000
DTSTAMP:20260420T065020
CREATED:20220706T103659Z
LAST-MODIFIED:20220706T103659Z
UID:29874-1658959200-1658964600@www.valdeolmos-alalpardo.org
SUMMARY:27 de julio: Cine de Verano - 'Peter Rabbit 2 a la fuga'
DESCRIPTION:Vuelve el Cine de Verano después de dos años sin películas al aire libre en verano por la pandemia de covid.  \nSINOPSIS PETER RABBIT 2 A LA FUGA’:  A pesar de sus esfuerzos\, Peter parece que no puede sacudir su reputación de travieso entre los otros conejos. Una vez que sale del jardín\, Peter se encuentra en un mundo donde aprecian las travesuras están bien vistas y toleradas\, pero su familia viene a buscarlo para traerlo de vuelta a casa. \nMiércoles 27 de julio\, 22:00 horas en la Plaza Nacional de Valdeolmos. Gratuito.  \nPelícula para todos los públicos. \nPeter Rabbit
URL:https://www.valdeolmos-alalpardo.org/evento/27-de-julio-cine-de-verano-peter-rabbit-2-a-la-fuga/
LOCATION:Madrid
ATTACH;FMTTYPE=image/jpeg:https://www.valdeolmos-alalpardo.org/wp-content/uploads/2022/07/Peter-Rabbit.jpg
END:VEVENT
END:VCALENDAR