BEGIN:VCALENDAR
VERSION:2.0
PRODID:-//Ayuntamiento de Valdeolmos-Alalpardo - ECPv6.15.12.2//NONSGML v1.0//EN
CALSCALE:GREGORIAN
METHOD:PUBLISH
X-ORIGINAL-URL:https://www.valdeolmos-alalpardo.org
X-WR-CALDESC:Eventos para Ayuntamiento de Valdeolmos-Alalpardo
REFRESH-INTERVAL;VALUE=DURATION:PT1H
X-Robots-Tag:noindex
X-PUBLISHED-TTL:PT1H
BEGIN:VTIMEZONE
TZID:Europe/Madrid
BEGIN:DAYLIGHT
TZOFFSETFROM:+0100
TZOFFSETTO:+0200
TZNAME:CEST
DTSTART:20210328T010000
END:DAYLIGHT
BEGIN:STANDARD
TZOFFSETFROM:+0200
TZOFFSETTO:+0100
TZNAME:CET
DTSTART:20211031T010000
END:STANDARD
BEGIN:DAYLIGHT
TZOFFSETFROM:+0100
TZOFFSETTO:+0200
TZNAME:CEST
DTSTART:20220327T010000
END:DAYLIGHT
BEGIN:STANDARD
TZOFFSETFROM:+0200
TZOFFSETTO:+0100
TZNAME:CET
DTSTART:20221030T010000
END:STANDARD
BEGIN:DAYLIGHT
TZOFFSETFROM:+0100
TZOFFSETTO:+0200
TZNAME:CEST
DTSTART:20230326T010000
END:DAYLIGHT
BEGIN:STANDARD
TZOFFSETFROM:+0200
TZOFFSETTO:+0100
TZNAME:CET
DTSTART:20231029T010000
END:STANDARD
END:VTIMEZONE
BEGIN:VEVENT
DTSTART;TZID=Europe/Madrid:20220603T123000
DTEND;TZID=Europe/Madrid:20220603T143000
DTSTAMP:20260421T064255
CREATED:20220530T091843Z
LAST-MODIFIED:20220602T093650Z
UID:29547-1654259400-1654266600@www.valdeolmos-alalpardo.org
SUMMARY:3 de junio: Presentación de las rutas de senderismo y ciclismo
DESCRIPTION:Presentación de las cuatro rutas de senderismo y ciclismo de Valdeolmos-Alalpardo el 3 de junio en la Sala Al-Artis a las 12:30 horas. \nSe proyectará el video de presentación de las 4 rutas. \nAl finalizar habrá un refresco en la Sala de Cristal de la Casa de la Cultura.  \nRutas de senderismo y ciclismo
URL:https://www.valdeolmos-alalpardo.org/evento/3-de-junio-presentacion-de-las-rutas-de-senderismo-y-ciclismo/
LOCATION:Sala Al Artis\, Calle Egidos\, 8\, Valdeolmos-Alalpardo\, Madrid\, 28130\, España
ATTACH;FMTTYPE=image/jpeg:https://www.valdeolmos-alalpardo.org/wp-content/uploads/2022/05/Rutas-de-senderismo-y-ciclismo_page-0001.jpg
END:VEVENT
BEGIN:VEVENT
DTSTART;TZID=Europe/Madrid:20220603T180000
DTEND;TZID=Europe/Madrid:20220603T190000
DTSTAMP:20260421T064255
CREATED:20220601T091146Z
LAST-MODIFIED:20220601T091146Z
UID:29563-1654279200-1654282800@www.valdeolmos-alalpardo.org
SUMMARY:3 de junio: Cuentacuentos y Taller de escenografía en Valdeolmos
DESCRIPTION:Cuentacuentos y otras actividades en el Edificio Administrativo de Valdeolmos el 3 de junio a las 6 de la tarde. \nUn viernes de cada mes\, la Asociación Mas Mundo Arte Sostenible organiza actividades para todas las edades. \n\nDe 18:00 a 19:00 horas: Cuentacuentos para todas las edades. 50 plazas.\nDe 18:00 a 19:00 horas: Taller de Escenografía para cuentacuentos (Imprescindible llevar tijeras\, cartón y barra de pegamento).\n\n50 plazas. Reserva la tuya en: 691 57 58 90 de 17 a 20 horas.  \ncartelcuentacuentosII
URL:https://www.valdeolmos-alalpardo.org/evento/3-de-junio-cuentacuentos-y-taller-de-escenografia-en-valdeolmos/
LOCATION:Madrid
ATTACH;FMTTYPE=image/jpeg:https://www.valdeolmos-alalpardo.org/wp-content/uploads/2022/06/cartelcuentacuentosII_page-0001.jpg
END:VEVENT
BEGIN:VEVENT
DTSTART;TZID=Europe/Madrid:20220603T190000
DTEND;TZID=Europe/Madrid:20220608T200000
DTSTAMP:20260421T064255
CREATED:20220506T111116Z
LAST-MODIFIED:20220603T094727Z
UID:29218-1654282800-1654718400@www.valdeolmos-alalpardo.org
SUMMARY:Del 16 de mayo al 8 de junio: Intensivo de Reggaeton con Niurka
DESCRIPTION:Intensivo de Reaggaeton con Niurka del 16 de mayo al 7 de junio. 22 euros. \nEl miércoles 11 de mayo habrá una demostración a las 19:00 horas en la Sala de Cristal de la Casa de la Cultura de Alalpardo. Precio 5 euros. \n\nPara las inscripciones hay que contactar con la Asociación Valami\, \nPara la Demostración no es necesario inscribirse. Solo hay que presentarse en la Sala acristalada y abonar 5 euros antes del inicio de la clase. \n\n  \n  \nINTENSIVO REGGAETON
URL:https://www.valdeolmos-alalpardo.org/evento/del-16-de-mayo-al-8-de-junio-intensivo-de-reggaeton-con-niurka/
LOCATION:Sala Cristal Casa Cultura Alalpardo\, C/ Egidos 8\, Alalpardo
ATTACH;FMTTYPE=image/jpeg:https://www.valdeolmos-alalpardo.org/wp-content/uploads/2022/05/INTENSIVO-REGGAETON_page-0001.jpg
END:VEVENT
END:VCALENDAR