BEGIN:VCALENDAR
VERSION:2.0
PRODID:-//Ayuntamiento de Valdeolmos-Alalpardo - ECPv6.15.12.2//NONSGML v1.0//EN
CALSCALE:GREGORIAN
METHOD:PUBLISH
X-WR-CALNAME:Ayuntamiento de Valdeolmos-Alalpardo
X-ORIGINAL-URL:https://www.valdeolmos-alalpardo.org
X-WR-CALDESC:Eventos para Ayuntamiento de Valdeolmos-Alalpardo
REFRESH-INTERVAL;VALUE=DURATION:PT1H
X-Robots-Tag:noindex
X-PUBLISHED-TTL:PT1H
BEGIN:VTIMEZONE
TZID:Europe/Madrid
BEGIN:DAYLIGHT
TZOFFSETFROM:+0100
TZOFFSETTO:+0200
TZNAME:CEST
DTSTART:20210328T010000
END:DAYLIGHT
BEGIN:STANDARD
TZOFFSETFROM:+0200
TZOFFSETTO:+0100
TZNAME:CET
DTSTART:20211031T010000
END:STANDARD
BEGIN:DAYLIGHT
TZOFFSETFROM:+0100
TZOFFSETTO:+0200
TZNAME:CEST
DTSTART:20220327T010000
END:DAYLIGHT
BEGIN:STANDARD
TZOFFSETFROM:+0200
TZOFFSETTO:+0100
TZNAME:CET
DTSTART:20221030T010000
END:STANDARD
BEGIN:DAYLIGHT
TZOFFSETFROM:+0100
TZOFFSETTO:+0200
TZNAME:CEST
DTSTART:20230326T010000
END:DAYLIGHT
BEGIN:STANDARD
TZOFFSETFROM:+0200
TZOFFSETTO:+0100
TZNAME:CET
DTSTART:20231029T010000
END:STANDARD
END:VTIMEZONE
BEGIN:VEVENT
DTSTART;TZID=Europe/Madrid:20220116T103000
DTEND;TZID=Europe/Madrid:20220116T150000
DTSTAMP:20260423T165513
CREATED:20211024T101129Z
LAST-MODIFIED:20251105T180142Z
UID:27413-1642329000-1642345200@www.valdeolmos-alalpardo.org
SUMMARY:16 de enero: X Trail del Serrucho
DESCRIPTION:El Alalpardo Running Team organiza la décima edición del Trail del Serrucho el 16 de enero de 2022. Te esperan 24 kilómetros de sana competencia\, diversión y un avituallamiento donde no faltará de nada. \nTrail del Serrucho 10 v2 \n       \n  \nPuedes venir con los tuyos porque habrá guardería para los más peques. El lugar de recepción será el polideportivo cubierto con buena calefacción\, duchas y el calor de todos los voluntarios\, verdaderos protagonistas de este evento.\n\nEl parking estará en el antiguo campo de fútbol al lado del mismo polideportivo.\n\nSe cumplirán con las medidas actuales sanitarias\, según la normativa vigente de las autoridades nacionales y comunitarias (Madrid) con respecto a la Covid19.\n\nHa habido ediciones anteriores con mucho viento y frío\, barro\, nieve\, seco… ¿Qué sorpresa tendremos este enero de 2022?\n\n Precio 15€\, donativo 1 euro para Cáritas.\n 
URL:https://www.valdeolmos-alalpardo.org/evento/16-de-enero-x-trail-del-serrucho/
LOCATION:Plaza de Toros de Alalpardo
ATTACH;FMTTYPE=image/jpeg:https://www.valdeolmos-alalpardo.org/wp-content/uploads/2021/10/Trail-del-Serrucho-10-v2_page-0001.jpg
END:VEVENT
END:VCALENDAR