BEGIN:VCALENDAR
VERSION:2.0
PRODID:-//Ayuntamiento de Valdeolmos-Alalpardo - ECPv6.15.12.2//NONSGML v1.0//EN
CALSCALE:GREGORIAN
METHOD:PUBLISH
X-WR-CALNAME:Ayuntamiento de Valdeolmos-Alalpardo
X-ORIGINAL-URL:https://www.valdeolmos-alalpardo.org
X-WR-CALDESC:Eventos para Ayuntamiento de Valdeolmos-Alalpardo
REFRESH-INTERVAL;VALUE=DURATION:PT1H
X-Robots-Tag:noindex
X-PUBLISHED-TTL:PT1H
BEGIN:VTIMEZONE
TZID:Europe/Madrid
BEGIN:DAYLIGHT
TZOFFSETFROM:+0100
TZOFFSETTO:+0200
TZNAME:CEST
DTSTART:20200329T010000
END:DAYLIGHT
BEGIN:STANDARD
TZOFFSETFROM:+0200
TZOFFSETTO:+0100
TZNAME:CET
DTSTART:20201025T010000
END:STANDARD
BEGIN:DAYLIGHT
TZOFFSETFROM:+0100
TZOFFSETTO:+0200
TZNAME:CEST
DTSTART:20210328T010000
END:DAYLIGHT
BEGIN:STANDARD
TZOFFSETFROM:+0200
TZOFFSETTO:+0100
TZNAME:CET
DTSTART:20211031T010000
END:STANDARD
BEGIN:DAYLIGHT
TZOFFSETFROM:+0100
TZOFFSETTO:+0200
TZNAME:CEST
DTSTART:20220327T010000
END:DAYLIGHT
BEGIN:STANDARD
TZOFFSETFROM:+0200
TZOFFSETTO:+0100
TZNAME:CET
DTSTART:20221030T010000
END:STANDARD
END:VTIMEZONE
BEGIN:VEVENT
DTSTART;TZID=Europe/Madrid:20211109T170000
DTEND;TZID=Europe/Madrid:20211123T180000
DTSTAMP:20260420T215702
CREATED:20211025T104630Z
LAST-MODIFIED:20211112T002151Z
UID:27429-1636477200-1637690400@www.valdeolmos-alalpardo.org
SUMMARY:Taller online: 'Gestionar desde casa es posible'
DESCRIPTION:2\, 9\, 16 y 23 de noviembre tendrá lugar el Taller online ‘Gestionar desde casa es posible’. Horario: 17:00 horas \nPara inscribirte\, contacta con aiomanco2016@gmail.com de la Mancomunidad 2016. \n 
URL:https://www.valdeolmos-alalpardo.org/evento/taller-online-gestionar-desde-casa-es-posible/
LOCATION:Madrid
ATTACH;FMTTYPE=image/png:https://www.valdeolmos-alalpardo.org/wp-content/uploads/2021/10/ddd.png
END:VEVENT
BEGIN:VEVENT
DTSTART;TZID=Europe/Madrid:20211117T173000
DTEND;TZID=Europe/Madrid:20211117T190000
DTSTAMP:20260420T215702
CREATED:20211117T094305Z
LAST-MODIFIED:20211117T095227Z
UID:27638-1637170200-1637175600@www.valdeolmos-alalpardo.org
SUMMARY:17 de noviembre: Entrega de Premios a los Mejores Estudiantes
DESCRIPTION:El Ayuntamiento de Valdeolmos-Alalpardo lleva una docena de años premiando a los Mejores Estudiantes del municipio.  \nSe premia al mejor estudiante de cada uno de los cursos de primaria del Colegio Ramón Linacero y de los cursos de primaria\, secundaria y bachillerato del Colegio Arula. Se trata de una destacar el talento pero también el esfuerzo y el sacrificio. \nLos premiados y premiadas junto a sus familiares acudirán a la Sala Al-Artis el 17 de noviembre a las 17:30 horas.  \n  \n \nCartel Premio Mejores Estudiantes
URL:https://www.valdeolmos-alalpardo.org/evento/17-de-noviembre-entrega-de-premios-a-los-mejores-estudiantes/
LOCATION:Sala Al Artis\, Calle Egidos\, 8\, Valdeolmos-Alalpardo\, Madrid\, 28130\, España
ATTACH;FMTTYPE=image/jpeg:https://www.valdeolmos-alalpardo.org/wp-content/uploads/2021/11/Cartel-Premio-Mejores-Estudiantes_page-0001.jpg
END:VEVENT
BEGIN:VEVENT
DTSTART;TZID=Europe/Madrid:20211117T180000
DTEND;TZID=Europe/Madrid:20211117T200000
DTSTAMP:20260420T215702
CREATED:20211111T231744Z
LAST-MODIFIED:20211111T231744Z
UID:27585-1637172000-1637179200@www.valdeolmos-alalpardo.org
SUMMARY:17 de noviembre: Preparación de semilleros - Proyecto de Dinamización Ambiental
DESCRIPTION:Taller de preparación de semilleros dentro del Proyecto de Dinamización Ambiental. \nSe trata de un taller gratuito para jóvenes de entre 10 y 16 años que tendrá lugar en el Aula de la Casa de la Cultura de Alalpardo el miércoles 17 de noviembre de 18:00 a 20:00 horas.   \nTodavía quedan plazas. \n \n 
URL:https://www.valdeolmos-alalpardo.org/evento/17-de-noviembre-preparacion-de-semilleros-proyecto-de-dinamizacion-ambiental/
LOCATION:Aula Casa de la Cultura de Alalpardo\, Calle Egidos\, 8\, Alalpardo\, Madrid\, 28130\, España
ATTACH;FMTTYPE=image/png:https://www.valdeolmos-alalpardo.org/wp-content/uploads/2021/11/el-cine-trata-de-lo-que-esta-dentro-del-plano-y-de-lo-que-esta-fuera-1.png
END:VEVENT
END:VCALENDAR