BEGIN:VCALENDAR
VERSION:2.0
PRODID:-//Ayuntamiento de Valdeolmos-Alalpardo - ECPv6.15.12.2//NONSGML v1.0//EN
CALSCALE:GREGORIAN
METHOD:PUBLISH
X-WR-CALNAME:Ayuntamiento de Valdeolmos-Alalpardo
X-ORIGINAL-URL:https://www.valdeolmos-alalpardo.org
X-WR-CALDESC:Eventos para Ayuntamiento de Valdeolmos-Alalpardo
REFRESH-INTERVAL;VALUE=DURATION:PT1H
X-Robots-Tag:noindex
X-PUBLISHED-TTL:PT1H
BEGIN:VTIMEZONE
TZID:Europe/Madrid
BEGIN:DAYLIGHT
TZOFFSETFROM:+0100
TZOFFSETTO:+0200
TZNAME:CEST
DTSTART:20200329T010000
END:DAYLIGHT
BEGIN:STANDARD
TZOFFSETFROM:+0200
TZOFFSETTO:+0100
TZNAME:CET
DTSTART:20201025T010000
END:STANDARD
BEGIN:DAYLIGHT
TZOFFSETFROM:+0100
TZOFFSETTO:+0200
TZNAME:CEST
DTSTART:20210328T010000
END:DAYLIGHT
BEGIN:STANDARD
TZOFFSETFROM:+0200
TZOFFSETTO:+0100
TZNAME:CET
DTSTART:20211031T010000
END:STANDARD
BEGIN:DAYLIGHT
TZOFFSETFROM:+0100
TZOFFSETTO:+0200
TZNAME:CEST
DTSTART:20220327T010000
END:DAYLIGHT
BEGIN:STANDARD
TZOFFSETFROM:+0200
TZOFFSETTO:+0100
TZNAME:CET
DTSTART:20221030T010000
END:STANDARD
END:VTIMEZONE
BEGIN:VEVENT
DTSTART;TZID=Europe/Madrid:20211022T200000
DTEND;TZID=Europe/Madrid:20211107T200000
DTSTAMP:20260420T044021
CREATED:20211013T175356Z
LAST-MODIFIED:20211013T175603Z
UID:27296-1634932800-1636315200@www.valdeolmos-alalpardo.org
SUMMARY:Exposición 'La mujer y el vino' en la Sala Artis
DESCRIPTION:Del 22 de octubre al 7 de noviembre puedes ver en la Sala Al-Artis la Exposición ‘La mujer y el vino’. \nLa Exposición resalta el papel femenino en la cultura del vino.  La mujer a través de la cultura del vino es un recorrido por el arte con la mujer como protagonista en un mundo tradicionalmente perteneciente a los hombres. \nEl proyecto parte de la Fundación Dinastía Vivanco\, de la marca vinícola riojana de mismo nombre. La Fundación Dinastía Vivanco gestiona el Museo de la Cultura del Vino Dinastía Vivanco\, situado en la localidad riojana de Briones junto a la bodega. \nLa Exposición se inaugura el viernes 22 de octubre a las 20:00 horas en la Sala Al-Artis. \nHorario de visita: \nDe lunes a viernes: de 18:00 a 20:00 horas. \nSábados y domingos: de 12:00 a 14:00 y de 18:00 a 20:00 horas. \n  \n \nCartel Exposición_LA MUJER Y EL VINO
URL:https://www.valdeolmos-alalpardo.org/evento/exposicion-la-mujer-y-el-vino-en-la-sala-artis/
LOCATION:Sala Al Artis\, Calle Egidos\, 8\, Valdeolmos-Alalpardo\, Madrid\, 28130\, España
ATTACH;FMTTYPE=image/jpeg:https://www.valdeolmos-alalpardo.org/wp-content/uploads/2021/10/Cartel-Exposicion_LA-MUJER-Y-EL-VINO_page-0001-1.jpg
END:VEVENT
BEGIN:VEVENT
DTSTART;TZID=Europe/Madrid:20211023T093000
DTEND;TZID=Europe/Madrid:20211023T163000
DTSTAMP:20260420T044021
CREATED:20211018T153109Z
LAST-MODIFIED:20211018T153353Z
UID:27358-1634981400-1635006600@www.valdeolmos-alalpardo.org
SUMMARY:Sábado 23 octubre: Excursión al Parque de aventura en los árboles / Todavía quedan plazas
DESCRIPTION:Excursión a Cercedilla el 23 de octubre a Amazonia\, el Parque de aventura y tirolinas en los árboles.  \nSi tienes entre 10 y 16 años\, todavía puedes apuntarte a la excursión en la sierra de Madrid dentro del Proyecto de Dinamización Ambiental realizado en el municipio. \nPrecio 15 euros. De 9:30 a 16:30 horas con salida desde el Consultorio Local de Alalpardo. \nEs imprescindible asistir a alguno de los talleres entre semana para participar en las actividades de los sábados. \n 
URL:https://www.valdeolmos-alalpardo.org/evento/sabado-23-octubre-excursion-al-parque-de-aventuras-en-los-arboles-todavia-quedan-plazas/
LOCATION:Madrid
ATTACH;FMTTYPE=image/png:https://www.valdeolmos-alalpardo.org/wp-content/uploads/2021/10/eee.png
END:VEVENT
BEGIN:VEVENT
DTSTART;TZID=Europe/Madrid:20211023T203000
DTEND;TZID=Europe/Madrid:20211023T220000
DTSTAMP:20260420T044021
CREATED:20211008T110505Z
LAST-MODIFIED:20211010T044914Z
UID:27265-1635021000-1635026400@www.valdeolmos-alalpardo.org
SUMMARY:23 octubre: Homenaje Centenario de Astor Piazzola
DESCRIPTION:Se cumple un siglo del nacimiento de uno de los compositores de tango más importantes del mundo\, Ástor Piazzolla. El Teatro Estudio Sara Baras le rinde homenaje el 23 de octubre con un concierto de Trio Jazz Tango. \nHomenaje Piazzolla \n \n  \nÁstor Pantaleón Piazzolla fue un bandoneonista y compositor argentino considerado uno de los músicos más importantes del siglo XX​​ y uno de los compositores más importantes de tango en todo el mundo. Nació el 11 de marzo de 1921. Fue uno de los artífices de la renovación del tango. \nPrecio entrada: 5 euros \nAdquisición entradas: Café del Teatro \nAplicación Normas Covid-19. \nPor seguridad la entrada será escalonada. Apertura de puertas 20:00 horas. \n 
URL:https://www.valdeolmos-alalpardo.org/evento/homenaje-centenario-de-astor-piazzola/
LOCATION:Teatro-Estudio Sara Baras\, C/ Olivar 1\, Valdeolmos\, 28130
ATTACH;FMTTYPE=image/jpeg:https://www.valdeolmos-alalpardo.org/wp-content/uploads/2021/10/homenaje-astor-piazzolla_page-0001-1693082241043793849..jpg
END:VEVENT
END:VCALENDAR