BEGIN:VCALENDAR
VERSION:2.0
PRODID:-//Ayuntamiento de Valdeolmos-Alalpardo - ECPv6.15.12.2//NONSGML v1.0//EN
CALSCALE:GREGORIAN
METHOD:PUBLISH
X-WR-CALNAME:Ayuntamiento de Valdeolmos-Alalpardo
X-ORIGINAL-URL:https://www.valdeolmos-alalpardo.org
X-WR-CALDESC:Eventos para Ayuntamiento de Valdeolmos-Alalpardo
REFRESH-INTERVAL;VALUE=DURATION:PT1H
X-Robots-Tag:noindex
X-PUBLISHED-TTL:PT1H
BEGIN:VTIMEZONE
TZID:Europe/Madrid
BEGIN:DAYLIGHT
TZOFFSETFROM:+0100
TZOFFSETTO:+0200
TZNAME:CEST
DTSTART:20200329T010000
END:DAYLIGHT
BEGIN:STANDARD
TZOFFSETFROM:+0200
TZOFFSETTO:+0100
TZNAME:CET
DTSTART:20201025T010000
END:STANDARD
BEGIN:DAYLIGHT
TZOFFSETFROM:+0100
TZOFFSETTO:+0200
TZNAME:CEST
DTSTART:20210328T010000
END:DAYLIGHT
BEGIN:STANDARD
TZOFFSETFROM:+0200
TZOFFSETTO:+0100
TZNAME:CET
DTSTART:20211031T010000
END:STANDARD
BEGIN:DAYLIGHT
TZOFFSETFROM:+0100
TZOFFSETTO:+0200
TZNAME:CEST
DTSTART:20220327T010000
END:DAYLIGHT
BEGIN:STANDARD
TZOFFSETFROM:+0200
TZOFFSETTO:+0100
TZNAME:CET
DTSTART:20221030T010000
END:STANDARD
END:VTIMEZONE
BEGIN:VEVENT
DTSTART;TZID=Europe/Madrid:20211022T120000
DTEND;TZID=Europe/Madrid:20211022T133000
DTSTAMP:20260420T065046
CREATED:20211019T124140Z
LAST-MODIFIED:20211019T124140Z
UID:27370-1634904000-1634909400@www.valdeolmos-alalpardo.org
SUMMARY:22 octubre: Taller MEMORIZA en el Hogar del Jubilado de Alalpardo
DESCRIPTION:El viernes 22 de octubre de 12:00 a 13:30 horas tendrá lugar el Taller ‘MEMORIZA’ en el Hogar del Jubilado de Alalpardo.  \nEl Taller lo organiza la Mancomunidad 2016.  Te esperamos. \n 
URL:https://www.valdeolmos-alalpardo.org/evento/22-octubre-taller-memoriza-en-el-hogar-del-jubilado-de-alalpardo/
LOCATION:Hogar del Jubilado de Alalpardo\, C/ Carlos Martín Alvárez 6\, Alalpardo\, 28130
ATTACH;FMTTYPE=image/jpeg:https://www.valdeolmos-alalpardo.org/wp-content/uploads/2021/10/Alalpardo-1_page-0001.jpg
END:VEVENT
BEGIN:VEVENT
DTSTART;TZID=Europe/Madrid:20211022T200000
DTEND;TZID=Europe/Madrid:20211107T200000
DTSTAMP:20260420T065046
CREATED:20211013T175356Z
LAST-MODIFIED:20211013T175603Z
UID:27296-1634932800-1636315200@www.valdeolmos-alalpardo.org
SUMMARY:Exposición 'La mujer y el vino' en la Sala Artis
DESCRIPTION:Del 22 de octubre al 7 de noviembre puedes ver en la Sala Al-Artis la Exposición ‘La mujer y el vino’. \nLa Exposición resalta el papel femenino en la cultura del vino.  La mujer a través de la cultura del vino es un recorrido por el arte con la mujer como protagonista en un mundo tradicionalmente perteneciente a los hombres. \nEl proyecto parte de la Fundación Dinastía Vivanco\, de la marca vinícola riojana de mismo nombre. La Fundación Dinastía Vivanco gestiona el Museo de la Cultura del Vino Dinastía Vivanco\, situado en la localidad riojana de Briones junto a la bodega. \nLa Exposición se inaugura el viernes 22 de octubre a las 20:00 horas en la Sala Al-Artis. \nHorario de visita: \nDe lunes a viernes: de 18:00 a 20:00 horas. \nSábados y domingos: de 12:00 a 14:00 y de 18:00 a 20:00 horas. \n  \n \nCartel Exposición_LA MUJER Y EL VINO
URL:https://www.valdeolmos-alalpardo.org/evento/exposicion-la-mujer-y-el-vino-en-la-sala-artis/
LOCATION:Sala Al Artis\, Calle Egidos\, 8\, Valdeolmos-Alalpardo\, Madrid\, 28130\, España
ATTACH;FMTTYPE=image/jpeg:https://www.valdeolmos-alalpardo.org/wp-content/uploads/2021/10/Cartel-Exposicion_LA-MUJER-Y-EL-VINO_page-0001-1.jpg
END:VEVENT
END:VCALENDAR