BEGIN:VCALENDAR
VERSION:2.0
PRODID:-//Ayuntamiento de Valdeolmos-Alalpardo - ECPv6.15.12.2//NONSGML v1.0//EN
CALSCALE:GREGORIAN
METHOD:PUBLISH
X-ORIGINAL-URL:https://www.valdeolmos-alalpardo.org
X-WR-CALDESC:Eventos para Ayuntamiento de Valdeolmos-Alalpardo
REFRESH-INTERVAL;VALUE=DURATION:PT1H
X-Robots-Tag:noindex
X-PUBLISHED-TTL:PT1H
BEGIN:VTIMEZONE
TZID:Europe/Madrid
BEGIN:DAYLIGHT
TZOFFSETFROM:+0100
TZOFFSETTO:+0200
TZNAME:CEST
DTSTART:20190331T010000
END:DAYLIGHT
BEGIN:STANDARD
TZOFFSETFROM:+0200
TZOFFSETTO:+0100
TZNAME:CET
DTSTART:20191027T010000
END:STANDARD
BEGIN:DAYLIGHT
TZOFFSETFROM:+0100
TZOFFSETTO:+0200
TZNAME:CEST
DTSTART:20200329T010000
END:DAYLIGHT
BEGIN:STANDARD
TZOFFSETFROM:+0200
TZOFFSETTO:+0100
TZNAME:CET
DTSTART:20201025T010000
END:STANDARD
BEGIN:DAYLIGHT
TZOFFSETFROM:+0100
TZOFFSETTO:+0200
TZNAME:CEST
DTSTART:20210328T010000
END:DAYLIGHT
BEGIN:STANDARD
TZOFFSETFROM:+0200
TZOFFSETTO:+0100
TZNAME:CET
DTSTART:20211031T010000
END:STANDARD
END:VTIMEZONE
BEGIN:VEVENT
DTSTART;TZID=Europe/Madrid:20200806T000000
DTEND;TZID=Europe/Madrid:20200806T013000
DTSTAMP:20260419T192440
CREATED:20200728T083743Z
LAST-MODIFIED:20200728T083743Z
UID:23856-1596672000-1596677400@www.valdeolmos-alalpardo.org
SUMMARY:Cine de Verano: PADRE NO HAY MÁS QUE UNO
DESCRIPTION:CINE DE VERANO: PADRE NO HAY MÁS QUE UNO.\nJavier es un hombre que cree saberlo todo\, pero no mueve un dedo para ayudar a su mujer en el cuidado de la casa y de sus cinco hijos. Sin embargo\, este padre de familia tiene que enfrentarse a la realidad cuando su mujer decide irse de viaje y dejarlo solo con sus hijos. Esta será una experiencia que cambiará las vidas de todos para siempre. \nDisfruta de esta divertida película dirigida por Santiago Segura para todos los públicos. Podrás verla el día 5 de agosto en el patio de caballos de Alalpardo. \nPor seguridad frente al contagio de Covid\, los espectadores deberán llevar su silla de casa. \n \n  \n 
URL:https://www.valdeolmos-alalpardo.org/evento/cine-de-verano-padre-no-hay-mas-que-uno/
LOCATION:Patio de Caballos\, C/ Alcalá 21\, Alalpardo\, 28130
ATTACH;FMTTYPE=:
END:VEVENT
END:VCALENDAR