BEGIN:VCALENDAR
VERSION:2.0
PRODID:-//Ayuntamiento de Valdeolmos-Alalpardo - ECPv6.15.12.2//NONSGML v1.0//EN
CALSCALE:GREGORIAN
METHOD:PUBLISH
X-WR-CALNAME:Ayuntamiento de Valdeolmos-Alalpardo
X-ORIGINAL-URL:https://www.valdeolmos-alalpardo.org
X-WR-CALDESC:Eventos para Ayuntamiento de Valdeolmos-Alalpardo
REFRESH-INTERVAL;VALUE=DURATION:PT1H
X-Robots-Tag:noindex
X-PUBLISHED-TTL:PT1H
BEGIN:VTIMEZONE
TZID:Europe/Madrid
BEGIN:DAYLIGHT
TZOFFSETFROM:+0100
TZOFFSETTO:+0200
TZNAME:CEST
DTSTART:20190331T010000
END:DAYLIGHT
BEGIN:STANDARD
TZOFFSETFROM:+0200
TZOFFSETTO:+0100
TZNAME:CET
DTSTART:20191027T010000
END:STANDARD
BEGIN:DAYLIGHT
TZOFFSETFROM:+0100
TZOFFSETTO:+0200
TZNAME:CEST
DTSTART:20200329T010000
END:DAYLIGHT
BEGIN:STANDARD
TZOFFSETFROM:+0200
TZOFFSETTO:+0100
TZNAME:CET
DTSTART:20201025T010000
END:STANDARD
BEGIN:DAYLIGHT
TZOFFSETFROM:+0100
TZOFFSETTO:+0200
TZNAME:CEST
DTSTART:20210328T010000
END:DAYLIGHT
BEGIN:STANDARD
TZOFFSETFROM:+0200
TZOFFSETTO:+0100
TZNAME:CET
DTSTART:20211031T010000
END:STANDARD
END:VTIMEZONE
BEGIN:VEVENT
DTSTART;TZID=Europe/Madrid:20200305T160000
DTEND;TZID=Europe/Madrid:20200319T160000
DTSTAMP:20260419T135912
CREATED:20200305T142954Z
LAST-MODIFIED:20200306T222149Z
UID:22020-1583424000-1584633600@www.valdeolmos-alalpardo.org
SUMMARY:BIBLIOBÚS en marzo
DESCRIPTION:LA BIBLIOTECA MÓVIL VUELVE AL MUNICIPO CARGADO DE LIBROS PARA PRESTAR.\nEs curioso subir a un autobús donde no hay asientos ni pasajeros\, sólo libros\, cómics\, revistas y música. Si solicitas el carnet\, te puedas llevar a casa 3 libros\, 3 CD o DVD y una revista durante 15 días. ¡Te encantará! \nEn el mes de marzo encontrarás el bibliobús los días 5 y 19. Estará casi dos horas en la calle Alcalá\, la calle de los colegios. De 15:30 a 17:15 horas. \n  \n\n  \n\n 
URL:https://www.valdeolmos-alalpardo.org/evento/bibliobus-en-marzo/
LOCATION:Madrid
END:VEVENT
BEGIN:VEVENT
DTSTART;TZID=Europe/Madrid:20200305T160000
DTEND;TZID=Europe/Madrid:20200319T160000
DTSTAMP:20260419T135912
CREATED:20200305T142954Z
LAST-MODIFIED:20200305T142954Z
UID:23848-1583424000-1584633600@www.valdeolmos-alalpardo.org
SUMMARY:BIBLIOBÚS en marzo
DESCRIPTION:LA BIBLIOTECA MÓVIL VUELVE AL MUNICIPO CARGADO DE LIBROS PARA PRESTAR.\nEs curioso subir a un autobús donde no hay asientos ni pasajeros\, sólo libros\, cómics\, revistas y música. Si solicitas el carnet\, te puedas llevar a casa 3 libros\, 3 CD o DVD y una revista durante 15 días. ¡Te encantará! \nEn el mes de marzo encontrarás el bibliobús los días 5 y 19. Estará casi dos horas en la calle Alcalá\, la calle de los colegios. De 15:30 a 17:15 horas. \n  \n\n  \n\n 
URL:https://www.valdeolmos-alalpardo.org/evento/bibliobus-en-marzo-2/
LOCATION:Madrid
END:VEVENT
BEGIN:VEVENT
DTSTART;TZID=Europe/Madrid:20200313T203000
DTEND;TZID=Europe/Madrid:20200313T220000
DTSTAMP:20260419T135912
CREATED:20200224T223921Z
LAST-MODIFIED:20200311T113317Z
UID:21923-1584131400-1584136800@www.valdeolmos-alalpardo.org
SUMMARY:TEATRO por el Día de la Mujer
DESCRIPTION:CANCELADO POR LAS MEDIDAS PREVENTIVAS SOBRE EL CORONAVIRUS\nSe acerca el Día de la Mujer\, el 8 de marzo y lo celebraremos con una obra de teatro en la Casa de la Cultura de Alalpardo.  \nPodrás ver LA JUNGLA DE CRISTAL el 13 de marzo a las 19:30.  \nEntrada gratuita.  \nEsta obra perteneciente al género melodramático se desarrolla en 3 partes. Trata sobre un matrimonio joven y moderno en el que la carga del trabajo empieza a pesar\, sobre todo\, en la mujer.  \n  \n 
URL:https://www.valdeolmos-alalpardo.org/evento/teatro-por-el-dia-de-la-mujer/
LOCATION:Madrid
ATTACH;FMTTYPE=image/jpeg:https://www.valdeolmos-alalpardo.org/wp-content/uploads/VO-AL-LA-JAULA-DE-CRISTAL-1_page-0001.jpg
END:VEVENT
BEGIN:VEVENT
DTSTART;TZID=Europe/Madrid:20200313T203000
DTEND;TZID=Europe/Madrid:20200313T220000
DTSTAMP:20260419T135912
CREATED:20200224T223921Z
LAST-MODIFIED:20200224T223921Z
UID:23844-1584131400-1584136800@www.valdeolmos-alalpardo.org
SUMMARY:TEATRO por el Día de la Mujer
DESCRIPTION:CANCELADO POR LAS MEDIDAS PREVENTIVAS SOBRE EL CORONAVIRUS\nSe acerca el Día de la Mujer\, el 8 de marzo y lo celebraremos con una obra de teatro en la Casa de la Cultura de Alalpardo.  \nPodrás ver LA JUNGLA DE CRISTAL el 13 de marzo a las 19:30.  \nEntrada gratuita.  \nEsta obra perteneciente al género melodramático se desarrolla en 3 partes. Trata sobre un matrimonio joven y moderno en el que la carga del trabajo empieza a pesar\, sobre todo\, en la mujer.  \n  \n 
URL:https://www.valdeolmos-alalpardo.org/evento/teatro-por-el-dia-de-la-mujer-2/
LOCATION:Madrid
END:VEVENT
END:VCALENDAR