BEGIN:VCALENDAR
VERSION:2.0
PRODID:-//Ayuntamiento de Valdeolmos-Alalpardo - ECPv6.15.12.2//NONSGML v1.0//EN
CALSCALE:GREGORIAN
METHOD:PUBLISH
X-WR-CALNAME:Ayuntamiento de Valdeolmos-Alalpardo
X-ORIGINAL-URL:https://www.valdeolmos-alalpardo.org
X-WR-CALDESC:Eventos para Ayuntamiento de Valdeolmos-Alalpardo
REFRESH-INTERVAL;VALUE=DURATION:PT1H
X-Robots-Tag:noindex
X-PUBLISHED-TTL:PT1H
BEGIN:VTIMEZONE
TZID:Europe/Madrid
BEGIN:DAYLIGHT
TZOFFSETFROM:+0100
TZOFFSETTO:+0200
TZNAME:CEST
DTSTART:20190331T010000
END:DAYLIGHT
BEGIN:STANDARD
TZOFFSETFROM:+0200
TZOFFSETTO:+0100
TZNAME:CET
DTSTART:20191027T010000
END:STANDARD
BEGIN:DAYLIGHT
TZOFFSETFROM:+0100
TZOFFSETTO:+0200
TZNAME:CEST
DTSTART:20200329T010000
END:DAYLIGHT
BEGIN:STANDARD
TZOFFSETFROM:+0200
TZOFFSETTO:+0100
TZNAME:CET
DTSTART:20201025T010000
END:STANDARD
BEGIN:DAYLIGHT
TZOFFSETFROM:+0100
TZOFFSETTO:+0200
TZNAME:CEST
DTSTART:20210328T010000
END:DAYLIGHT
BEGIN:STANDARD
TZOFFSETFROM:+0200
TZOFFSETTO:+0100
TZNAME:CET
DTSTART:20211031T010000
END:STANDARD
END:VTIMEZONE
BEGIN:VEVENT
DTSTART;VALUE=DATE:20200125
DTEND;VALUE=DATE:20200127
DTSTAMP:20260420T215707
CREATED:20200113T222735Z
LAST-MODIFIED:20200113T222735Z
UID:21247-1579914000-1580000399@www.valdeolmos-alalpardo.org
SUMMARY:Fiestas de SAN SEBASTIÁN\, PATRÓN DE ALALPARDO
DESCRIPTION:LLEGAN LAS FIESTAS DEL PATRÓN DE ALALPARDO. SE ACERCAN LAS FIESTAS DE SAN SEBASTIÁN\nSan Sebastián no es un santo más\, es el Santo Patrón de Alalpardo y eso se nota en la localidad. En enero llegan las Fiestas en honor al Santo. Los vecinos sacarán en procesión a San Sebastián. \nConsulta los carteles. \n \n  \n  \n  \n  \n  \n  \n  \n  \n  \nSan Sebastián Campeonatos cartas \nCartel Fiesta de San Sebastián 2020(1)
URL:https://www.valdeolmos-alalpardo.org/evento/fiestas-de-san-sebastian-patron-de-alalpardo/
LOCATION:Alalpardo\, Alalpardo\, Valdeolmos-Alalpardo\, Madrid\, 28130\, España
ATTACH;FMTTYPE=image/jpeg:https://www.valdeolmos-alalpardo.org/wp-content/uploads/24KS1ce.jpg
END:VEVENT
BEGIN:VEVENT
DTSTART;VALUE=DATE:20200125
DTEND;VALUE=DATE:20200127
DTSTAMP:20260420T215707
CREATED:20200113T222735Z
LAST-MODIFIED:20200113T222735Z
UID:23832-1579914000-1580000399@www.valdeolmos-alalpardo.org
SUMMARY:Fiestas de SAN SEBASTIÁN\, PATRÓN DE ALALPARDO
DESCRIPTION:LLEGAN LAS FIESTAS DEL PATRÓN DE ALALPARDO. SE ACERCAN LAS FIESTAS DE SAN SEBASTIÁN\nSan Sebastián no es un santo más\, es el Santo Patrón de Alalpardo y eso se nota en la localidad. En enero llegan las Fiestas en honor al Santo. Los vecinos sacarán en procesión a San Sebastián. \nConsulta los carteles. \n \n  \n  \n  \n  \n  \n  \n  \n  \n  \nSan Sebastián Campeonatos cartas \nCartel Fiesta de San Sebastián 2020(1)
URL:https://www.valdeolmos-alalpardo.org/evento/fiestas-de-san-sebastian-patron-de-alalpardo-2/
LOCATION:Alalpardo\, Alalpardo\, Valdeolmos-Alalpardo\, Madrid\, 28130\, España
ATTACH;FMTTYPE=image/jpeg:https://www.valdeolmos-alalpardo.org/wp-content/uploads/24KS1ce.jpg
END:VEVENT
END:VCALENDAR