BEGIN:VCALENDAR
VERSION:2.0
PRODID:-//Ayuntamiento de Valdeolmos-Alalpardo - ECPv6.15.12.2//NONSGML v1.0//EN
CALSCALE:GREGORIAN
METHOD:PUBLISH
X-ORIGINAL-URL:https://www.valdeolmos-alalpardo.org
X-WR-CALDESC:Eventos para Ayuntamiento de Valdeolmos-Alalpardo
REFRESH-INTERVAL;VALUE=DURATION:PT1H
X-Robots-Tag:noindex
X-PUBLISHED-TTL:PT1H
BEGIN:VTIMEZONE
TZID:Europe/Madrid
BEGIN:DAYLIGHT
TZOFFSETFROM:+0100
TZOFFSETTO:+0200
TZNAME:CEST
DTSTART:20190331T010000
END:DAYLIGHT
BEGIN:STANDARD
TZOFFSETFROM:+0200
TZOFFSETTO:+0100
TZNAME:CET
DTSTART:20191027T010000
END:STANDARD
BEGIN:DAYLIGHT
TZOFFSETFROM:+0100
TZOFFSETTO:+0200
TZNAME:CEST
DTSTART:20200329T010000
END:DAYLIGHT
BEGIN:STANDARD
TZOFFSETFROM:+0200
TZOFFSETTO:+0100
TZNAME:CET
DTSTART:20201025T010000
END:STANDARD
BEGIN:DAYLIGHT
TZOFFSETFROM:+0100
TZOFFSETTO:+0200
TZNAME:CEST
DTSTART:20210328T010000
END:DAYLIGHT
BEGIN:STANDARD
TZOFFSETFROM:+0200
TZOFFSETTO:+0100
TZNAME:CET
DTSTART:20211031T010000
END:STANDARD
END:VTIMEZONE
BEGIN:VEVENT
DTSTART;TZID=Europe/Madrid:20200112T113000
DTEND;TZID=Europe/Madrid:20200112T150000
DTSTAMP:20260420T215614
CREATED:20191022T140028Z
LAST-MODIFIED:20251105T180208Z
UID:20525-1578828600-1578841200@www.valdeolmos-alalpardo.org
SUMMARY:VIII Trail del SERRUCHO y I SERRUCHÍN
DESCRIPTION:8 AÑOS CORRIENDO EL TRAIL DEL SERRUCHO QUE ESTE AÑO TRAE NOVEDADES. SE CELEBRA POR PRIMERA VEZ EL SERRUCHÍN\nYa puedes inscribirte al Trail del SERRUCHO que transcurre cada año por subidas y bajadas en los caminos de la Villa de Alalpardo.\n\nEl 12 de enero a las 10:30 horas se correrá la octava edición del Trail del SERRUCHO\, El primer Trail del año de la Comunidad de Madrid. \n\nAdemás este año\, viene cargado de NOVEDADES porque por PRIMERA VEZ se correrá también EL SERRUCHÍN\, versión corta del Trail del Club Alalpardo Running Team ART.\n\nSerá una carrera NO COMPETITIVA de iniciación y aprendizaje al Trail Running para los más pequeños. Habrá 3 circuitos con distintas distancias en función de las edades.\n\n\n\n \n\n \n\n 
URL:https://www.valdeolmos-alalpardo.org/evento/viii-trail-del-serrucho-i-del-serruchin/
LOCATION:Plaza de Toros de Alalpardo
ATTACH;FMTTYPE=image/jpeg:https://www.valdeolmos-alalpardo.org/wp-content/uploads/IMG_20191022_170340_090.jpg
END:VEVENT
BEGIN:VEVENT
DTSTART;TZID=Europe/Madrid:20200112T113000
DTEND;TZID=Europe/Madrid:20200112T150000
DTSTAMP:20260420T215614
CREATED:20191022T140028Z
LAST-MODIFIED:20191022T140028Z
UID:23808-1578828600-1578841200@www.valdeolmos-alalpardo.org
SUMMARY:VIII Trail del SERRUCHO y I SERRUCHÍN
DESCRIPTION:8 AÑOS CORRIENDO EL TRAIL DEL SERRUCHO QUE ESTE AÑO TRAE NOVEDADES. SE CELEBRA POR PRIMERA VEZ EL SERRUCHÍN\nYa puedes inscribirte al Trail del SERRUCHO que transcurre cada año por subidas y bajadas en los caminos de la Villa de Alalpardo. \nEl 12 de enero a las 10:30 horas se correrá la octava edición del Trail del SERRUCHO\, El primer Trail del año de la Comunidad de Madrid.  \nAdemás este año\, viene cargado de NOVEDADES porque por PRIMERA VEZ se correrá también EL SERRUCHÍN\, versión corta del Trail del Club Alalpardo Running Team ART. \nSerá una carrera NO COMPETITIVA de iniciación y aprendizaje al Trail Running para los más pequeños. Habrá 3 circuitos con distintas distancias en función de las edades. \n \n  \n  \n 
URL:https://www.valdeolmos-alalpardo.org/evento/viii-trail-del-serrucho-i-del-serruchin-2/
LOCATION:Plaza de Toros de Alalpardo
ATTACH;FMTTYPE=image/jpeg:https://www.valdeolmos-alalpardo.org/wp-content/uploads/IMG_20191022_170340_090.jpg
END:VEVENT
BEGIN:VEVENT
DTSTART;TZID=Europe/Madrid:20200112T173000
DTEND;TZID=Europe/Madrid:20200112T210000
DTSTAMP:20260420T215614
CREATED:20200106T232213Z
LAST-MODIFIED:20200106T232213Z
UID:21194-1578850200-1578862800@www.valdeolmos-alalpardo.org
SUMMARY:Décima quedada para TEJER
DESCRIPTION:EN LAS QUEDADAS DE TEJEDORAS SE COMPARTE LA AFICION DE TEJER \nNo es la primera\, ni la segunda vez que las tejedoras de Valdeolmos-Alalpardo se unen.  \nLas tejedoras ya se han juntado en nueve ocasiones anteriores. La décima vez será el próximo 12 de enero. Lo harán para hacer lo que les gusta: TEJER. \nAsi que\, si a tí también te gusta\, no te lo pienses y ven a la próxima quedada tejeril. TEJER EN COMPAÑIA\, SIEMPRE ES MEJOR. \nSe trata de quedar una tarde para hacer punto o crochet. No olvides traer tus agujas\, tus lanas y el proyecto que tengas empezado: una colcha\, un jersey\, un chal… \nY si eres nueva en esto y quieres probar\, también te echaremos una mano. \nNOS VEMOS EL 12 DE ENERO A LAS 16:30 EN LA CASA DE LA CULTURA DE ALALPARDO.
URL:https://www.valdeolmos-alalpardo.org/evento/decima-quedada-para-tejer/
LOCATION:Casa de Cultura de Alalpardo\, C/ Ejidos\, 8\, Alalpardo\, Madrid\, 28130\, España
ATTACH;FMTTYPE=image/jpeg:https://www.valdeolmos-alalpardo.org/wp-content/uploads/IMG-20191228-WA0025.jpg
END:VEVENT
BEGIN:VEVENT
DTSTART;TZID=Europe/Madrid:20200112T173000
DTEND;TZID=Europe/Madrid:20200112T210000
DTSTAMP:20260420T215615
CREATED:20200106T232213Z
LAST-MODIFIED:20200106T232213Z
UID:23830-1578850200-1578862800@www.valdeolmos-alalpardo.org
SUMMARY:Décima quedada para TEJER
DESCRIPTION:EN LAS QUEDADAS DE TEJEDORAS SE COMPARTE LA AFICION DE TEJER \nNo es la primera\, ni la segunda vez que las tejedoras de Valdeolmos-Alalpardo se unen.  \nLas tejedoras ya se han juntado en nueve ocasiones anteriores. La décima vez será el próximo 12 de enero. Lo harán para hacer lo que les gusta: TEJER. \nAsi que\, si a tí también te gusta\, no te lo pienses y ven a la próxima quedada tejeril. TEJER EN COMPAÑIA\, SIEMPRE ES MEJOR. \nSe trata de quedar una tarde para hacer punto o crochet. No olvides traer tus agujas\, tus lanas y el proyecto que tengas empezado: una colcha\, un jersey\, un chal… \nY si eres nueva en esto y quieres probar\, también te echaremos una mano. \nNOS VEMOS EL 12 DE ENERO A LAS 16:30 EN LA CASA DE LA CULTURA DE ALALPARDO.
URL:https://www.valdeolmos-alalpardo.org/evento/decima-quedada-para-tejer-2/
LOCATION:Casa de Cultura de Alalpardo\, C/ Ejidos\, 8\, Alalpardo\, Madrid\, 28130\, España
ATTACH;FMTTYPE=image/jpeg:https://www.valdeolmos-alalpardo.org/wp-content/uploads/IMG-20191228-WA0025.jpg
END:VEVENT
END:VCALENDAR