BEGIN:VCALENDAR
VERSION:2.0
PRODID:-//Ayuntamiento de Valdeolmos-Alalpardo - ECPv6.15.12.2//NONSGML v1.0//EN
CALSCALE:GREGORIAN
METHOD:PUBLISH
X-WR-CALNAME:Ayuntamiento de Valdeolmos-Alalpardo
X-ORIGINAL-URL:https://www.valdeolmos-alalpardo.org
X-WR-CALDESC:Eventos para Ayuntamiento de Valdeolmos-Alalpardo
REFRESH-INTERVAL;VALUE=DURATION:PT1H
X-Robots-Tag:noindex
X-PUBLISHED-TTL:PT1H
BEGIN:VTIMEZONE
TZID:Europe/Madrid
BEGIN:DAYLIGHT
TZOFFSETFROM:+0100
TZOFFSETTO:+0200
TZNAME:CEST
DTSTART:20180325T010000
END:DAYLIGHT
BEGIN:STANDARD
TZOFFSETFROM:+0200
TZOFFSETTO:+0100
TZNAME:CET
DTSTART:20181028T010000
END:STANDARD
BEGIN:DAYLIGHT
TZOFFSETFROM:+0100
TZOFFSETTO:+0200
TZNAME:CEST
DTSTART:20190331T010000
END:DAYLIGHT
BEGIN:STANDARD
TZOFFSETFROM:+0200
TZOFFSETTO:+0100
TZNAME:CET
DTSTART:20191027T010000
END:STANDARD
BEGIN:DAYLIGHT
TZOFFSETFROM:+0100
TZOFFSETTO:+0200
TZNAME:CEST
DTSTART:20200329T010000
END:DAYLIGHT
BEGIN:STANDARD
TZOFFSETFROM:+0200
TZOFFSETTO:+0100
TZNAME:CET
DTSTART:20201025T010000
END:STANDARD
END:VTIMEZONE
BEGIN:VEVENT
DTSTART;TZID=Europe/Madrid:20191114T161500
DTEND;TZID=Europe/Madrid:20191115T180000
DTSTAMP:20260419T135916
CREATED:20191114T114228Z
LAST-MODIFIED:20191127T085714Z
UID:20712-1573748100-1573840800@www.valdeolmos-alalpardo.org
SUMMARY:El BIBLIOBÚS convertido en BIBLIOTECA nos visita 2 veces en noviembre
DESCRIPTION:EL BIBLIOBÚS NOS PRESTA LIBROS\, MÚSICA Y PELÍCULAS. \nEl Bibliobús es una Biblioteca móvil de préstamos de libros\, material audiovisual y multimedia para todas las edades. \nTransporta una colección de préstamo de 3.500 unidades y nos visita cada mes dos o tres veces. En el mes de noviembre lo hará el 14 y el 28. Siempre en la calle de los Colegios.  \n¡Acércate! ¡Déjate aconsejar por el/la bibliotecario/a. \nSube a uno de los 13 bibliobuses que recorren 118 municipios de la Comunidad de Madrid.  \nTe sorprenderá. 
URL:https://www.valdeolmos-alalpardo.org/evento/bibliobus-convertido-biblioteca-nos-visita-2-veces-noviembre/
LOCATION:Bibliobus\, Calle Alcalá\, 25\, Alalpardo\, Madrid\, 28130\, España
ATTACH;FMTTYPE=image/jpeg:https://www.valdeolmos-alalpardo.org/wp-content/uploads/InstraFitter_20191113_164632.jpg
END:VEVENT
BEGIN:VEVENT
DTSTART;TZID=Europe/Madrid:20191114T161500
DTEND;TZID=Europe/Madrid:20191115T180000
DTSTAMP:20260419T135916
CREATED:20191114T114228Z
LAST-MODIFIED:20191114T114228Z
UID:23815-1573748100-1573840800@www.valdeolmos-alalpardo.org
SUMMARY:El BIBLIOBÚS convertido en BIBLIOTECA nos visita 2 veces en noviembre
DESCRIPTION:EL BIBLIOBÚS NOS PRESTA LIBROS\, MÚSICA Y PELÍCULAS. \nEl Bibliobús es una Biblioteca móvil de préstamos de libros\, material audiovisual y multimedia para todas las edades. \nTransporta una colección de préstamo de 3.500 unidades y nos visita cada mes dos o tres veces. En el mes de noviembre lo hará el 14 y el 28. Siempre en la calle de los Colegios.  \n¡Acércate! ¡Déjate aconsejar por el/la bibliotecario/a. \nSube a uno de los 13 bibliobuses que recorren 118 municipios de la Comunidad de Madrid.  \nTe sorprenderá. 
URL:https://www.valdeolmos-alalpardo.org/evento/bibliobus-convertido-biblioteca-nos-visita-2-veces-noviembre-2/
LOCATION:Bibliobus\, Calle Alcalá\, 25\, Alalpardo\, Madrid\, 28130\, España
ATTACH;FMTTYPE=image/jpeg:https://www.valdeolmos-alalpardo.org/wp-content/uploads/InstraFitter_20191113_164632.jpg
END:VEVENT
END:VCALENDAR