BEGIN:VCALENDAR
VERSION:2.0
PRODID:-//Ayuntamiento de Valdeolmos-Alalpardo - ECPv6.15.12.2//NONSGML v1.0//EN
CALSCALE:GREGORIAN
METHOD:PUBLISH
X-WR-CALNAME:Ayuntamiento de Valdeolmos-Alalpardo
X-ORIGINAL-URL:https://www.valdeolmos-alalpardo.org
X-WR-CALDESC:Eventos para Ayuntamiento de Valdeolmos-Alalpardo
REFRESH-INTERVAL;VALUE=DURATION:PT1H
X-Robots-Tag:noindex
X-PUBLISHED-TTL:PT1H
BEGIN:VTIMEZONE
TZID:Europe/Madrid
BEGIN:DAYLIGHT
TZOFFSETFROM:+0100
TZOFFSETTO:+0200
TZNAME:CEST
DTSTART:20180325T010000
END:DAYLIGHT
BEGIN:STANDARD
TZOFFSETFROM:+0200
TZOFFSETTO:+0100
TZNAME:CET
DTSTART:20181028T010000
END:STANDARD
BEGIN:DAYLIGHT
TZOFFSETFROM:+0100
TZOFFSETTO:+0200
TZNAME:CEST
DTSTART:20190331T010000
END:DAYLIGHT
BEGIN:STANDARD
TZOFFSETFROM:+0200
TZOFFSETTO:+0100
TZNAME:CET
DTSTART:20191027T010000
END:STANDARD
BEGIN:DAYLIGHT
TZOFFSETFROM:+0100
TZOFFSETTO:+0200
TZNAME:CEST
DTSTART:20200329T010000
END:DAYLIGHT
BEGIN:STANDARD
TZOFFSETFROM:+0200
TZOFFSETTO:+0100
TZNAME:CET
DTSTART:20201025T010000
END:STANDARD
END:VTIMEZONE
BEGIN:VEVENT
DTSTART;TZID=Europe/Madrid:20191003T100000
DTEND;TZID=Europe/Madrid:20191031T181500
DTSTAMP:20260420T044034
CREATED:20191008T191822Z
LAST-MODIFIED:20191008T191946Z
UID:20385-1570096800-1572545700@www.valdeolmos-alalpardo.org
SUMMARY:El AUTOBÚS convertido en BIBLIOTECA nos visita 3 veces en octubre
DESCRIPTION:EL BIBLIOBÚS NOS PRESTA LIBROS\, MÚSICA Y PELÍCULAS\nEl Bibliobús es una Biblioteca móvil de préstamos de libros\, videos\, CD y DVD. Nos visita cada mes un par de veces pero en el mes de octubre lo hará en tres ocasiones\, el 3\, 17 y 31. \nAcércate a la calle Alcalá 25\, la calle de los colegios. Allí encontraras el Bibliobus de 15:15 a 17:00 horas.  \nHay 13 bibliobuses en la Comunidad de Madrid que recorren 118 municipios acercando la cultura. 
URL:https://www.valdeolmos-alalpardo.org/evento/autobus-convertido-biblioteca-nos-visita-3-vev/
LOCATION:Bibliobus\, Calle Alcalá\, 25\, Alalpardo\, Madrid\, 28130\, España
ATTACH;FMTTYPE=image/jpeg:https://www.valdeolmos-alalpardo.org/wp-content/uploads/BIBLIOBÚS_OCTUBRE_WP.jpg
END:VEVENT
BEGIN:VEVENT
DTSTART;TZID=Europe/Madrid:20191003T100000
DTEND;TZID=Europe/Madrid:20191031T181500
DTSTAMP:20260420T044034
CREATED:20191008T191822Z
LAST-MODIFIED:20191008T191822Z
UID:23801-1570096800-1572545700@www.valdeolmos-alalpardo.org
SUMMARY:El AUTOBÚS convertido en BIBLIOTECA nos visita 3 veces en octubre
DESCRIPTION:EL BIBLIOBÚS NOS PRESTA LIBROS\, MÚSICA Y PELÍCULAS\nEl Bibliobús es una Biblioteca móvil de préstamos de libros\, videos\, CD y DVD. Nos visita cada mes un par de veces pero en el mes de octubre lo hará en tres ocasiones\, el 3\, 17 y 31. \nAcércate a la calle Alcalá 25\, la calle de los colegios. Allí encontraras el Bibliobus de 15:15 a 17:00 horas.  \nHay 13 bibliobuses en la Comunidad de Madrid que recorren 118 municipios acercando la cultura. 
URL:https://www.valdeolmos-alalpardo.org/evento/autobus-convertido-biblioteca-nos-visita-3-vev-2/
LOCATION:Bibliobus\, Calle Alcalá\, 25\, Alalpardo\, Madrid\, 28130\, España
END:VEVENT
BEGIN:VEVENT
DTSTART;TZID=Europe/Madrid:20191018T100000
DTEND;TZID=Europe/Madrid:20191026T140000
DTSTAMP:20260420T044034
CREATED:20191001T060009Z
LAST-MODIFIED:20190924T114004Z
UID:20249-1571392800-1572098400@www.valdeolmos-alalpardo.org
SUMMARY:Agenda Cultural OCTUBRE
DESCRIPTION:DESCUBRE CUÁL ES LA AGENDA CULTURAL DE OCTUBRE 2019\nDel 18 al 26 de octubre tendremos la III Nuestra de Jazz con dos conciertos\, dos talleres de Halloween y una Exposición sobre la fuerza y capacidad de la lengua española titulada ‘Los Nuestros. Un puente de palabras’.  \nTe esperamos. 
URL:https://www.valdeolmos-alalpardo.org/evento/agenda-cultural-octubre-2/
LOCATION:Sala Al Artis\, Calle Egidos\, 8\, Valdeolmos-Alalpardo\, Madrid\, 28130\, España
ATTACH;FMTTYPE=image/jpeg:https://www.valdeolmos-alalpardo.org/wp-content/uploads/4_Agenda-Cultural_OCTUBRE-2019_page-0001.jpg
END:VEVENT
BEGIN:VEVENT
DTSTART;TZID=Europe/Madrid:20191018T100000
DTEND;TZID=Europe/Madrid:20191026T140000
DTSTAMP:20260420T044034
CREATED:20191001T060009Z
LAST-MODIFIED:20191001T060009Z
UID:23796-1571392800-1572098400@www.valdeolmos-alalpardo.org
SUMMARY:Agenda Cultural OCTUBRE
DESCRIPTION:DESCUBRE CUÁL ES LA AGENDA CULTURAL DE OCTUBRE 2019\nDel 18 al 26 de octubre tendremos la III Nuestra de Jazz con dos conciertos\, dos talleres de Halloween y una Exposición sobre la fuerza y capacidad de la lengua española titulada ‘Los Nuestros. Un puente de palabras’.  \nTe esperamos. 
URL:https://www.valdeolmos-alalpardo.org/evento/agenda-cultural-octubre-2-2/
LOCATION:Sala Al Artis\, Calle Egidos\, 8\, Valdeolmos-Alalpardo\, Madrid\, 28130\, España
ATTACH;FMTTYPE=image/jpeg:https://www.valdeolmos-alalpardo.org/wp-content/uploads/4_Agenda-Cultural_OCTUBRE-2019_page-0001.jpg
END:VEVENT
BEGIN:VEVENT
DTSTART;TZID=Europe/Madrid:20191019T000000
DTEND;TZID=Europe/Madrid:20191026T000000
DTSTAMP:20260420T044034
CREATED:20191004T060055Z
LAST-MODIFIED:20250202T192654Z
UID:20144-1571443200-1572048000@www.valdeolmos-alalpardo.org
SUMMARY:3ª Muestra Internacional de JAZZ
DESCRIPTION:NO TE PIERDAS LA 3ª MUESTRA INTERNACIONAL DE JAZZ\n\nTienes una cita el 18 y 25 de octubre en la Casa de la Cultura de Alalpardo. \n\nVenta anticipada en la Casa de la Cultura o en el Ayuntamiento a partir del 4 de octubre. Aforo ilimitado.\n\nSeguro que no te pierdes las actuaciones de María Toro Ararás y a Sunday Morning Quartet.
URL:https://www.valdeolmos-alalpardo.org/evento/3a-muestra-internacional-jazz/
LOCATION:Casa de Cultura de Alalpardo\, C/ Ejidos\, 8\, Alalpardo\, Madrid\, 28130\, España
ATTACH;FMTTYPE=image/jpeg:https://www.valdeolmos-alalpardo.org/wp-content/uploads/Cartel-Jazz_def_page-0001.jpg
END:VEVENT
BEGIN:VEVENT
DTSTART;TZID=Europe/Madrid:20191019T000000
DTEND;TZID=Europe/Madrid:20191026T000000
DTSTAMP:20260420T044034
CREATED:20191004T060055Z
LAST-MODIFIED:20191004T060055Z
UID:23793-1571443200-1572048000@www.valdeolmos-alalpardo.org
SUMMARY:3ª Muestra Internacional de JAZZ
DESCRIPTION:NO TE PIERDAS LA 3ª MUESTRA INTERNACIONAL DE JAZZ\n\nTienes una cita el 18 y 25 de octubre en la Casa de la Cultura de Alalpardo.  \nVenta anticipada en la Casa de la Cultura o en el Ayuntamiento a partir del 4 de octubre. Aforo ilimitado. \nSeguro que no te pierdes las actuaciones de María Toro Ararás y a Sunday Morning Quartet.
URL:https://www.valdeolmos-alalpardo.org/evento/3a-muestra-internacional-jazz-2/
LOCATION:Casa de Cultura de Alalpardo\, C/ Ejidos\, 8\, Alalpardo\, Madrid\, 28130\, España
ATTACH;FMTTYPE=image/jpeg:https://www.valdeolmos-alalpardo.org/wp-content/uploads/Cartel-Jazz_def_page-0001.jpg
END:VEVENT
BEGIN:VEVENT
DTSTART;TZID=Europe/Madrid:20191019T130000
DTEND;TZID=Europe/Madrid:20191026T130000
DTSTAMP:20260420T044034
CREATED:20191007T060047Z
LAST-MODIFIED:20190924T091813Z
UID:20151-1571490000-1572094800@www.valdeolmos-alalpardo.org
SUMMARY:Taller de HALLOWEEN para niñ@s en VALDEOLMOS Y ALALPARDO
DESCRIPTION:SE ACERCA LA NOCHE MÁS TERRORIFICA DEL AÑO Y HEMOS PREPARADO UN TALLER DE HALLOWEEN PARA NIÑ@S\nEl taller que más miedo da del año tendrá lugar en Alalpardo y en Valdeolmos. En la Casa de la Cultura de Alalpardo el sábado 19 de octubre y en el Edificio Administrativo de Valdeolmos el sábado 26 de octubre. \n20 alumnos por taller\, para mayores de 6 años. Los menores tendrán que ir acompañados de un adulto. \nEs necesario inscribirse llamando por teléfono al Ayuntamiento.
URL:https://www.valdeolmos-alalpardo.org/evento/taller-halloween-ninos-valdeolmos-alalpardo/
LOCATION:Aula Casa de la Cultura de Alalpardo\, Calle Egidos\, 8\, Alalpardo\, Madrid\, 28130\, España
ATTACH;FMTTYPE=image/jpeg:https://www.valdeolmos-alalpardo.org/wp-content/uploads/CARTEL-TALLER-HALLOWEEN_page-0001.jpg
END:VEVENT
BEGIN:VEVENT
DTSTART;TZID=Europe/Madrid:20191019T130000
DTEND;TZID=Europe/Madrid:20191026T130000
DTSTAMP:20260420T044034
CREATED:20191007T060047Z
LAST-MODIFIED:20191007T060047Z
UID:23794-1571490000-1572094800@www.valdeolmos-alalpardo.org
SUMMARY:Taller de HALLOWEEN para niñ@s en VALDEOLMOS Y ALALPARDO
DESCRIPTION:SE ACERCA LA NOCHE MÁS TERRORIFICA DEL AÑO Y HEMOS PREPARADO UN TALLER DE HALLOWEEN PARA NIÑ@S\nEl taller que más miedo da del año tendrá lugar en Alalpardo y en Valdeolmos. En la Casa de la Cultura de Alalpardo el sábado 19 de octubre y en el Edificio Administrativo de Valdeolmos el sábado 26 de octubre. \n20 alumnos por taller\, para mayores de 6 años. Los menores tendrán que ir acompañados de un adulto. \nEs necesario inscribirse llamando por teléfono al Ayuntamiento.
URL:https://www.valdeolmos-alalpardo.org/evento/taller-halloween-ninos-valdeolmos-alalpardo-2/
LOCATION:Aula Casa de la Cultura de Alalpardo\, Calle Egidos\, 8\, Alalpardo\, Madrid\, 28130\, España
ATTACH;FMTTYPE=image/jpeg:https://www.valdeolmos-alalpardo.org/wp-content/uploads/CARTEL-TALLER-HALLOWEEN_page-0001.jpg
END:VEVENT
BEGIN:VEVENT
DTSTART;TZID=Europe/Madrid:20191025T100000
DTEND;TZID=Europe/Madrid:20191111T003000
DTSTAMP:20260420T044034
CREATED:20191018T060031Z
LAST-MODIFIED:20191023T075833Z
UID:20156-1571997600-1573432200@www.valdeolmos-alalpardo.org
SUMMARY:GRAN EXPOSICIÓN: 'Los nuestros. Un puente de palabras'
DESCRIPTION:GRAN EXPOSICIÓN CON FOTOS\, DEDICATORIAS\, CARTELES\, DIBUJOS\, TARJETAS Y OBJETOS PERSONALES DE ALBERTI\, LORCA\, BORGES\, RUBÉN DARÍO\, NERUDA\, CORTÁZAR\, ETC. \n\n\n\n\n\n«Los Nuestros. Un puente de palabras» es una exposición sobre la fuerza y capacidad de la lengua española para generar puentes e interacciones entre el mundo literario y editorial de los diferentes países que la hablan. \nEsta exposición pretende reflejar trazos que muestren este trasiego realizado en diferentes sentidos\, a través de los rastros y huellas que han dejado los escritores\, editores e ilustradores a través de su vida y su trabajo. \nNombres fundamentales de nuestra literatura están presentes en esta exposición a través de sus libros\, correspondencia\, fotos\, discos\, dedicatorias\, carteles\, grabaciones\, dibujos\, tarjetas y objetos personales: Rubén Darío\, Juan Ramón Jiménez\, Pablo Neruda\, Luis Cernuda\, Jorge Luis Borges\, María Zambrano\, Gabriel García Márquez\, Rafael Alberti\, Julio Cortázar y Federico García Lorca\, entre otros. \nEsta gran exposición podrá visitarse del 25 de octubre al 10 de noviembre. El 26 de octubre será la inaguración en la Sala Al Artis de la Casa de la Cultura de Alalpardo. Habrá una visita guiada con un Voluntario Cultural para recorrer y entender la interesante Exposición. 
URL:https://www.valdeolmos-alalpardo.org/evento/exposicion-los-puente-palabras/
LOCATION:Sala Al Artis\, Calle Egidos\, 8\, Valdeolmos-Alalpardo\, Madrid\, 28130\, España
ATTACH;FMTTYPE=image/jpeg:https://www.valdeolmos-alalpardo.org/wp-content/uploads/Reducido-04_carteles_A3_autoeditables_RedItiner_2019-4_page-0001.jpg
END:VEVENT
BEGIN:VEVENT
DTSTART;TZID=Europe/Madrid:20191025T100000
DTEND;TZID=Europe/Madrid:20191111T003000
DTSTAMP:20260420T044034
CREATED:20191018T060031Z
LAST-MODIFIED:20191018T060031Z
UID:23798-1571997600-1573432200@www.valdeolmos-alalpardo.org
SUMMARY:GRAN EXPOSICIÓN: 'Los nuestros. Un puente de palabras'
DESCRIPTION:GRAN EXPOSICIÓN CON FOTOS\, DEDICATORIAS\, CARTELES\, DIBUJOS\, TARJETAS Y OBJETOS PERSONALES DE ALBERTI\, LORCA\, BORGES\, RUBÉN DARÍO\, NERUDA\, CORTÁZAR\, ETC. \n\n\n\n\n\n«Los Nuestros. Un puente de palabras» es una exposición sobre la fuerza y capacidad de la lengua española para generar puentes e interacciones entre el mundo literario y editorial de los diferentes países que la hablan. \nEsta exposición pretende reflejar trazos que muestren este trasiego realizado en diferentes sentidos\, a través de los rastros y huellas que han dejado los escritores\, editores e ilustradores a través de su vida y su trabajo. \nNombres fundamentales de nuestra literatura están presentes en esta exposición a través de sus libros\, correspondencia\, fotos\, discos\, dedicatorias\, carteles\, grabaciones\, dibujos\, tarjetas y objetos personales: Rubén Darío\, Juan Ramón Jiménez\, Pablo Neruda\, Luis Cernuda\, Jorge Luis Borges\, María Zambrano\, Gabriel García Márquez\, Rafael Alberti\, Julio Cortázar y Federico García Lorca\, entre otros. \nEsta gran exposición podrá visitarse del 25 de octubre al 10 de noviembre. El 26 de octubre será la inaguración en la Sala Al Artis de la Casa de la Cultura de Alalpardo. Habrá una visita guiada con un Voluntario Cultural para recorrer y entender la interesante Exposición. 
URL:https://www.valdeolmos-alalpardo.org/evento/exposicion-los-puente-palabras-2/
LOCATION:Sala Al Artis\, Calle Egidos\, 8\, Valdeolmos-Alalpardo\, Madrid\, 28130\, España
ATTACH;FMTTYPE=image/jpeg:https://www.valdeolmos-alalpardo.org/wp-content/uploads/Reducido-04_carteles_A3_autoeditables_RedItiner_2019-4_page-0001.jpg
END:VEVENT
BEGIN:VEVENT
DTSTART;TZID=Europe/Madrid:20191025T171500
DTEND;TZID=Europe/Madrid:20191025T190000
DTSTAMP:20260420T044034
CREATED:20191021T150327Z
LAST-MODIFIED:20191021T151431Z
UID:20516-1572023700-1572030000@www.valdeolmos-alalpardo.org
SUMMARY:El Ramón Linacero correrá la VUELTA AL COLE CONTRA LA LEUCEMIA INFANTIL
DESCRIPTION:LOS ALUMNOS PODRÁN COLABORAR CON 3€ PARA LA INVESTIGACIÓN DE LA LEUCEMIA INFANTIL\nEl próximo 25 de octubre los alumnos del C.E.I.P. Ramón Linacero correrán la VUELTA AL COLE contra la Leucemia Infantil sobre las 15:15 horas. \nLa salida se realizará desde la glorieta más cercana al colegio hacia el camino de subida a la Urbanización Miraval. \nLa carrera se organiza para recaudar fondos a favor de la investigación contra dicha enfermedad\, donde los alumnos del colegio que lo deseen podrán aportar su granito de arena colaborando con 3€.
URL:https://www.valdeolmos-alalpardo.org/evento/20516/
LOCATION:Colegio Ramón Linacero\, C/ Alcalá 27\, Alalpardo\, Madrid\, 28130\, España
ATTACH;FMTTYPE=image/jpeg:https://www.valdeolmos-alalpardo.org/wp-content/uploads/IMG_20191021_180728_889.jpg
END:VEVENT
BEGIN:VEVENT
DTSTART;TZID=Europe/Madrid:20191025T171500
DTEND;TZID=Europe/Madrid:20191025T190000
DTSTAMP:20260420T044034
CREATED:20191021T150327Z
LAST-MODIFIED:20191021T150327Z
UID:23807-1572023700-1572030000@www.valdeolmos-alalpardo.org
SUMMARY:El Ramón Linacero correrá la VUELTA AL COLE CONTRA LA LEUCEMIA INFANTIL
DESCRIPTION:LOS ALUMNOS PODRÁN COLABORAR CON 3€ PARA LA INVESTIGACIÓN DE LA LEUCEMIA INFANTIL\nEl próximo 25 de octubre los alumnos del C.E.I.P. Ramón Linacero correrán la VUELTA AL COLE contra la Leucemia Infantil sobre las 15:15 horas. \nLa salida se realizará desde la glorieta más cercana al colegio hacia el camino de subida a la Urbanización Miraval. \nLa carrera se organiza para recaudar fondos a favor de la investigación contra dicha enfermedad\, donde los alumnos del colegio que lo deseen podrán aportar su granito de arena colaborando con 3€.
URL:https://www.valdeolmos-alalpardo.org/evento/20516-2/
LOCATION:Colegio Ramón Linacero\, C/ Alcalá 27\, Alalpardo\, Madrid\, 28130\, España
ATTACH;FMTTYPE=image/jpeg:https://www.valdeolmos-alalpardo.org/wp-content/uploads/IMG_20191021_180728_889.jpg
END:VEVENT
END:VCALENDAR